{"text_format":"1","workbook":"xlsx","n_sheets":3,"sheets":["summary","summary (auto)","experimental data"],"not_rendered":{"charts":0,"images":0,"macros":1,"external_links":0,"defined_names":0,"comments":0,"pivot_tables":0},"unopened":[],"bounds":{"document_bytes":16777216,"sheet_cells":100000,"rows_first":2000,"rows_last":500,"rows_between":2000,"halvings":0,"cell_chars":16384,"cell_head_chars":4096},"cells_cut":0,"cells_raw":0,"read":"whole","date_system":"1900"}

{"sheet":"summary","index":0,"n_rows":48,"n_cols":11,"rows_kept":48,"cut":false,"hidden":false,"merged":[]}
["base software"]
["HTM60\n(proposal)",null,"video 0","video 1","video 2","video PSNR / video bitrate","video PSNR / total bitrate","synth PSNR / total bitrate ","enc time","dec time","ren time"]
[null,"Balloons",0,1.2110100059326001E-3,3.1921681414339709E-3,9.8842055271108897E-4,7.5710993979605234E-4,2.2503641990745393E-4,0.99289517672326311,0.99753749299502226,0.9892352105925929]
[null,"Kendo",0,8.0477936667844308E-3,8.6555951786040364E-3,3.390042435659657E-3,3.03079529245176E-3,3.5767639894677128E-3,0.97211927270360643,1.0071483907875589,0.99889255441111735]
[null,"Newspapercc",0,7.435815052352357E-4,3.3980814949432503E-3,9.7022406059887878E-4,1.0243473212523391E-3,3.3940911638752347E-4,0.98049763415524327,1.0052545153684418,1.0021454388586524]
[null,"GhostTownFly",0,-1.785823791744523E-5,2.6155960332507888E-5,4.3722841938098611E-6,7.6760157261546169E-6,2.5618359412948877E-5,0.98942403755081909,0.9812687281160567,0.97366648691844448]
[null,"PoznanHall2",0,-2.459831156492065E-3,2.1362823860413549E-3,6.8721527013426709E-5,-1.2322785068119568E-4,3.5543440902530143E-4,0.98430232292833741,0.9753183247711994,0.98611024446345563]
[null,"PoznanStreet",0,4.041832857319072E-3,-2.5016384488785182E-4,6.7425909004326101E-4,5.1330777267533101E-4,5.1308943713324062E-4,0.98847553613133143,0.97147058856681978,0.97380042599247374]
[null,"UndoDancer",0,9.4357838170933128E-4,1.0370130877612738E-3,2.4790452686884734E-4,2.318412818893556E-4,3.1453853789398245E-4,0.98020765247627162,0.9660448085456349,0.97500778937324672]
[null,"1024x768",0,3.3341283926507557E-3,5.0819482716604192E-3,1.782895682989875E-3,1.6040841845000504E-3,1.3804031752542301E-3,0.98180031731827844,1.0033048412398964,0.99674262761365284]
[null,"1920x1088",0,6.2693046115472328E-4,7.3732189731182118E-4,2.4881435702983623E-4,1.5739930490241139E-4,3.0217018586636835E-4,0.98559557575052403,0.97350977720303311,0.97713244629983054]
[null,"average",0,1.7871581460815941E-3,2.5993046291755062E-3,9.062777824412814E-4,7.7740711044425675E-4,7.6427003846116627E-4,0.98396724327327711,0.98616918449751212,0.9854891189871392]
[]
["HTM61",null,"video 0","video 1","video 2","video PSNR / video bitrate","video PSNR / total bitrate","synth PSNR / total bitrate ","enc time","dec time","ren time"]
[null,"Balloons",0,3.4190618827620867E-3,4.7401120718708611E-3,1.7187607643911473E-3,1.5076804590812287E-3,1.4647702289529718E-3,0.98620189405321745,{"$error":"#NUM!"},1.0021771115927189]
[null,"Kendo",0,8.5742906790595708E-3,8.729030897342005E-3,3.5145527169364588E-3,3.2578533799325626E-3,2.9290557706755926E-3,0.97351128092235428,{"$error":"#NUM!"},1.0034130384469029]
[null,"Newspaper_CC",0,8.3144514689381666E-4,2.5048927638360308E-3,8.5073296494142525E-4,6.3362041550774073E-4,4.9990215679196481E-4,0.98841534596027092,{"$error":"#NUM!"},1.0051516446684312]
[null,"GT_Fly",0,2.1843002294019698E-5,1.4633169796995915E-4,4.2434867852936264E-6,-1.0279533428914078E-5,-4.5880524672914369E-5,0.99983006732752366,0.99776866752554594,0.99815989491733581]
[null,"Poznan_Hall2",0,6.1193189082715538E-3,2.2925619710216782E-3,1.6931798353632121E-3,1.4443062654110328E-3,1.5235513722355876E-3,0.99319679412957418,{"$error":"#NUM!"},0.9971532423658469]
[null,"Poznan_Street",0,2.6357061787218861E-4,3.5861942332662267E-3,6.0381501580764052E-4,5.2791521503792183E-4,6.0415388021017868E-4,0.99152453055125434,{"$error":"#NUM!"},0.99394326831768653]
[null,"Undo_Dancer",0,5.0314334808332362E-4,1.0940198711300031E-3,1.7243504974095991E-4,1.5116985779894954E-4,5.4110671734020066E-4,0.99684267293649031,{"$error":"#NUM!"},0.99946540024412556]
[null,"1024x768",0,4.274932569571825E-3,5.3246785776829659E-3,2.028015482089677E-3,1.7997180848405108E-3,1.631242718806843E-3,0.98270950697861414,{"$error":"#NUM!"},1.0035805982360178]
[null,"1920x1088",0,1.7269689691302714E-3,1.7797769433469668E-3,6.1841834692427655E-4,5.2827795120474752E-4,6.5573286127826313E-4,0.99534851623621057,{"$error":"#NUM!"},0.99718045146124878]
[null,"average",0,2.8189533693195085E-3,3.2990205009195378E-3,1.2225314048523053E-3,1.0731808656200745E-3,1.0738085145047974E-3,0.98993179798295505,{"$error":"#NUM!"},0.99992337150757815]
[]
["HTM62",null,"video 0","video 1","video 2","video PSNR / video bitrate","video PSNR / total bitrate","synth PSNR / total bitrate ","enc time","dec time","ren time"]
[null,"Balloons",0,3.4190618827620867E-3,4.7401120718708611E-3,1.7187607643911473E-3,2.5028515120304462E-3,3.075948156558761E-3,0.97878240624335822,0.99023107152456002,1.0013193953514143]
[null,"Kendo",0,8.5742906790595708E-3,8.729030897342005E-3,3.5145527169364588E-3,4.3735236621718077E-3,5.1707455310809891E-3,0.96697224780358704,1.0056819095679719,0.99890548312860716]
[null,"Newspaper_CC",0,8.3144514689381666E-4,2.5048927638360308E-3,8.5073296494142525E-4,2.3628990236879144E-3,3.3179781073071624E-3,0.98706283446977061,0.9963688196458893,0.99255605962066917]
[null,"GT_Fly",0,2.1843002294019698E-5,1.4633169796995915E-4,4.2434867852936264E-6,-1.3968129200292445E-5,1.2325459939743766E-4,0.99936157051345387,0.9963236477584545,0.9961975786799564]
[null,"Poznan_Hall2",0,6.1193189082715538E-3,2.2925619710216782E-3,1.6931798353632121E-3,1.9613682957471124E-3,2.6079812557975313E-3,0.98778454392146464,1.0083267482953073,0.99365267201140561]
[null,"Poznan_Street",0,2.6357061787218861E-4,3.5861942332662267E-3,6.0381501580764052E-4,3.8286912331719769E-4,8.8081612581247803E-4,0.99473604334198062,1.0023729172407589,1.0032529883747741]
[null,"Undo_Dancer",0,5.0314334808332362E-4,1.0940198711300031E-3,1.7243504974095991E-4,1.5116985779894954E-4,5.4110671734020066E-4,0.97616150456151496,0.99433988995208045,0.9993179060714017]
[null,"1024x768",0,4.274932569571825E-3,5.3246785776829659E-3,2.028015482089677E-3,3.0797580659633894E-3,3.8548905983156376E-3,0.97760582950557195,0.99742726691280703,0.9975936460335636]
[null,"1920x1088",0,1.7269689691302714E-3,1.7797769433469668E-3,6.1841834692427655E-4,6.2035978691574178E-4,1.0382896745869119E-3,0.98951091558460358,1.0003408008116503,0.99810528628438444]
[null,"average",0,2.8189533693195085E-3,3.2990205009195378E-3,1.2225314048523053E-3,1.6743876207933051E-3,2.2454043561849373E-3,0.98440873583644706,0.99909214342643182,0.99788601189117543]
[]
["r361",null,"video 0","video 1","video 2","video PSNR / video bitrate","video PSNR / total bitrate","synth PSNR / total bitrate ","enc time","dec time","ren time"]
[null,"Balloons",0,2.0869646965726574E-3,3.2519455963810895E-3,1.3061313684370468E-3,2.3815562507869537E-3,3.2924545915560266E-3,0.97562794653194651,1.002952961405297,0.99500420051146032]
[null,"Kendo",0,5.9317432971253137E-3,6.9183630513780514E-3,2.9396301922754997E-3,3.811905414944583E-3,3.2206441956286191E-3,0.96340807545322504,1.0012058100804879,1.0000151153629082]
[null,"Newspaper_CC",0,2.6065359610041305E-3,1.9801451816698901E-3,1.0362166302586573E-3,2.5509131576852973E-3,2.7111125876355668E-3,0.97993687190383783,0.99437209751204292,1.0007570577038276]
[null,"GT_Fly",0,2.3914125524715502E-5,-5.5026831985882652E-5,-1.0810897769442107E-5,-1.5345915099551632E-5,2.1463045463043784E-4,0.99592070962609702,1.0045376933303911,1.003052528877014]
[null,"Poznan_Hall2",0,5.6788603733188836E-3,3.4306197379778691E-3,2.2706922680677533E-3,2.4672079864067609E-3,2.3079260382707911E-3,0.98518357342935281,1.0037696862085526,1.0091700853675369]
[null,"Poznan_Street",0,2.473681371677694E-3,3.8216098736805204E-3,9.800411158493727E-4,6.4405395728939219E-4,1.226751981040497E-3,0.98907539567434322,1.0068845787659568,0.99786629131500171]
[null,"Undo_Dancer",0,-2.6782474512432319E-4,1.2003686058907892E-3,1.2040214541642058E-4,9.6492559805927414E-5,-9.2588531458226431E-4,0.99400915515565014,0.96807824195508163,0.99710224157465865]
[null,"1024x768",0,3.5417479849007005E-3,4.0501512764763437E-3,1.7606593969904012E-3,2.9147916078056113E-3,3.074737124940071E-3,0.97299096462966983,0.99951028966594269,0.99859212452606538]
[null,"1920x1088",0,1.9771577813492425E-3,2.099392846390824E-3,8.4008115789102611E-4,7.9810214710063221E-4,7.0585578983986541E-4,0.99104720847136085,0.9958175500649955,1.0017977867835528]
[null,"average",0,2.6476964400141529E-3,2.9354321735703326E-3,1.2346146889336154E-3,1.7052547731170517E-3,1.7210906477399535E-3,0.98330881825349337,0.99740015275111582,1.0004239315303438]

{"sheet":"summary (auto)","index":1,"n_rows":30,"n_cols":11,"rows_kept":30,"cut":false,"hidden":false,"merged":[]}
[]
[null,"3 view test case"]
[]
[null,null,"video 0","video 1","video 2","video PSNR / video bitrate","video PSNR / total bitrate","synth PSNR / total bitrate ","enc time","dec time","ren time"]
[null,{"$f":"'experimental data'!B3","v":"Balloons"},{"$f":"'experimental data'!U3","v":0},{"$f":"'experimental data'!U7","v":2.0869646965726574E-3},{"$f":"'experimental data'!U11","v":3.2519455963810895E-3},{"$f":"'experimental data'!U382","v":1.3061313684370468E-3},{"$f":"bdrate('experimental data'!E398:E401,'experimental data'!F382:F385,'experimental data'!M398:M401,'experimental data'!N382:N385)","v":2.3815562507869537E-3},{"$f":"'experimental data'!U390","v":3.2924545915560266E-3},{"$f":"'experimental data'!AB51","v":0.97562794653194651},{"$f":"'experimental data'!AC51","v":1.002952961405297},{"$f":"'experimental data'!AD51","v":0.99500420051146032}]
[null,{"$f":"'experimental data'!B55","v":"Kendo"},{"$f":"'experimental data'!U55","v":0},{"$f":"'experimental data'!U59","v":5.9317432971253137E-3},{"$f":"'experimental data'!U63","v":6.9183630513780514E-3},{"$f":"'experimental data'!U406","v":2.9396301922754997E-3},{"$f":"bdrate('experimental data'!E422:E425,'experimental data'!F406:F409,'experimental data'!M422:M425,'experimental data'!N406:N409)","v":3.811905414944583E-3},{"$f":"'experimental data'!U414","v":3.2206441956286191E-3},{"$f":"'experimental data'!AB103","v":0.96340807545322504},{"$f":"'experimental data'!AC103","v":1.0012058100804879},{"$f":"'experimental data'!AD103","v":1.0000151153629082}]
[null,{"$f":"'experimental data'!B107","v":"Newspaper_CC"},{"$f":"'experimental data'!U107","v":0},{"$f":"'experimental data'!U111","v":2.6065359610041305E-3},{"$f":"'experimental data'!U115","v":1.9801451816698901E-3},{"$f":"'experimental data'!U430","v":1.0362166302586573E-3},{"$f":"bdrate('experimental data'!E446:E449,'experimental data'!F430:F433,'experimental data'!M446:M449,'experimental data'!N430:N433)","v":2.5509131576852973E-3},{"$f":"'experimental data'!U438","v":2.7111125876355668E-3},{"$f":"'experimental data'!AB155","v":0.97993687190383783},{"$f":"'experimental data'!AC155","v":0.99437209751204292},{"$f":"'experimental data'!AD155","v":1.0007570577038276}]
[null,{"$f":"'experimental data'!B159","v":"GT_Fly"},{"$f":"'experimental data'!U159","v":0},{"$f":"'experimental data'!U163","v":2.3914125524715502E-5},{"$f":"'experimental data'!U167","v":-5.5026831985882652E-5},{"$f":"'experimental data'!U454","v":-1.0810897769442107E-5},{"$f":"bdrate('experimental data'!E470:E473,'experimental data'!F454:F457,'experimental data'!M470:M473,'experimental data'!N454:N457)","v":-1.5345915099551632E-5},{"$f":"'experimental data'!U462","v":2.1463045463043784E-4},{"$f":"'experimental data'!AB207","v":0.99592070962609702},{"$f":"'experimental data'!AC207","v":1.0045376933303911},{"$f":"'experimental data'!AD207","v":1.003052528877014}]
[null,{"$f":"'experimental data'!B211","v":"Poznan_Hall2"},{"$f":"'experimental data'!U211","v":0},{"$f":"'experimental data'!U215","v":5.6788603733188836E-3},{"$f":"'experimental data'!U219","v":3.4306197379778691E-3},{"$f":"'experimental data'!U478","v":2.2706922680677533E-3},{"$f":"bdrate('experimental data'!E494:E497,'experimental data'!F478:F481,'experimental data'!M494:M497,'experimental data'!N478:N481)","v":2.4672079864067609E-3},{"$f":"'experimental data'!U486","v":2.3079260382707911E-3},{"$f":"'experimental data'!AB259","v":0.98518357342935281},{"$f":"'experimental data'!AC259","v":1.0037696862085526},{"$f":"'experimental data'!AD259","v":1.0091700853675369}]
[null,{"$f":"'experimental data'!B263","v":"Poznan_Street"},{"$f":"'experimental data'!U263","v":0},{"$f":"'experimental data'!U267","v":2.473681371677694E-3},{"$f":"'experimental data'!U271","v":3.8216098736805204E-3},{"$f":"'experimental data'!U502","v":9.800411158493727E-4},{"$f":"bdrate('experimental data'!E518:E521,'experimental data'!F502:F505,'experimental data'!M518:M521,'experimental data'!N502:N505)","v":6.4405395728939219E-4},{"$f":"'experimental data'!U510","v":1.226751981040497E-3},{"$f":"'experimental data'!AB311","v":0.98907539567434322},{"$f":"'experimental data'!AC311","v":1.0068845787659568},{"$f":"'experimental data'!AD311","v":0.99786629131500171}]
[null,{"$f":"'experimental data'!B315","v":"Undo_Dancer"},{"$f":"'experimental data'!U315","v":0},{"$f":"'experimental data'!U319","v":-2.6782474512432319E-4},{"$f":"'experimental data'!U323","v":1.2003686058907892E-3},{"$f":"'experimental data'!U526","v":1.2040214541642058E-4},{"$f":"bdrate('experimental data'!E542:E545,'experimental data'!F526:F529,'experimental data'!M542:M545,'experimental data'!N526:N529)","v":9.6492559805927414E-5},{"$f":"'experimental data'!U534","v":-9.2588531458226431E-4},{"$f":"'experimental data'!AB363","v":0.99400915515565014},{"$f":"'experimental data'!AC363","v":0.96807824195508163},{"$f":"'experimental data'!AD363","v":0.99710224157465865}]
[null,"1024x768",{"$f":"AVERAGE(C5:C7)","v":0},3.5417479849007005E-3,4.0501512764763437E-3,1.7606593969904012E-3,2.9147916078056113E-3,3.074737124940071E-3,0.97299096462966983,0.99951028966594269,0.99859212452606538]
[null,"1920x1088",{"$f":"AVERAGE(C8:C11)","v":0},1.9771577813492425E-3,2.099392846390824E-3,8.4008115789102611E-4,7.9810214710063221E-4,7.0585578983986541E-4,0.99104720847136085,0.9958175500649955,1.0017977867835528]
[null,"average",{"$f":"AVERAGE(C5:C11)","v":0},2.6476964400141529E-3,2.9354321735703326E-3,1.2346146889336154E-3,1.7052547731170517E-3,1.7210906477399535E-3,0.98330881825349337,0.99740015275111582,1.0004239315303438]
[]
[]
[]
[null,"2 view test case (extracted from 3 view data)"]
[]
[null,null,"video 0","video 1","video PSNR / video bitrate","video PSNR / total bitrate","synth PSNR / total bitrate "]
[null,{"$f":"'experimental data'!B3","v":"Balloons"},{"$f":"'experimental data'!U3","v":0},{"$f":"'experimental data'!U7","v":2.0869646965726574E-3},{"$f":"'experimental data'!U378","v":7.8701484029730651E-4},{"$f":"bdrate('experimental data'!E394:E397,'experimental data'!F378:F381,'experimental data'!M394:M397,'experimental data'!N378:N381)","v":1.4075879033668137E-3},{"$f":"'experimental data'!U386","v":2.2888797631537283E-3}]
[null,{"$f":"'experimental data'!B55","v":"Kendo"},{"$f":"'experimental data'!U55","v":0},{"$f":"'experimental data'!U59","v":5.9317432971253137E-3},{"$f":"'experimental data'!U402","v":1.8355412664616821E-3},{"$f":"bdrate('experimental data'!E418:E421,'experimental data'!F402:F405,'experimental data'!M418:M421,'experimental data'!N402:N405)","v":2.5124866388521738E-3},{"$f":"'experimental data'!U410","v":2.1683287835019271E-3}]
[null,{"$f":"'experimental data'!B107","v":"Newspaper_CC"},{"$f":"'experimental data'!U107","v":0},{"$f":"'experimental data'!U111","v":2.6065359610041305E-3},{"$f":"'experimental data'!U426","v":7.6741443511529894E-4},{"$f":"bdrate('experimental data'!E442:E445,'experimental data'!F426:F429,'experimental data'!M442:M445,'experimental data'!N426:N429)","v":1.7744410514732856E-3},{"$f":"'experimental data'!U434","v":3.0841799867227238E-3}]
[null,{"$f":"'experimental data'!B159","v":"GT_Fly"},{"$f":"'experimental data'!U159","v":0},{"$f":"'experimental data'!U163","v":2.3914125524715502E-5},{"$f":"'experimental data'!U450","v":4.5219507054383712E-6},{"$f":"bdrate('experimental data'!E466:E469,'experimental data'!F450:F453,'experimental data'!M466:M469,'experimental data'!N450:N453)","v":-3.9002060110204795E-5},{"$f":"'experimental data'!U458","v":1.4319874156365486E-4}]
[null,{"$f":"'experimental data'!B211","v":"Poznan_Hall2"},{"$f":"'experimental data'!U211","v":0},{"$f":"'experimental data'!U215","v":5.6788603733188836E-3},{"$f":"'experimental data'!U474","v":1.8385068455624154E-3},{"$f":"bdrate('experimental data'!E490:E493,'experimental data'!F474:F477,'experimental data'!M490:M493,'experimental data'!N474:N477)","v":1.9316794851660379E-3},{"$f":"'experimental data'!U482","v":1.9308094160137568E-3}]
[null,{"$f":"'experimental data'!B263","v":"Poznan_Street"},{"$f":"'experimental data'!U263","v":0},{"$f":"'experimental data'!U267","v":2.473681371677694E-3},{"$f":"'experimental data'!U498","v":4.2593622003828102E-4},{"$f":"bdrate('experimental data'!E514:E517,'experimental data'!F498:F501,'experimental data'!M514:M517,'experimental data'!N498:N501)","v":2.3762388203496521E-4},{"$f":"'experimental data'!U506","v":6.9416150429191248E-4}]
[null,{"$f":"'experimental data'!B315","v":"Undo_Dancer"},{"$f":"'experimental data'!U315","v":0},{"$f":"'experimental data'!U319","v":-2.6782474512432319E-4},{"$f":"'experimental data'!U522","v":3.9514005529595053E-5},{"$f":"bdrate('experimental data'!E538:E541,'experimental data'!F522:F525,'experimental data'!M538:M541,'experimental data'!N522:N525)","v":-1.800836379595161E-5},{"$f":"'experimental data'!U530","v":-1.6264108885318818E-3}]
[null,"1024x768",{"$f":"AVERAGE(C21:C23)","v":0},{"$f":"AVERAGE(D21:D23)","v":3.5417479849007005E-3},{"$f":"AVERAGE(E21:E23)","v":1.1299901806247625E-3},{"$f":"AVERAGE(F21:F23)","v":1.898171864564091E-3},{"$f":"AVERAGE(G21:G23)","v":2.5137961777927931E-3}]
[null,"1920x1088",{"$f":"AVERAGE(C24:C27)","v":0},{"$f":"AVERAGE(D24:D27)","v":1.9771577813492425E-3},{"$f":"AVERAGE(E24:E27)","v":5.7711975545893246E-4},{"$f":"AVERAGE(F24:F27)","v":5.2807323582371168E-4},{"$f":"AVERAGE(G24:G27)","v":2.8543969333436059E-4}]
[null,"average",{"$f":"AVERAGE(C21:C27)","v":0},{"$f":"AVERAGE(D21:D27)","v":2.6476964400141529E-3},{"$f":"AVERAGE(E21:E27)","v":8.1406422338714535E-4},{"$f":"AVERAGE(F21:F27)","v":1.1152583624267315E-3},{"$f":"AVERAGE(G21:G27)","v":1.2404496152451175E-3}]

{"sheet":"experimental data","index":2,"n_rows":545,"n_cols":30,"rows_kept":545,"cut":false,"hidden":false,"merged":[[0,27,0,29],[375,4,375,10],[375,12,375,18],[375,20,375,22],[375,23,375,25],[0,4,0,10],[0,12,0,18],[0,20,0,22],[0,23,0,25]]}
[null,null,null,null,"Reference",null,null,null,null,null,null,null,"Tested",null,null,null,null,null,null,null,"BD-rate (piecewise cubic)",null,null,"BD-rate (cubic)",null,null,null,"Time ratio"]
["Class","Sequence","component","QPISlice(V0)","kbps","Y-PSNR","U-PSNR","V-PSNR","Enc T [s]","Dec T [s]","Ren T [s]",null,"kbps","Y-PSNR","U-PSNR","V-PSNR","Enc T [s]","Dec T [s]","Ren T [s]",null,"Y","U","V","Y","U","V",null,"Enc","Dec","Ren"]
["1024x768","Balloons","video 0",25,876.59439999999995,43.100999999999999,43.380899999999997,43.939300000000003,null,null,null,null,876.59439999999995,43.100999999999999,43.380899999999997,43.939300000000003,null,null,null,null,{"$f":"bdrate($E3:$E6,F3:F6,$M3:$M6,N3:N6)","v":0},{"$f":"bdrate($E3:$E6,G3:G6,$M3:$M6,O3:O6)","v":0},{"$f":"bdrate($E3:$E6,H3:H6,$M3:$M6,P3:P6)","v":0},{"$f":"bdrateOld($E3:$E6,F3:F6,$M3:$M6,N3:N6)","v":0},{"$f":"bdrateOld($E3:$E6,G3:G6,$M3:$M6,O3:O6)","v":0},{"$f":"bdrateOld($E3:$E6,H3:H6,$M3:$M6,P3:P6)","v":0}]
[null,null,null,30,481.95600000000002,41.072400000000002,42.137300000000003,42.323900000000002,null,null,null,null,481.95600000000002,41.072400000000002,42.137300000000003,42.323900000000002]
[null,null,null,35,278.25200000000001,38.509700000000002,40.687100000000001,40.560499999999998,null,null,null,null,278.25200000000001,38.509700000000002,40.687100000000001,40.560499999999998]
[null,null,null,40,168.88319999999999,35.6798,39.643799999999999,39.324100000000001,null,null,null,null,168.88319999999999,35.6798,39.643799999999999,39.324100000000001]
[null,null,"video 1",25,299.99040000000002,42.296599999999998,43.112900000000003,43.131799999999998,null,null,null,null,301.38,42.2926,43.117400000000004,43.136600000000001,null,null,null,null,{"$f":"bdrate($E7:$E10,F7:F10,$M7:$M10,N7:N10)","v":2.0869646965726574E-3},{"$f":"bdrate($E7:$E10,G7:G10,$M7:$M10,O7:O10)","v":1.1536714972930628E-3},{"$f":"bdrate($E7:$E10,H7:H10,$M7:$M10,P7:P10)","v":3.4686788412481295E-3},{"$f":"bdrateOld($E7:$E10,F7:F10,$M7:$M10,N7:N10)","v":2.0699723480110954E-3},{"$f":"bdrateOld($E7:$E10,G7:G10,$M7:$M10,O7:O10)","v":1.1212636496336081E-3},{"$f":"bdrateOld($E7:$E10,H7:H10,$M7:$M10,P7:P10)","v":3.4528255265580121E-3}]
[null,null,null,30,145.36000000000001,40.020299999999999,41.937100000000001,41.631500000000003,null,null,null,null,145.8032,40.0154,41.946399999999997,41.627499999999998]
[null,null,null,35,78.7256,37.440199999999997,40.721400000000003,40.142499999999998,null,null,null,null,78.676000000000002,37.433999999999997,40.712499999999999,40.134999999999998]
[null,null,null,40,44.540799999999997,34.697099999999999,39.735100000000003,39.043100000000003,null,null,null,null,44.360799999999998,34.691699999999997,39.723599999999998,39.032899999999998]
[null,null,"video 2",25,328.904,41.9664,42.564799999999998,42.860199999999999,null,null,null,null,330.24720000000002,41.964100000000002,42.563400000000001,42.863700000000001,null,null,null,null,{"$f":"bdrate($E11:$E14,F11:F14,$M11:$M14,N11:N14)","v":3.2519455963810895E-3},{"$f":"bdrate($E11:$E14,G11:G14,$M11:$M14,O11:O14)","v":5.3966699599468093E-3},{"$f":"bdrate($E11:$E14,H11:H14,$M11:$M14,P11:P14)","v":2.8463915801939521E-3},{"$f":"bdrateOld($E11:$E14,F11:F14,$M11:$M14,N11:N14)","v":3.2946319739450836E-3},{"$f":"bdrateOld($E11:$E14,G11:G14,$M11:$M14,O11:O14)","v":5.1431184905204042E-3},{"$f":"bdrateOld($E11:$E14,H11:H14,$M11:$M14,P11:P14)","v":2.8381318137846723E-3}]
[null,null,null,30,158.3792,39.768099999999997,41.380800000000001,41.405999999999999,null,null,null,null,158.82560000000001,39.766300000000001,41.372999999999998,41.408999999999999]
[null,null,null,35,85.493600000000001,37.230899999999998,40.2014,39.9617,null,null,null,null,85.704800000000006,37.225900000000003,40.193800000000003,39.958100000000002]
[null,null,null,40,49.423200000000001,34.514499999999998,39.292299999999997,38.878100000000003,null,null,null,null,49.400799999999997,34.507899999999999,39.301699999999997,38.8673]
[null,null,"depth 0",34,110.2312,37.397799999999997,null,null,null,null,null,null,110.2312,37.397799999999997,null,null,null,null,null,null,{"$f":"bdrate($E15:$E18,F15:F18,$M15:$M18,N15:N18)","v":0},null,null,{"$f":"bdrateOld($E15:$E18,F15:F18,$M15:$M18,N15:N18)","v":0}]
[null,null,null,39,40.422400000000003,34.669899999999998,null,null,null,null,null,null,40.422400000000003,34.669899999999998]
[null,null,null,42,19.148800000000001,32.819899999999997,null,null,null,null,null,null,19.148800000000001,32.819899999999997]
[null,null,null,45,10.2424,30.399899999999999,null,null,null,null,null,null,10.2424,30.399899999999999]
[null,null,"depth 1",34,86.444000000000003,34.959299999999999,null,null,null,null,null,null,86.983999999999995,35.029600000000002,null,null,null,null,null,null,{"$f":"bdrate($E19:$E22,F19:F22,$M19:$M22,N19:N22)","v":3.8241093803741855E-2},null,null,{"$f":"bdrateOld($E19:$E22,F19:F22,$M19:$M22,N19:N22)","v":3.6465079863823746E-2}]
[null,null,null,39,30.6464,32.961799999999997,null,null,null,null,null,null,31.340800000000002,32.835799999999999]
[null,null,null,42,14.102399999999999,30.742999999999999,null,null,null,null,null,null,14.349600000000001,30.6828]
[null,null,null,45,7.1416000000000004,28.2301,null,null,null,null,null,null,7.1135999999999999,28.1968]
[null,null,"depth 2",34,94.775999999999996,34.345399999999998,null,null,null,null,null,null,95.843199999999996,34.405799999999999,null,null,null,null,null,null,{"$f":"bdrate($E23:$E26,F23:F26,$M23:$M26,N23:N26)","v":2.3124213028178575E-2},null,null,{"$f":"bdrateOld($E23:$E26,F23:F26,$M23:$M26,N23:N26)","v":2.2818689131108405E-2}]
[null,null,null,39,32.592799999999997,31.944500000000001,null,null,null,null,null,null,33.411999999999999,31.9482]
[null,null,null,42,15.362399999999999,29.698699999999999,null,null,null,null,null,null,15.603199999999999,29.6495]
[null,null,null,45,7.6904000000000003,26.875900000000001,null,null,null,null,null,null,7.8624000000000001,26.801500000000001]
[null,null,"syn 0.25",25,null,42.319699999999997,45.319000000000003,45.092199999999998,null,null,null,null,null,42.310099999999998,45.323599999999999,45.092300000000002]
[null,null,null,30,null,40.173999999999999,43.762799999999999,43.256,null,null,null,null,null,40.168100000000003,43.768099999999997,43.248699999999999]
[null,null,null,35,null,37.703899999999997,42.168900000000001,41.404000000000003,null,null,null,null,null,37.698700000000002,42.168199999999999,41.393099999999997]
[null,null,null,40,null,35.007800000000003,40.934600000000003,40.063299999999998,null,null,null,null,null,34.996000000000002,40.924999999999997,40.054900000000004]
[null,null,"syn 0.50",25,null,42.8874,45.930999999999997,45.760599999999997,null,null,null,null,null,42.887300000000003,45.932699999999997,45.760899999999999]
[null,null,null,30,null,40.656700000000001,44.256599999999999,43.770800000000001,null,null,null,null,null,40.655900000000003,44.264699999999998,43.765099999999997]
[null,null,null,35,null,38.101300000000002,42.453800000000001,41.735199999999999,null,null,null,null,null,38.091299999999997,42.451000000000001,41.729199999999999]
[null,null,null,40,null,35.329799999999999,41.117600000000003,40.284500000000001,null,null,null,null,null,35.317,41.1128,40.281300000000002]
[null,null,"syn 0.75",25,null,43.026400000000002,45.528100000000002,45.662599999999998,null,null,null,null,null,43.020200000000003,45.526800000000001,45.663400000000003]
[null,null,null,30,null,40.921799999999998,43.953299999999999,43.7331,null,null,null,null,null,40.9084,43.953899999999997,43.728400000000001]
[null,null,null,35,null,38.392200000000003,42.182099999999998,41.684800000000003,null,null,null,null,null,38.391500000000001,42.182200000000002,41.682899999999997]
[null,null,null,40,null,35.601500000000001,40.895000000000003,40.250100000000003,null,null,null,null,null,35.5974,40.8932,40.245199999999997]
[null,null,"syn 1.25",25,null,42.928699999999999,45.565399999999997,45.6569,null,null,null,null,null,42.913499999999999,45.567799999999998,45.656300000000002]
[null,null,null,30,null,40.811700000000002,43.9938,43.729199999999999,null,null,null,null,null,40.811900000000001,43.991799999999998,43.729300000000002]
[null,null,null,35,null,38.289900000000003,42.231000000000002,41.6783,null,null,null,null,null,38.280200000000001,42.227800000000002,41.676400000000001]
[null,null,null,40,null,35.468200000000003,40.938099999999999,40.2254,null,null,null,null,null,35.470799999999997,40.944600000000001,40.222299999999997]
[null,null,"syn 1.5",25,null,42.735399999999998,45.881399999999999,45.645499999999998,null,null,null,null,null,42.733800000000002,45.889699999999998,45.645899999999997]
[null,null,null,30,null,40.5214,44.232799999999997,43.639899999999997,null,null,null,null,null,40.506500000000003,44.228099999999998,43.645299999999999]
[null,null,null,35,null,37.993000000000002,42.4313,41.632300000000001,null,null,null,null,null,37.986800000000002,42.424599999999998,41.623100000000001]
[null,null,null,40,null,35.188899999999997,41.085299999999997,40.159700000000001,null,null,null,null,null,35.188699999999997,41.094000000000001,40.154499999999999]
[null,null,"syn 1.75",25,null,42.140700000000002,45.154600000000002,44.885599999999997,null,null,null,null,null,42.131599999999999,45.155700000000003,44.874699999999997]
[null,null,null,30,null,40.010599999999997,43.620199999999997,43.034999999999997,null,null,null,null,null,40.0002,43.613100000000003,43.042000000000002]
[null,null,null,35,null,37.573599999999999,42.024099999999997,41.2211,null,null,null,null,null,37.568199999999997,42.015599999999999,41.211300000000001]
[null,null,null,40,null,34.8611,40.796100000000003,39.864699999999999,null,null,null,null,null,34.861699999999999,40.8093,39.856499999999997]
[null,null,"overall",25,1804.9128000000001,null,null,null,30607.77,47.57,311.33,null,1809.2528,null,null,null,29772.67,47.39,308.83,null,null,null,null,null,null,null,null,{"$f":"GEOMEAN(Q51:Q54)/GEOMEAN(I51:I54)","v":0.97562794653194651},{"$f":"GEOMEAN(R51:R54)/GEOMEAN(J51:J54)","v":1.002952961405297},{"$f":"GEOMEAN(S51:S54)/GEOMEAN(K51:K54)","v":0.99500420051146032}]
[null,null,null,30,897.32960000000003,null,null,null,26457.09,43.2,311.77,null,899.7328,null,null,null,25732.34,43.4,309.33999999999997]
[null,null,null,35,499.05759999999998,null,null,null,24538.29,40.68,308.85000000000002,null,499.7072,null,null,null,24089.18,40.19,309.55]
[null,null,null,40,295.89440000000002,null,null,null,23181.61,38.11,311.45,null,295.83600000000001,null,null,null,22614.11,39,309.45999999999998]
["1024x768","Kendo","video 0",25,844.71759999999995,43.614400000000003,44.948099999999997,44.936999999999998,null,null,null,null,844.71759999999995,43.614400000000003,44.948099999999997,44.936999999999998,null,null,null,null,{"$f":"bdrate($E55:$E58,F55:F58,$M55:$M58,N55:N58)","v":0},{"$f":"bdrate($E55:$E58,G55:G58,$M55:$M58,O55:O58)","v":0},{"$f":"bdrate($E55:$E58,H55:H58,$M55:$M58,P55:P58)","v":0},{"$f":"bdrateOld($E55:$E58,F55:F58,$M55:$M58,N55:N58)","v":0},{"$f":"bdrateOld($E55:$E58,G55:G58,$M55:$M58,O55:O58)","v":0},{"$f":"bdrateOld($E55:$E58,H55:H58,$M55:$M58,P55:P58)","v":0}]
[null,null,null,30,451.7192,41.463000000000001,44.122799999999998,43.468299999999999,null,null,null,null,451.7192,41.463000000000001,44.122799999999998,43.468299999999999]
[null,null,null,35,257.29680000000002,38.988500000000002,43.082700000000003,41.807099999999998,null,null,null,null,257.29680000000002,38.988500000000002,43.082700000000003,41.807099999999998]
[null,null,null,40,155.5992,36.379100000000001,42.301600000000001,40.541600000000003,null,null,null,null,155.5992,36.379100000000001,42.301600000000001,40.541600000000003]
[null,null,"video 1",25,299.44080000000002,42.756599999999999,44.803400000000003,44.232599999999998,null,null,null,null,301.48880000000003,42.752899999999997,44.807000000000002,44.225099999999998,null,null,null,null,{"$f":"bdrate($E59:$E62,F59:F62,$M59:$M62,N59:N62)","v":5.9317432971253137E-3},{"$f":"bdrate($E59:$E62,G59:G62,$M59:$M62,O59:O62)","v":4.1566236686212399E-3},{"$f":"bdrate($E59:$E62,H59:H62,$M59:$M62,P59:P62)","v":7.1171977540513964E-3},{"$f":"bdrateOld($E59:$E62,F59:F62,$M59:$M62,N59:N62)","v":5.8961735992766329E-3},{"$f":"bdrateOld($E59:$E62,G59:G62,$M59:$M62,O59:O62)","v":3.6663186940519843E-3},{"$f":"bdrateOld($E59:$E62,H59:H62,$M59:$M62,P59:P62)","v":7.0708072394884969E-3}]
[null,null,null,30,139.56800000000001,40.449300000000001,43.947899999999997,42.854599999999998,null,null,null,null,140.50960000000001,40.444800000000001,43.954799999999999,42.854100000000003]
[null,null,null,35,75.911199999999994,38.042499999999997,43.055399999999999,41.442300000000003,null,null,null,null,76.002399999999994,38.030999999999999,43.039400000000001,41.43]
[null,null,null,40,43.922400000000003,35.525700000000001,42.289700000000003,40.311900000000001,null,null,null,null,44.012,35.515700000000002,42.309100000000001,40.309399999999997]
[null,null,"video 2",25,319.14479999999998,42.383699999999997,44.008099999999999,43.968699999999998,null,null,null,null,321.17520000000002,42.375399999999999,44.006399999999999,43.9602,null,null,null,null,{"$f":"bdrate($E63:$E66,F63:F66,$M63:$M66,N63:N66)","v":6.9183630513780514E-3},{"$f":"bdrate($E63:$E66,G63:G66,$M63:$M66,O63:O66)","v":1.2098163853019317E-2},{"$f":"bdrate($E63:$E66,H63:H66,$M63:$M66,P63:P66)","v":9.777427324036525E-3},{"$f":"bdrateOld($E63:$E66,F63:F66,$M63:$M66,N63:N66)","v":6.9434624365356523E-3},{"$f":"bdrateOld($E63:$E66,G63:G66,$M63:$M66,O63:O66)","v":1.1833851518188165E-2},{"$f":"bdrateOld($E63:$E66,H63:H66,$M63:$M66,P63:P66)","v":9.6579562240761696E-3}]
[null,null,null,30,148.32400000000001,40.184699999999999,43.125799999999998,42.636499999999998,null,null,null,null,149.36080000000001,40.1845,43.119300000000003,42.626100000000001]
[null,null,null,35,79.844800000000006,37.858400000000003,42.348700000000001,41.329900000000002,null,null,null,null,80.138400000000004,37.846899999999998,42.334699999999998,41.318899999999999]
[null,null,null,40,45.502400000000002,35.374699999999997,41.704599999999999,40.237299999999998,null,null,null,null,45.617600000000003,35.360799999999998,41.700699999999998,40.243200000000002]
[null,null,"depth 0",34,131.86000000000001,35.570799999999998,null,null,null,null,null,null,131.86000000000001,35.570799999999998,null,null,null,null,null,null,{"$f":"bdrate($E67:$E70,F67:F70,$M67:$M70,N67:N70)","v":0},null,null,{"$f":"bdrateOld($E67:$E70,F67:F70,$M67:$M70,N67:N70)","v":0}]
[null,null,null,39,50.126399999999997,32.870800000000003,null,null,null,null,null,null,50.126399999999997,32.870800000000003]
[null,null,null,42,23.718399999999999,30.446200000000001,null,null,null,null,null,null,23.718399999999999,30.446200000000001]
[null,null,null,45,12.119199999999999,28.271599999999999,null,null,null,null,null,null,12.119199999999999,28.271599999999999]
[null,null,"depth 1",34,102.74639999999999,31.602799999999998,null,null,null,null,null,null,104.4888,31.621700000000001,null,null,null,null,null,null,{"$f":"bdrate($E71:$E74,F71:F74,$M71:$M74,N71:N74)","v":1.4877252741719804E-2},null,null,{"$f":"bdrateOld($E71:$E74,F71:F74,$M71:$M74,N71:N74)","v":1.4244538434854181E-2}]
[null,null,null,39,37.449599999999997,29.887799999999999,null,null,null,null,null,null,37.930399999999999,29.8704]
[null,null,null,42,17.192799999999998,27.957999999999998,null,null,null,null,null,null,17.442399999999999,27.9907]
[null,null,null,45,8.8423999999999996,25.807099999999998,null,null,null,null,null,null,9.0128000000000004,25.7119]
[null,null,"depth 2",34,115.2928,29.0489,null,null,null,null,null,null,116.1832,29.025200000000002,null,null,null,null,null,null,{"$f":"bdrate($E75:$E78,F75:F78,$M75:$M78,N75:N78)","v":1.4023811651239004E-2},null,null,{"$f":"bdrateOld($E75:$E78,F75:F78,$M75:$M78,N75:N78)","v":1.6142571207358403E-2}]
[null,null,null,39,43.015999999999998,27.825199999999999,null,null,null,null,null,null,43.475200000000001,27.841699999999999]
[null,null,null,42,19.557600000000001,26.328499999999998,null,null,null,null,null,null,19.857600000000001,26.328399999999998]
[null,null,null,45,9.9496000000000002,24.440999999999999,null,null,null,null,null,null,10.0296,24.369700000000002]
[null,null,"syn 0.25",25,null,42.748199999999997,47.069200000000002,45.853099999999998,null,null,null,null,null,42.751600000000003,47.088700000000003,45.841099999999997]
[null,null,null,30,null,40.544699999999999,45.940600000000003,44.240099999999998,null,null,null,null,null,40.543399999999998,45.958500000000001,44.248600000000003]
[null,null,null,35,null,38.222499999999997,44.811900000000001,42.600499999999997,null,null,null,null,null,38.218499999999999,44.780200000000001,42.595999999999997]
[null,null,null,40,null,35.767099999999999,43.848399999999998,41.2682,null,null,null,null,null,35.7517,43.847200000000001,41.276499999999999]
[null,null,"syn 0.50",25,null,43.396700000000003,47.619199999999999,46.640700000000002,null,null,null,null,null,43.3996,47.612200000000001,46.630699999999997]
[null,null,null,30,null,41.053899999999999,46.414299999999997,44.904200000000003,null,null,null,null,null,41.0503,46.431800000000003,44.902700000000003]
[null,null,null,35,null,38.589500000000001,45.083799999999997,43.060600000000001,null,null,null,null,null,38.585299999999997,45.064,43.060400000000001]
[null,null,null,40,null,36.017899999999997,44.067700000000002,41.616700000000002,null,null,null,null,null,36.006399999999999,44.0578,41.616500000000002]
[null,null,"syn 0.75",25,null,43.598700000000001,47.021299999999997,46.5413,null,null,null,null,null,43.601599999999998,47.018799999999999,46.534599999999998]
[null,null,null,30,null,41.343699999999998,45.969499999999996,44.864400000000003,null,null,null,null,null,41.343400000000003,45.971699999999998,44.863799999999998]
[null,null,null,35,null,38.877099999999999,44.680100000000003,43.01,null,null,null,null,null,38.875900000000001,44.671599999999998,43.009099999999997]
[null,null,null,40,null,36.261099999999999,43.730800000000002,41.565899999999999,null,null,null,null,null,36.257100000000001,43.733899999999998,41.563200000000002]
[null,null,"syn 1.25",25,null,43.409599999999998,47.048999999999999,46.591299999999997,null,null,null,null,null,43.413699999999999,47.047600000000003,46.59]
[null,null,null,30,null,41.174900000000001,46.021299999999997,44.898099999999999,null,null,null,null,null,41.175600000000003,46.012500000000003,44.889600000000002]
[null,null,null,35,null,38.711300000000001,44.741700000000002,43.020699999999998,null,null,null,null,null,38.711599999999997,44.737000000000002,43.017400000000002]
[null,null,null,40,null,36.126899999999999,43.801900000000003,41.558100000000003,null,null,null,null,null,36.122999999999998,43.798499999999997,41.560400000000001]
[null,null,"syn 1.5",25,null,43.114800000000002,47.334699999999998,46.642400000000002,null,null,null,null,null,43.115099999999998,47.3354,46.632300000000001]
[null,null,null,30,null,40.805399999999999,46.238900000000001,44.882399999999997,null,null,null,null,null,40.813699999999997,46.227699999999999,44.864400000000003]
[null,null,null,35,null,38.382599999999996,45.008499999999998,43.068800000000003,null,null,null,null,null,38.373800000000003,45.010100000000001,43.0548]
[null,null,null,40,null,35.838500000000003,44.0503,41.588799999999999,null,null,null,null,null,35.823999999999998,44.042900000000003,41.590899999999998]
[null,null,"syn 1.75",25,null,42.4377,46.383800000000001,45.775399999999998,null,null,null,null,null,42.4238,46.384700000000002,45.774900000000002]
[null,null,null,30,null,40.2759,45.307499999999997,44.1629,null,null,null,null,null,40.28,45.295900000000003,44.142499999999998]
[null,null,null,35,null,37.992699999999999,44.282200000000003,42.573099999999997,null,null,null,null,null,37.978700000000003,44.264099999999999,42.558]
[null,null,null,40,null,35.537599999999998,43.458799999999997,41.2288,null,null,null,null,null,35.519100000000002,43.438800000000001,41.2301]
[null,null,"overall",25,1821.1751999999999,null,null,null,35589,45.12,313.11,null,1827.8864000000001,null,null,null,34288.51,45.57,311.98,null,null,null,null,null,null,null,null,{"$f":"GEOMEAN(Q103:Q106)/GEOMEAN(I103:I106)","v":0.96340807545322504},{"$f":"GEOMEAN(R103:R106)/GEOMEAN(J103:J106)","v":1.0012058100804879},{"$f":"GEOMEAN(S103:S106)/GEOMEAN(K103:K106)","v":1.0000151153629082}]
[null,null,null,30,878.17600000000004,null,null,null,30011.94,41.37,310.98,null,881.09439999999995,null,null,null,28882.59,41.68,314.48]
[null,null,null,35,481.49439999999998,null,null,null,27437.95,39.42,309.12,null,482.42880000000002,null,null,null,26327.56,39.31,309.22000000000003]
[null,null,null,40,283.90800000000002,null,null,null,25243.88,37.01,311.19,null,284.36320000000001,null,null,null,24443.5,36.65,308.76]
["1024x768","Newspaper_CC","video 0",25,950.90719999999999,41.353099999999998,44.123800000000003,44.1783,null,null,null,null,950.90719999999999,41.353099999999998,44.123800000000003,44.1783,null,null,null,null,{"$f":"bdrate($E107:$E110,F107:F110,$M107:$M110,N107:N110)","v":0},{"$f":"bdrate($E107:$E110,G107:G110,$M107:$M110,O107:O110)","v":0},{"$f":"bdrate($E107:$E110,H107:H110,$M107:$M110,P107:P110)","v":0},{"$f":"bdrateOld($E107:$E110,F107:F110,$M107:$M110,N107:N110)","v":0},{"$f":"bdrateOld($E107:$E110,G107:G110,$M107:$M110,O107:O110)","v":0},{"$f":"bdrateOld($E107:$E110,H107:H110,$M107:$M110,P107:P110)","v":0}]
[null,null,null,30,500.4008,39.000999999999998,42.517499999999998,42.5105,null,null,null,null,500.4008,39.000999999999998,42.517499999999998,42.5105]
[null,null,null,35,276.07760000000002,36.464199999999998,40.7699,40.724400000000003,null,null,null,null,276.07760000000002,36.464199999999998,40.7699,40.724400000000003]
[null,null,null,40,160.52799999999999,33.906199999999998,39.563200000000002,39.455100000000002,null,null,null,null,160.52799999999999,33.906199999999998,39.563200000000002,39.455100000000002]
[null,null,"video 1",25,324.68,40.3093,42.9634,43.076300000000003,null,null,null,null,325.22800000000001,40.306600000000003,42.960799999999999,43.072200000000002,null,null,null,null,{"$f":"bdrate($E111:$E114,F111:F114,$M111:$M114,N111:N114)","v":2.6065359610041305E-3},{"$f":"bdrate($E111:$E114,G111:G114,$M111:$M114,O111:O114)","v":2.8746748805095201E-3},{"$f":"bdrate($E111:$E114,H111:H114,$M111:$M114,P111:P114)","v":4.6335182072581027E-3},{"$f":"bdrateOld($E111:$E114,F111:F114,$M111:$M114,N111:N114)","v":2.6021917224625657E-3},{"$f":"bdrateOld($E111:$E114,G111:G114,$M111:$M114,O111:O114)","v":2.5597663569336682E-3},{"$f":"bdrateOld($E111:$E114,H111:H114,$M111:$M114,P111:P114)","v":4.6712113746467665E-3}]
[null,null,null,30,143.75040000000001,37.992800000000003,41.445900000000002,41.5259,null,null,null,null,144.0136,37.9895,41.450200000000002,41.518300000000004]
[null,null,null,35,73.656000000000006,35.591500000000003,40.158499999999997,40.122999999999998,null,null,null,null,73.756799999999998,35.5884,40.148299999999999,40.118299999999998]
[null,null,null,40,41.997599999999998,33.189100000000003,39.185000000000002,39.117400000000004,null,null,null,null,42.102400000000003,33.186399999999999,39.181399999999996,39.114800000000002]
[null,null,"video 2",25,368.4504,39.907800000000002,42.845999999999997,42.736699999999999,null,null,null,null,369.55040000000002,39.905799999999999,42.850200000000001,42.742100000000001,null,null,null,null,{"$f":"bdrate($E115:$E118,F115:F118,$M115:$M118,N115:N118)","v":1.9801451816698901E-3},{"$f":"bdrate($E115:$E118,G115:G118,$M115:$M118,O115:O118)","v":-1.4233662324458773E-4},{"$f":"bdrate($E115:$E118,H115:H118,$M115:$M118,P115:P118)","v":1.4617212142886693E-3},{"$f":"bdrateOld($E115:$E118,F115:F118,$M115:$M118,N115:N118)","v":1.9704621929328425E-3},{"$f":"bdrateOld($E115:$E118,G115:G118,$M115:$M118,O115:O118)","v":-5.0810527243128067E-4},{"$f":"bdrateOld($E115:$E118,H115:H118,$M115:$M118,P115:P118)","v":1.4284455053232836E-3}]
[null,null,null,30,165.0008,37.555300000000003,41.414099999999998,41.162799999999997,null,null,null,null,165.39760000000001,37.554200000000002,41.424999999999997,41.165700000000001]
[null,null,null,35,85.569599999999994,35.119900000000001,40.155299999999997,39.7759,null,null,null,null,85.585599999999999,35.116300000000003,40.147300000000001,39.771700000000003]
[null,null,null,40,47.552799999999998,32.617899999999999,39.172199999999997,38.746600000000001,null,null,null,null,47.588799999999999,32.6175,39.177100000000003,38.743299999999998]
[null,null,"depth 0",34,182.5368,35.926900000000003,null,null,null,null,null,null,182.5368,35.926900000000003,null,null,null,null,null,null,{"$f":"bdrate($E119:$E122,F119:F122,$M119:$M122,N119:N122)","v":0},null,null,{"$f":"bdrateOld($E119:$E122,F119:F122,$M119:$M122,N119:N122)","v":0}]
[null,null,null,39,66.100800000000007,32.838500000000003,null,null,null,null,null,null,66.100800000000007,32.838500000000003]
[null,null,null,42,29.1112,30.094000000000001,null,null,null,null,null,null,29.1112,30.094000000000001]
[null,null,null,45,14.410399999999999,27.4602,null,null,null,null,null,null,14.410399999999999,27.4602]
[null,null,"depth 1",34,122.624,35.657400000000003,null,null,null,null,null,null,124.3592,35.670200000000001,null,null,null,null,null,null,{"$f":"bdrate($E123:$E126,F123:F126,$M123:$M126,N123:N126)","v":4.0059835289838475E-2},null,null,{"$f":"bdrateOld($E123:$E126,F123:F126,$M123:$M126,N123:N126)","v":4.0338404461699895E-2}]
[null,null,null,39,45.949599999999997,32.280299999999997,null,null,null,null,null,null,46.664000000000001,32.190399999999997]
[null,null,null,42,20.925599999999999,29.684000000000001,null,null,null,null,null,null,21.461600000000001,29.602699999999999]
[null,null,null,45,9.9136000000000006,26.880199999999999,null,null,null,null,null,null,9.9903999999999993,26.749199999999998]
[null,null,"depth 2",34,108.4144,35.257199999999997,null,null,null,null,null,null,110.4328,35.145000000000003,null,null,null,null,null,null,{"$f":"bdrate($E127:$E130,F127:F130,$M127:$M130,N127:N130)","v":2.914742935079917E-2},null,null,{"$f":"bdrateOld($E127:$E130,F127:F130,$M127:$M130,N127:N130)","v":2.8715934424669909E-2}]
[null,null,null,39,38.186399999999999,32.357300000000002,null,null,null,null,null,null,39.035200000000003,32.414099999999998]
[null,null,null,42,17.4312,29.5761,null,null,null,null,null,null,17.810400000000001,29.4971]
[null,null,null,45,8.8767999999999994,27.3825,null,null,null,null,null,null,9.016,27.336500000000001]
[null,null,"syn 0.25",25,null,39.910200000000003,45.2669,45.427199999999999,null,null,null,null,null,39.9009,45.264699999999998,45.429099999999998]
[null,null,null,30,null,37.802700000000002,43.591500000000003,43.68,null,null,null,null,null,37.806399999999996,43.593499999999999,43.678899999999999]
[null,null,null,35,null,35.527700000000003,41.979399999999998,41.939300000000003,null,null,null,null,null,35.522100000000002,41.976900000000001,41.935400000000001]
[null,null,null,40,null,33.168700000000001,40.6982,40.661900000000003,null,null,null,null,null,33.1496,40.694299999999998,40.661499999999997]
[null,null,"syn 0.50",25,null,40.408099999999997,46.104500000000002,46.141599999999997,null,null,null,null,null,40.416800000000002,46.11,46.141800000000003]
[null,null,null,30,null,38.1738,44.3123,44.254100000000001,null,null,null,null,null,38.167700000000004,44.315100000000001,44.253999999999998]
[null,null,null,35,null,35.781500000000001,42.4617,42.2821,null,null,null,null,null,35.779000000000003,42.4604,42.281700000000001]
[null,null,null,40,null,33.311900000000001,41.014800000000001,40.855499999999999,null,null,null,null,null,33.272500000000001,41.010399999999997,40.850099999999998]
[null,null,"syn 0.75",25,null,40.892400000000002,45.986400000000003,46.062399999999997,null,null,null,null,null,40.892699999999998,45.989199999999997,46.061700000000002]
[null,null,null,30,null,38.624499999999998,44.247100000000003,44.211199999999998,null,null,null,null,null,38.621000000000002,44.246200000000002,44.211199999999998]
[null,null,null,35,null,36.179299999999998,42.313600000000001,42.2,null,null,null,null,null,36.174199999999999,42.314500000000002,42.193800000000003]
[null,null,null,40,null,33.676499999999997,40.868699999999997,40.754199999999997,null,null,null,null,null,33.618299999999998,40.866799999999998,40.747900000000001]
[null,null,"syn 1.25",25,null,40.826999999999998,45.852200000000003,45.914099999999998,null,null,null,null,null,40.837000000000003,45.847799999999999,45.9148]
[null,null,null,30,null,38.556399999999996,44.069800000000001,44.036900000000003,null,null,null,null,null,38.563899999999997,44.069899999999997,44.039200000000001]
[null,null,null,35,null,36.123699999999999,42.160400000000003,42.005699999999997,null,null,null,null,null,36.119599999999998,42.157800000000002,42.008400000000002]
[null,null,null,40,null,33.590899999999998,40.743499999999997,40.547899999999998,null,null,null,null,null,33.590000000000003,40.750399999999999,40.549900000000001]
[null,null,"syn 1.5",25,null,40.203299999999999,45.8827,45.864199999999997,null,null,null,null,null,40.2089,45.878300000000003,45.864600000000003]
[null,null,null,30,null,37.927999999999997,44.0929,43.9056,null,null,null,null,null,37.941099999999999,44.097999999999999,43.914900000000003]
[null,null,null,35,null,35.551499999999997,42.254899999999999,41.932200000000002,null,null,null,null,null,35.548200000000001,42.2562,41.931800000000003]
[null,null,null,40,null,33.053199999999997,40.8568,40.518599999999999,null,null,null,null,null,33.054000000000002,40.861199999999997,40.5137]
[null,null,"syn 1.75",25,null,39.917999999999999,45.067500000000003,45.046599999999998,null,null,null,null,null,39.917999999999999,45.065800000000003,45.046700000000001]
[null,null,null,30,null,37.617199999999997,43.419400000000003,43.193199999999997,null,null,null,null,null,37.615699999999997,43.4255,43.206899999999997]
[null,null,null,35,null,35.213099999999997,41.823099999999997,41.426299999999998,null,null,null,null,null,35.2057,41.817799999999998,41.423200000000001]
[null,null,null,40,null,32.711199999999998,40.585999999999999,40.146999999999998,null,null,null,null,null,32.711300000000001,40.592199999999998,40.143900000000002]
[null,null,"overall",25,2065.5855999999999,null,null,null,27724.18,40.5,312.41000000000003,null,2070.9872,null,null,null,27128.25,40.18,311.06,null,null,null,null,null,null,null,null,{"$f":"GEOMEAN(Q155:Q158)/GEOMEAN(I155:I158)","v":0.97993687190383783},{"$f":"GEOMEAN(R155:R158)/GEOMEAN(J155:J158)","v":0.99437209751204292},{"$f":"GEOMEAN(S155:S158)/GEOMEAN(K155:K158)","v":1.0007570577038276}]
[null,null,null,30,967.36159999999995,null,null,null,24609.71,37.25,312.58999999999997,null,969.58479999999997,null,null,null,24145.599999999999,37.04,311.54000000000002]
[null,null,null,35,510.74400000000003,null,null,null,23274.07,35.43,312.31,null,511.77600000000001,null,null,null,22885.59,35.4,312.97000000000003]
[null,null,null,40,291.25200000000001,null,null,null,22382.78,34.53,309.88,null,291.60879999999997,null,null,null,21863.62,34.25,312.56]
["1920x1088","GT_Fly","video 0",25,3667.8904000000002,40.192100000000003,45.409300000000002,46.2425,null,null,null,null,3667.8904000000002,40.192100000000003,45.409300000000002,46.2425,null,null,null,null,{"$f":"bdrate($E159:$E162,F159:F162,$M159:$M162,N159:N162)","v":0},{"$f":"bdrate($E159:$E162,G159:G162,$M159:$M162,O159:O162)","v":0},{"$f":"bdrate($E159:$E162,H159:H162,$M159:$M162,P159:P162)","v":0},{"$f":"bdrateOld($E159:$E162,F159:F162,$M159:$M162,N159:N162)","v":0},{"$f":"bdrateOld($E159:$E162,G159:G162,$M159:$M162,O159:O162)","v":0},{"$f":"bdrateOld($E159:$E162,H159:H162,$M159:$M162,P159:P162)","v":0}]
[null,null,null,30,1611.2072000000001,37.7834,43.575200000000002,44.390700000000002,null,null,null,null,1611.2072000000001,37.7834,43.575200000000002,44.390700000000002]
[null,null,null,35,755.39200000000005,35.598199999999999,41.759099999999997,42.584800000000001,null,null,null,null,755.39200000000005,35.598199999999999,41.759099999999997,42.584800000000001]
[null,null,null,40,366.29199999999997,33.462600000000002,40.620800000000003,41.444299999999998,null,null,null,null,366.29199999999997,33.462600000000002,40.620800000000003,41.444299999999998]
[null,null,"video 1",25,565.73919999999998,39.695500000000003,45.306800000000003,46.144100000000002,null,null,null,null,565.79679999999996,39.695500000000003,45.306600000000003,46.144100000000002,null,null,null,null,{"$f":"bdrate($E163:$E166,F163:F166,$M163:$M166,N163:N166)","v":2.3914125524715502E-5},{"$f":"bdrate($E163:$E166,G163:G166,$M163:$M166,O163:O166)","v":-2.7183555896259648E-5},{"$f":"bdrate($E163:$E166,H163:H166,$M163:$M166,P163:P166)","v":-2.2185538507413227E-6},{"$f":"bdrateOld($E163:$E166,F163:F166,$M163:$M166,N163:N166)","v":2.1564475932933647E-5},{"$f":"bdrateOld($E163:$E166,G163:G166,$M163:$M166,O163:O166)","v":-3.2007509793818834E-5},{"$f":"bdrateOld($E163:$E166,H163:H166,$M163:$M166,P163:P166)","v":-1.0519246355311651E-5}]
[null,null,null,30,214.34479999999999,37.443899999999999,43.536200000000001,44.356699999999996,null,null,null,null,214.33519999999999,37.443899999999999,43.536499999999997,44.3568]
[null,null,null,35,99.106399999999994,35.372399999999999,41.772100000000002,42.598100000000002,null,null,null,null,99.116799999999998,35.372399999999999,41.772100000000002,42.598100000000002]
[null,null,null,40,49.02,33.315899999999999,40.649099999999997,41.475999999999999,null,null,null,null,49.014400000000002,33.315800000000003,40.649099999999997,41.475999999999999]
[null,null,"video 2",25,584.95519999999999,39.658999999999999,45.267699999999998,46.112699999999997,null,null,null,null,585.05039999999997,39.659100000000002,45.267699999999998,46.1126,null,null,null,null,{"$f":"bdrate($E167:$E170,F167:F170,$M167:$M170,N167:N170)","v":-5.5026831985882652E-5},{"$f":"bdrate($E167:$E170,G167:G170,$M167:$M170,O167:O170)","v":8.4915640386595825E-5},{"$f":"bdrate($E167:$E170,H167:H170,$M167:$M170,P167:P170)","v":5.3497358317278199E-5},{"$f":"bdrateOld($E167:$E170,F167:F170,$M167:$M170,N167:N170)","v":-4.905173801694751E-5},{"$f":"bdrateOld($E167:$E170,G167:G170,$M167:$M170,O167:O170)","v":9.827996260525218E-5},{"$f":"bdrateOld($E167:$E170,H167:H170,$M167:$M170,P167:P170)","v":6.2662637534627308E-5}]
[null,null,null,30,223.5136,37.401200000000003,43.495800000000003,44.322000000000003,null,null,null,null,223.57040000000001,37.401299999999999,43.4955,44.322000000000003]
[null,null,null,35,103.9888,35.325600000000001,41.726500000000001,42.557200000000002,null,null,null,null,103.9568,35.325800000000001,41.726500000000001,42.557000000000002]
[null,null,null,40,51.896000000000001,33.257300000000001,40.598199999999999,41.431899999999999,null,null,null,null,51.886400000000002,33.257199999999997,40.598199999999999,41.432099999999998]
[null,null,"depth 0",34,271.25119999999998,38.170999999999999,null,null,null,null,null,null,271.25119999999998,38.170999999999999,null,null,null,null,null,null,{"$f":"bdrate($E171:$E174,F171:F174,$M171:$M174,N171:N174)","v":0},null,null,{"$f":"bdrateOld($E171:$E174,F171:F174,$M171:$M174,N171:N174)","v":0}]
[null,null,null,39,101.6904,34.438699999999997,null,null,null,null,null,null,101.6904,34.438699999999997]
[null,null,null,42,45.147199999999998,31.2698,null,null,null,null,null,null,45.147199999999998,31.2698]
[null,null,null,45,20.3888,28.305,null,null,null,null,null,null,20.3888,28.305]
[null,null,"depth 1",34,97,38.499899999999997,null,null,null,null,null,null,97.019199999999998,38.519500000000001,null,null,null,null,null,null,{"$f":"bdrate($E175:$E178,F175:F178,$M175:$M178,N175:N178)","v":-3.7569332480933415E-3},null,null,{"$f":"bdrateOld($E175:$E178,F175:F178,$M175:$M178,N175:N178)","v":-3.9164397070795554E-3}]
[null,null,null,39,32.791200000000003,35.119399999999999,null,null,null,null,null,null,32.909599999999998,35.118099999999998]
[null,null,null,42,15.897600000000001,31.824100000000001,null,null,null,null,null,null,15.783200000000001,31.817799999999998]
[null,null,null,45,8.6264000000000003,28.4297,null,null,null,null,null,null,8.5408000000000008,28.473400000000002]
[null,null,"depth 2",34,100.392,38.478299999999997,null,null,null,null,null,null,100.68559999999999,38.459299999999999,null,null,null,null,null,null,{"$f":"bdrate($E179:$E182,F179:F182,$M179:$M182,N179:N182)","v":1.6870136964730609E-3},null,null,{"$f":"bdrateOld($E179:$E182,F179:F182,$M179:$M182,N179:N182)","v":1.7257368915859495E-3}]
[null,null,null,39,34.385599999999997,35.058799999999998,null,null,null,null,null,null,34.5152,35.051600000000001]
[null,null,null,42,16.312799999999999,31.544699999999999,null,null,null,null,null,null,16.366399999999999,31.5657]
[null,null,null,45,8.7431999999999999,28.207699999999999,null,null,null,null,null,null,8.68,28.230499999999999]
[null,null,"syn 0.25",25,null,39.662300000000002,46.392099999999999,46.478299999999997,null,null,null,null,null,39.6633,46.393300000000004,46.475499999999997]
[null,null,null,30,null,37.500999999999998,44.585599999999999,45.005600000000001,null,null,null,null,null,37.500799999999998,44.584200000000003,45.002299999999998]
[null,null,null,35,null,35.448799999999999,42.595300000000002,43.355200000000004,null,null,null,null,null,35.4482,42.595799999999997,43.354700000000001]
[null,null,null,40,null,33.392299999999999,41.389600000000002,42.143599999999999,null,null,null,null,null,33.391199999999998,41.388399999999997,42.1434]
[null,null,"syn 0.50",25,null,39.856999999999999,46.241500000000002,46.701700000000002,null,null,null,null,null,39.856400000000001,46.241799999999998,46.698799999999999]
[null,null,null,30,null,37.642499999999998,44.540700000000001,45.116599999999998,null,null,null,null,null,37.641199999999998,44.539900000000003,45.115900000000003]
[null,null,null,35,null,35.536099999999998,42.7089,43.359200000000001,null,null,null,null,null,35.535499999999999,42.707299999999996,43.356900000000003]
[null,null,null,40,null,33.431399999999996,41.470500000000001,42.209699999999998,null,null,null,null,null,33.429699999999997,41.470300000000002,42.209200000000003]
[null,null,"syn 0.75",25,null,40.099800000000002,46.883600000000001,47.716500000000003,null,null,null,null,null,40.099499999999999,46.883200000000002,47.716200000000001]
[null,null,null,30,null,37.766100000000002,44.969900000000003,45.769300000000001,null,null,null,null,null,37.765500000000003,44.969799999999999,45.769300000000001]
[null,null,null,35,null,35.607300000000002,42.983699999999999,43.7669,null,null,null,null,null,35.607500000000002,42.983699999999999,43.766800000000003]
[null,null,null,40,null,33.483699999999999,41.696399999999997,42.4968,null,null,null,null,null,33.483199999999997,41.6965,42.4968]
[null,null,"syn 1.25",25,null,40.075600000000001,46.883600000000001,47.7119,null,null,null,null,null,40.073599999999999,46.883099999999999,47.711199999999998]
[null,null,null,30,null,37.745899999999999,44.970599999999997,45.759700000000002,null,null,null,null,null,37.744799999999998,44.97,45.7592]
[null,null,null,35,null,35.594799999999999,42.977200000000003,43.754100000000001,null,null,null,null,null,35.594700000000003,42.976900000000001,43.754100000000001]
[null,null,null,40,null,33.472900000000003,41.680399999999999,42.474899999999998,null,null,null,null,null,33.472999999999999,41.680300000000003,42.474800000000002]
[null,null,"syn 1.5",25,null,39.829599999999999,46.203600000000002,46.863399999999999,null,null,null,null,null,39.827199999999998,46.202300000000001,46.863500000000002]
[null,null,null,30,null,37.616799999999998,44.543399999999998,45.168300000000002,null,null,null,null,null,37.615200000000002,44.543999999999997,45.169400000000003]
[null,null,null,35,null,35.511000000000003,42.660600000000002,43.337800000000001,null,null,null,null,null,35.5105,42.660200000000003,43.3369]
[null,null,null,40,null,33.393799999999999,41.419600000000003,42.154800000000002,null,null,null,null,null,33.393700000000003,41.419199999999996,42.160299999999999]
[null,null,"syn 1.75",25,null,39.619399999999999,46.191200000000002,46.527500000000003,null,null,null,null,null,39.617899999999999,46.1937,46.526899999999998]
[null,null,null,30,null,37.450699999999998,44.415500000000002,44.996000000000002,null,null,null,null,null,37.451099999999997,44.417200000000001,44.995399999999997]
[null,null,null,35,null,35.398800000000001,42.489400000000003,43.2166,null,null,null,null,null,35.398699999999998,42.487299999999998,43.216900000000003]
[null,null,null,40,null,33.325899999999997,41.295499999999997,42.023699999999998,null,null,null,null,null,33.325000000000003,41.295099999999998,42.031500000000001]
[null,null,"overall",25,5293.8807999999999,null,null,null,67136.600000000006,107.24,691.36,null,5294.3464000000004,null,null,null,67020.37,107.17,694.85,null,null,null,null,null,null,null,null,{"$f":"GEOMEAN(Q207:Q210)/GEOMEAN(I207:I210)","v":0.99592070962609702},{"$f":"GEOMEAN(R207:R210)/GEOMEAN(J207:J210)","v":1.0045376933303911},{"$f":"GEOMEAN(S207:S210)/GEOMEAN(K207:K210)","v":1.003052528877014}]
[null,null,null,30,2224.5855999999999,null,null,null,58027.81,94.52,698.67,null,2224.8807999999999,null,null,null,57758.52,93.91,691.87]
[null,null,null,35,1042.4975999999999,null,null,null,55103.41,92.24,695.05,null,1042.4151999999999,null,null,null,54819.91,93.48,703.79]
[null,null,null,40,511.61919999999998,null,null,null,50894.53,86.16,692.09,null,511.45519999999999,null,null,null,50650.41,87.19,695.17]
["1920x1088","Poznan_Hall2","video 0",25,809.56100000000004,42.126800000000003,48.430199999999999,48.129300000000001,null,null,null,null,809.56100000000004,42.126800000000003,48.430199999999999,48.129300000000001,null,null,null,null,{"$f":"bdrate($E211:$E214,F211:F214,$M211:$M214,N211:N214)","v":0},{"$f":"bdrate($E211:$E214,G211:G214,$M211:$M214,O211:O214)","v":0},{"$f":"bdrate($E211:$E214,H211:H214,$M211:$M214,P211:P214)","v":0},{"$f":"bdrateOld($E211:$E214,F211:F214,$M211:$M214,N211:N214)","v":0},{"$f":"bdrateOld($E211:$E214,G211:G214,$M211:$M214,O211:O214)","v":0},{"$f":"bdrateOld($E211:$E214,H211:H214,$M211:$M214,P211:P214)","v":0}]
[null,null,null,30,344.61599999999999,41.152700000000003,47.450600000000001,47.275599999999997,null,null,null,null,344.61599999999999,41.152700000000003,47.450600000000001,47.275599999999997]
[null,null,null,35,177.97499999999999,39.758299999999998,46.043199999999999,45.973500000000001,null,null,null,null,177.97499999999999,39.758299999999998,46.043199999999999,45.973500000000001]
[null,null,null,40,100.086,38.046199999999999,45.017800000000001,45.0291,null,null,null,null,100.086,38.046199999999999,45.017800000000001,45.0291]
[null,null,"video 1",25,268.84399999999999,41.864199999999997,48.258800000000001,47.545699999999997,null,null,null,null,269.274,41.861400000000003,48.244500000000002,47.548200000000001,null,null,null,null,{"$f":"bdrate($E215:$E218,F215:F218,$M215:$M218,N215:N218)","v":5.6788603733188836E-3},{"$f":"bdrate($E215:$E218,G215:G218,$M215:$M218,O215:O218)","v":8.7602465181790823E-3},{"$f":"bdrate($E215:$E218,H215:H218,$M215:$M218,P215:P218)","v":-2.0750416303288999E-3},{"$f":"bdrateOld($E215:$E218,F215:F218,$M215:$M218,N215:N218)","v":5.722915538458162E-3},{"$f":"bdrateOld($E215:$E218,G215:G218,$M215:$M218,O215:O218)","v":8.5135673966676428E-3},{"$f":"bdrateOld($E215:$E218,H215:H218,$M215:$M218,P215:P218)","v":-1.8502039888073085E-3}]
[null,null,null,30,109.902,40.869500000000002,47.253300000000003,46.6935,null,null,null,null,110.178,40.868299999999998,47.254300000000001,46.706800000000001]
[null,null,null,35,58.677,39.4617,46.090699999999998,45.663899999999998,null,null,null,null,58.889000000000003,39.456400000000002,46.073,45.669600000000003]
[null,null,null,40,32.295999999999999,37.735100000000003,45.197499999999998,44.891100000000002,null,null,null,null,32.570999999999998,37.728499999999997,45.198900000000002,44.886600000000001]
[null,null,"video 2",25,278.15199999999999,41.711799999999997,47.311799999999998,46.732500000000002,null,null,null,null,279.024,41.7117,47.309600000000003,46.722499999999997,null,null,null,null,{"$f":"bdrate($E219:$E222,F219:F222,$M219:$M222,N219:N222)","v":3.4306197379778691E-3},{"$f":"bdrate($E219:$E222,G219:G222,$M219:$M222,O219:O222)","v":-1.7154372781055249E-3},{"$f":"bdrate($E219:$E222,H219:H222,$M219:$M222,P219:P222)","v":1.0683799941257899E-3},{"$f":"bdrateOld($E219:$E222,F219:F222,$M219:$M222,N219:N222)","v":3.0041596679923899E-3},{"$f":"bdrateOld($E219:$E222,G219:G222,$M219:$M222,O219:O222)","v":-1.3771287564248169E-3},{"$f":"bdrateOld($E219:$E222,H219:H222,$M219:$M222,P219:P222)","v":1.3356436411671169E-3}]
[null,null,null,30,112.104,40.783700000000003,46.4604,45.771599999999999,null,null,null,null,112.336,40.779600000000002,46.469099999999997,45.7729]
[null,null,null,35,59.317,39.433900000000001,45.5259,44.814700000000002,null,null,null,null,59.338000000000001,39.429000000000002,45.532699999999998,44.822000000000003]
[null,null,null,40,33.112000000000002,37.7363,44.6845,43.998399999999997,null,null,null,null,33.247,37.736199999999997,44.675899999999999,43.9985]
[null,null,"depth 0",34,71.317999999999998,44.177599999999998,null,null,null,null,null,null,71.317999999999998,44.177599999999998,null,null,null,null,null,null,{"$f":"bdrate($E223:$E226,F223:F226,$M223:$M226,N223:N226)","v":0},null,null,{"$f":"bdrateOld($E223:$E226,F223:F226,$M223:$M226,N223:N226)","v":0}]
[null,null,null,39,30.779,40.970599999999997,null,null,null,null,null,null,30.779,40.970599999999997]
[null,null,null,42,16.341000000000001,38.6479,null,null,null,null,null,null,16.341000000000001,38.6479]
[null,null,null,45,9.6340000000000003,36.630899999999997,null,null,null,null,null,null,9.6340000000000003,36.630899999999997]
[null,null,"depth 1",34,48.996000000000002,43.246899999999997,null,null,null,null,null,null,49.56,43.241399999999999,null,null,null,null,null,null,{"$f":"bdrate($E227:$E230,F227:F230,$M227:$M230,N227:N230)","v":1.8299881782347871E-2},null,null,{"$f":"bdrateOld($E227:$E230,F227:F230,$M227:$M230,N227:N230)","v":1.871327879240936E-2}]
[null,null,null,39,20.276,40.039499999999997,null,null,null,null,null,null,20.483000000000001,39.952100000000002]
[null,null,null,42,10.586,37.446599999999997,null,null,null,null,null,null,10.59,37.389699999999998]
[null,null,null,45,6.1379999999999999,34.885599999999997,null,null,null,null,null,null,6.1660000000000004,35.015599999999999]
[null,null,"depth 2",34,47.935000000000002,43.162300000000002,null,null,null,null,null,null,48.405000000000001,43.171100000000003,null,null,null,null,null,null,{"$f":"bdrate($E231:$E234,F231:F234,$M231:$M234,N231:N234)","v":1.7024949379125243E-2},null,null,{"$f":"bdrateOld($E231:$E234,F231:F234,$M231:$M234,N231:N234)","v":1.7273658884423337E-2}]
[null,null,null,39,19.207999999999998,40.374099999999999,null,null,null,null,null,null,19.448,40.332799999999999]
[null,null,null,42,10.054,37.974400000000003,null,null,null,null,null,null,10.095000000000001,37.927799999999998]
[null,null,null,45,6.0990000000000002,35.5745,null,null,null,null,null,null,6.1289999999999996,35.561399999999999]
[null,null,"syn 0.25",25,null,42.849400000000003,48.266100000000002,47.443100000000001,null,null,null,null,null,42.847200000000001,48.296799999999998,47.407899999999998]
[null,null,null,30,null,41.698599999999999,47.361600000000003,46.668199999999999,null,null,null,null,null,41.6907,47.322000000000003,46.634500000000003]
[null,null,null,35,null,40.1357,46.104999999999997,45.614600000000003,null,null,null,null,null,40.136499999999998,46.107900000000001,45.635300000000001]
[null,null,null,40,null,38.267400000000002,45.168700000000001,44.8371,null,null,null,null,null,38.255899999999997,45.171900000000001,44.837200000000003]
[null,null,"syn 0.50",25,null,43.534100000000002,49.1325,48.5672,null,null,null,null,null,43.528300000000002,49.1477,48.554400000000001]
[null,null,null,30,null,42.251300000000001,48.070099999999996,47.596299999999999,null,null,null,null,null,42.251399999999997,48.048900000000003,47.5809]
[null,null,null,35,null,40.577500000000001,46.664000000000001,46.361600000000003,null,null,null,null,null,40.578899999999997,46.662799999999997,46.353400000000001]
[null,null,null,40,null,38.603700000000003,45.620100000000001,45.4315,null,null,null,null,null,38.595700000000001,45.613999999999997,45.436199999999999]
[null,null,"syn 0.75",25,null,43.1038,49.241700000000002,48.803699999999999,null,null,null,null,null,43.102699999999999,49.241799999999998,48.801299999999998]
[null,null,null,30,null,41.955199999999998,48.2194,47.8855,null,null,null,null,null,41.957799999999999,48.218400000000003,47.8872]
[null,null,null,35,null,40.411999999999999,46.770899999999997,46.618699999999997,null,null,null,null,null,40.408999999999999,46.770099999999999,46.608899999999998]
[null,null,null,40,null,38.545699999999997,45.640999999999998,45.648499999999999,null,null,null,null,null,38.5426,45.637099999999997,45.645699999999998]
[null,null,"syn 1.25",25,null,43.230499999999999,49.129600000000003,49.011000000000003,null,null,null,null,null,43.228700000000003,49.137500000000003,49.012099999999997]
[null,null,null,30,null,42.081800000000001,48.160899999999998,48.105499999999999,null,null,null,null,null,42.076700000000002,48.162399999999998,48.103099999999998]
[null,null,null,35,null,40.5199,46.795299999999997,46.7774,null,null,null,null,null,40.5184,46.784599999999998,46.774799999999999]
[null,null,null,40,null,38.612099999999998,45.640999999999998,45.781799999999997,null,null,null,null,null,38.613,45.656700000000001,45.774500000000003]
[null,null,"syn 1.5",25,null,43.684699999999999,48.893000000000001,49.2928,null,null,null,null,null,43.681100000000001,48.886099999999999,49.286799999999999]
[null,null,null,30,null,42.429699999999997,47.817700000000002,48.154899999999998,null,null,null,null,null,42.43,47.814100000000003,48.212000000000003]
[null,null,null,35,null,40.7928,46.5398,46.959800000000001,null,null,null,null,null,40.7941,46.534500000000001,46.969299999999997]
[null,null,null,40,null,38.804499999999997,45.501300000000001,45.952800000000003,null,null,null,null,null,38.799999999999997,45.515599999999999,45.948099999999997]
[null,null,"syn 1.75",25,null,42.898800000000001,47.659300000000002,48.223999999999997,null,null,null,null,null,42.899099999999997,47.661499999999997,48.219200000000001]
[null,null,null,30,null,41.810699999999997,46.782899999999998,47.162199999999999,null,null,null,null,null,41.804699999999997,46.785899999999998,47.234200000000001]
[null,null,null,35,null,40.315399999999997,45.799100000000003,46.221400000000003,null,null,null,null,null,40.311599999999999,45.772500000000001,46.236699999999999]
[null,null,null,40,null,38.47,44.870800000000003,45.350099999999998,null,null,null,null,null,38.4636,44.898499999999999,45.34]
[null,null,"overall",25,1531.472,null,null,null,42900.07,71.84,550.72,null,1533.808,null,null,null,42016.480000000003,73.5,562.65,null,null,null,null,null,null,null,null,{"$f":"GEOMEAN(Q259:Q262)/GEOMEAN(I259:I262)","v":0.98518357342935281},{"$f":"GEOMEAN(R259:R262)/GEOMEAN(J259:J262)","v":1.0037696862085526},{"$f":"GEOMEAN(S259:S262)/GEOMEAN(K259:K262)","v":1.0091700853675369}]
[null,null,null,30,643.55100000000004,null,null,null,39022.51,69.41,552.52,null,644.50599999999997,null,null,null,38498.1,72.459999999999994,563.48]
[null,null,null,35,339.61599999999999,null,null,null,38296.69,70.58,554.71,null,339.89400000000001,null,null,null,37754.839999999997,66.989999999999995,555.66]
[null,null,null,40,194.03100000000001,null,null,null,36437.480000000003,63.96,556.64,null,194.499,null,null,null,36034.61,64.05,553.16]
["1920x1088","Poznan_Street","video 0",25,2427.2903999999999,39.8566,46.753999999999998,46.039000000000001,null,null,null,null,2427.2903999999999,39.8566,46.753999999999998,46.039000000000001,null,null,null,null,{"$f":"bdrate($E263:$E266,F263:F266,$M263:$M266,N263:N266)","v":0},{"$f":"bdrate($E263:$E266,G263:G266,$M263:$M266,O263:O266)","v":0},{"$f":"bdrate($E263:$E266,H263:H266,$M263:$M266,P263:P266)","v":0},{"$f":"bdrateOld($E263:$E266,F263:F266,$M263:$M266,N263:N266)","v":0},{"$f":"bdrateOld($E263:$E266,G263:G266,$M263:$M266,O263:O266)","v":0},{"$f":"bdrateOld($E263:$E266,H263:H266,$M263:$M266,P263:P266)","v":0}]
[null,null,null,30,956.09040000000005,37.9129,45.357599999999998,44.570300000000003,null,null,null,null,956.09040000000005,37.9129,45.357599999999998,44.570300000000003]
[null,null,null,35,461.14,35.897599999999997,43.686500000000002,42.907499999999999,null,null,null,null,461.14,35.897599999999997,43.686500000000002,42.907499999999999]
[null,null,null,40,240.96879999999999,33.782299999999999,42.514000000000003,41.797199999999997,null,null,null,null,240.96879999999999,33.782299999999999,42.514000000000003,41.797199999999997]
[null,null,"video 1",25,745.84720000000004,38.9983,46.618200000000002,44.803699999999999,null,null,null,null,746.60239999999999,38.9983,46.610900000000001,44.807000000000002,null,null,null,null,{"$f":"bdrate($E267:$E270,F267:F270,$M267:$M270,N267:N270)","v":2.473681371677694E-3},{"$f":"bdrate($E267:$E270,G267:G270,$M267:$M270,O267:O270)","v":3.6857953936444421E-3},{"$f":"bdrate($E267:$E270,H267:H270,$M267:$M270,P267:P270)","v":-7.2423056488868376E-4},{"$f":"bdrateOld($E267:$E270,F267:F270,$M267:$M270,N267:N270)","v":2.4523547286428027E-3},{"$f":"bdrateOld($E267:$E270,G267:G270,$M267:$M270,O267:O270)","v":3.9015082423998759E-3},{"$f":"bdrateOld($E267:$E270,H267:H270,$M267:$M270,P267:P270)","v":-8.4788194826990182E-4}]
[null,null,null,30,218.35120000000001,37.1509,45.297199999999997,43.325800000000001,null,null,null,null,219.28960000000001,37.152099999999997,45.2943,43.335500000000003]
[null,null,null,35,90.258399999999995,35.280299999999997,43.842500000000001,42.014200000000002,null,null,null,null,90.377600000000001,35.279299999999999,43.846400000000003,42.012]
[null,null,null,40,42.062399999999997,33.319099999999999,42.7851,41.142899999999997,null,null,null,null,42.178400000000003,33.319099999999999,42.784799999999997,41.146700000000003]
[null,null,"video 2",25,731.04960000000005,38.931800000000003,46.501199999999997,46.187600000000003,null,null,null,null,732.59119999999996,38.930300000000003,46.497599999999998,46.1875,null,null,null,null,{"$f":"bdrate($E271:$E274,F271:F274,$M271:$M274,N271:N274)","v":3.8216098736805204E-3},{"$f":"bdrate($E271:$E274,G271:G274,$M271:$M274,O271:O274)","v":2.6452753872179269E-3},{"$f":"bdrate($E271:$E274,H271:H274,$M271:$M274,P271:P274)","v":3.0046857641468083E-3},{"$f":"bdrateOld($E271:$E274,F271:F274,$M271:$M274,N271:N274)","v":3.8362610467357339E-3},{"$f":"bdrateOld($E271:$E274,G271:G274,$M271:$M274,O271:O274)","v":2.6700754817627903E-3},{"$f":"bdrateOld($E271:$E274,H271:H274,$M271:$M274,P271:P274)","v":2.80707678063985E-3}]
[null,null,null,30,216.148,36.973599999999998,45.141800000000003,44.798999999999999,null,null,null,null,216.20079999999999,36.973399999999998,45.144500000000001,44.800400000000003]
[null,null,null,35,89.907200000000003,35.008499999999998,43.689,43.2776,null,null,null,null,90.655199999999994,35.006999999999998,43.6922,43.276800000000001]
[null,null,null,40,40.6096,33.015799999999999,42.5961,42.204799999999999,null,null,null,null,40.595199999999998,33.016399999999997,42.591200000000001,42.2057]
[null,null,"depth 0",34,163.4,43.311599999999999,null,null,null,null,null,null,163.4,43.311599999999999,null,null,null,null,null,null,{"$f":"bdrate($E275:$E278,F275:F278,$M275:$M278,N275:N278)","v":0},null,null,{"$f":"bdrateOld($E275:$E278,F275:F278,$M275:$M278,N275:N278)","v":0}]
[null,null,null,39,54.8416,38.9422,null,null,null,null,null,null,54.8416,38.9422]
[null,null,null,42,25.209599999999998,34.760100000000001,null,null,null,null,null,null,25.209599999999998,34.760100000000001]
[null,null,null,45,13.490399999999999,31.434799999999999,null,null,null,null,null,null,13.490399999999999,31.434799999999999]
[null,null,"depth 1",34,97.438400000000001,41.644199999999998,null,null,null,null,null,null,96.915199999999999,41.607500000000002,null,null,null,null,null,null,{"$f":"bdrate($E279:$E282,F279:F282,$M279:$M282,N279:N282)","v":-1.4780959009039751E-3},null,null,{"$f":"bdrateOld($E279:$E282,F279:F282,$M279:$M282,N279:N282)","v":-1.208949922738678E-3}]
[null,null,null,39,27.042400000000001,37.956000000000003,null,null,null,null,null,null,27,37.958300000000001]
[null,null,null,42,12.3368,34.311700000000002,null,null,null,null,null,null,12.2264,34.285499999999999]
[null,null,null,45,6.5888,31.099499999999999,null,null,null,null,null,null,6.4623999999999997,31.0229]
[null,null,"depth 2",34,112.73439999999999,41.014699999999998,null,null,null,null,null,null,112.164,40.984699999999997,null,null,null,null,null,null,{"$f":"bdrate($E283:$E286,F283:F286,$M283:$M286,N283:N286)","v":-2.0402467793390056E-4},null,null,{"$f":"bdrateOld($E283:$E286,F283:F286,$M283:$M286,N283:N286)","v":2.252553221029352E-4}]
[null,null,null,39,30.448799999999999,37.5809,null,null,null,null,null,null,30.564800000000002,37.556100000000001]
[null,null,null,42,13.123200000000001,33.948500000000003,null,null,null,null,null,null,12.9184,33.939799999999998]
[null,null,null,45,6.6456,31.120799999999999,null,null,null,null,null,null,6.5624000000000002,31.106100000000001]
[null,null,"syn 0.25",25,null,39.9968,46.383200000000002,46.16,null,null,null,null,null,39.993600000000001,46.420400000000001,46.151400000000002]
[null,null,null,30,null,37.94,45.200600000000001,44.648600000000002,null,null,null,null,null,37.938400000000001,45.210299999999997,44.647599999999997]
[null,null,null,35,null,35.913400000000003,43.722900000000003,43.245899999999999,null,null,null,null,null,35.911799999999999,43.703000000000003,43.246299999999998]
[null,null,null,40,null,33.807899999999997,42.672899999999998,42.293399999999998,null,null,null,null,null,33.8065,42.673999999999999,42.290399999999998]
[null,null,"syn 0.50",25,null,40.686100000000003,47.165399999999998,46.979300000000002,null,null,null,null,null,40.687100000000001,47.198300000000003,46.983699999999999]
[null,null,null,30,null,38.426000000000002,45.738,45.372100000000003,null,null,null,null,null,38.425699999999999,45.752699999999997,45.371400000000001]
[null,null,null,35,null,36.263100000000001,44.076099999999997,43.7592,null,null,null,null,null,36.260199999999998,44.067300000000003,43.758899999999997]
[null,null,null,40,null,34.0563,42.929600000000001,42.673699999999997,null,null,null,null,null,34.055199999999999,42.926499999999997,42.672899999999998]
[null,null,"syn 0.75",25,null,40.591900000000003,47.534100000000002,47.206800000000001,null,null,null,null,null,40.590699999999998,47.533999999999999,47.201500000000003]
[null,null,null,30,null,38.407200000000003,46.0212,45.617400000000004,null,null,null,null,null,38.408099999999997,46.020299999999999,45.619700000000002]
[null,null,null,35,null,36.256700000000002,44.2395,43.851700000000001,null,null,null,null,null,36.2547,44.237000000000002,43.8523]
[null,null,null,40,null,34.048999999999999,43.008800000000001,42.664299999999997,null,null,null,null,null,34.049300000000002,43.008299999999998,42.6663]
[null,null,"syn 1.25",25,null,40.5456,47.449599999999997,47.001100000000001,null,null,null,null,null,40.547499999999999,47.452100000000002,47.000999999999998]
[null,null,null,30,null,38.348500000000001,45.902500000000003,45.372300000000003,null,null,null,null,null,38.3476,45.9041,45.368699999999997]
[null,null,null,35,null,36.193300000000001,44.1342,43.591299999999997,null,null,null,null,null,36.188899999999997,44.134599999999999,43.5884]
[null,null,null,40,null,33.966299999999997,42.902000000000001,42.397399999999998,null,null,null,null,null,33.963999999999999,42.902200000000001,42.3992]
[null,null,"syn 1.5",25,null,40.576099999999997,47.083399999999997,46.914499999999997,null,null,null,null,null,40.576099999999997,47.068600000000004,46.917299999999997]
[null,null,null,30,null,38.272300000000001,45.6233,45.302700000000002,null,null,null,null,null,38.270800000000001,45.616100000000003,45.297400000000003]
[null,null,null,35,null,36.086599999999997,43.975000000000001,43.592599999999997,null,null,null,null,null,36.081600000000002,43.9803,43.588200000000001]
[null,null,null,40,null,33.860300000000002,42.801099999999998,42.396700000000003,null,null,null,null,null,33.856999999999999,42.788499999999999,42.403199999999998]
[null,null,"syn 1.75",25,null,39.899700000000003,46.200600000000001,46.475999999999999,null,null,null,null,null,39.898299999999999,46.1798,46.483499999999999]
[null,null,null,30,null,37.759099999999997,44.996200000000002,44.983800000000002,null,null,null,null,null,37.756,44.990499999999997,44.983899999999998]
[null,null,null,35,null,35.6751,43.513500000000001,43.378799999999998,null,null,null,null,null,35.671300000000002,43.5137,43.370899999999999]
[null,null,null,40,null,33.553100000000001,42.457700000000003,42.231900000000003,null,null,null,null,null,33.550199999999997,42.444400000000002,42.233899999999998]
[null,null,"overall",25,4284.4128000000001,null,null,null,52176.05,83.01,692.05,null,4285.616,null,null,null,51562.99,84.72,693.2,null,null,null,null,null,null,null,null,{"$f":"GEOMEAN(Q311:Q314)/GEOMEAN(I311:I314)","v":0.98907539567434322},{"$f":"GEOMEAN(R311:R314)/GEOMEAN(J311:J314)","v":1.0068845787659568},{"$f":"GEOMEAN(S311:S314)/GEOMEAN(K311:K314)","v":0.99786629131500171}]
[null,null,null,30,1509.5752,null,null,null,47306.17,79.819999999999993,694.02,null,1510.64,null,null,null,46539.89,78.42,690.54]
[null,null,null,35,698.62800000000004,null,null,null,46525.57,78.16,694.41,null,699.18,null,null,null,46087.06,78.36,694.49]
[null,null,null,40,357.01839999999999,null,null,null,44973.94,76.2,693.36,null,356.91039999999998,null,null,null,44690.66,77.91,689.7]
["1920x1088","Undo_Dancer","video 0",25,4594.1368000000002,38.752299999999998,46.625700000000002,45.920900000000003,null,null,null,null,4594.1368000000002,38.752299999999998,46.625700000000002,45.920900000000003,null,null,null,null,{"$f":"bdrate($E315:$E318,F315:F318,$M315:$M318,N315:N318)","v":0},{"$f":"bdrate($E315:$E318,G315:G318,$M315:$M318,O315:O318)","v":0},{"$f":"bdrate($E315:$E318,H315:H318,$M315:$M318,P315:P318)","v":0},{"$f":"bdrateOld($E315:$E318,F315:F318,$M315:$M318,N315:N318)","v":0},{"$f":"bdrateOld($E315:$E318,G315:G318,$M315:$M318,O315:O318)","v":0},{"$f":"bdrateOld($E315:$E318,H315:H318,$M315:$M318,P315:P318)","v":0}]
[null,null,null,30,1995.2503999999999,35.892499999999998,45.155900000000003,44.560600000000001,null,null,null,null,1995.2503999999999,35.892499999999998,45.155900000000003,44.560600000000001]
[null,null,null,35,917.01520000000005,33.374899999999997,43.817,43.366599999999998,null,null,null,null,917.01520000000005,33.374899999999997,43.817,43.366599999999998]
[null,null,null,40,429.23759999999999,31.1005,43.096600000000002,42.729300000000002,null,null,null,null,429.23759999999999,31.1005,43.096600000000002,42.729300000000002]
[null,null,"video 1",25,938.37840000000006,37.961599999999997,46.541699999999999,45.931100000000001,null,null,null,null,938.84400000000005,37.961599999999997,46.539900000000003,45.932600000000001,null,null,null,null,{"$f":"bdrate($E319:$E322,F319:F322,$M319:$M322,N319:N322)","v":-2.6782474512432319E-4},{"$f":"bdrate($E319:$E322,G319:G322,$M319:$M322,O319:O322)","v":-7.8670621759635573E-4},{"$f":"bdrate($E319:$E322,H319:H322,$M319:$M322,P319:P322)","v":-7.7544974635368469E-4},{"$f":"bdrateOld($E319:$E322,F319:F322,$M319:$M322,N319:N322)","v":-2.9515926851397811E-4},{"$f":"bdrateOld($E319:$E322,G319:G322,$M319:$M322,O319:O322)","v":-9.2412208326464462E-4},{"$f":"bdrateOld($E319:$E322,H319:H322,$M319:$M322,P319:P322)","v":-8.5054174985410569E-4}]
[null,null,null,30,348.5136,35.3568,45.129100000000001,44.594200000000001,null,null,null,null,348.11200000000002,35.354799999999997,45.131100000000004,44.595100000000002]
[null,null,null,35,158.29759999999999,32.965000000000003,43.890099999999997,43.463900000000002,null,null,null,null,158.33600000000001,32.965600000000002,43.889299999999999,43.463700000000003]
[null,null,null,40,77.563199999999995,30.770600000000002,43.200099999999999,42.847299999999997,null,null,null,null,77.415199999999999,30.769400000000001,43.200400000000002,42.844900000000003]
[null,null,"video 2",25,889.98,38.135599999999997,46.492899999999999,45.740099999999998,null,null,null,null,890.06079999999997,38.136000000000003,46.4925,45.738900000000001,null,null,null,null,{"$f":"bdrate($E323:$E326,F323:F326,$M323:$M326,N323:N326)","v":1.2003686058907892E-3},{"$f":"bdrate($E323:$E326,G323:G326,$M323:$M326,O323:O326)","v":2.5557776008049427E-3},{"$f":"bdrate($E323:$E326,H323:H326,$M323:$M326,P323:P326)","v":1.7719127725501771E-3},{"$f":"bdrateOld($E323:$E326,F323:F326,$M323:$M326,N323:N326)","v":1.1861686845862085E-3},{"$f":"bdrateOld($E323:$E326,G323:G326,$M323:$M326,O323:O326)","v":2.3858374221086276E-3},{"$f":"bdrateOld($E323:$E326,H323:H326,$M323:$M326,P323:P326)","v":1.567977793003994E-3}]
[null,null,null,30,331.44240000000002,35.546599999999998,45.065199999999997,44.415100000000002,null,null,null,null,332.04239999999999,35.547199999999997,45.0625,44.414700000000003]
[null,null,null,35,151.92959999999999,33.161200000000001,43.798200000000001,43.303400000000003,null,null,null,null,152.29839999999999,33.162500000000001,43.797600000000003,43.303100000000001]
[null,null,null,40,74.472800000000007,30.9453,43.0976,42.676699999999997,null,null,null,null,74.355999999999995,30.943999999999999,43.096800000000002,42.677399999999999]
[null,null,"depth 0",34,194.32159999999999,45.831200000000003,null,null,null,null,null,null,194.32159999999999,45.831200000000003,null,null,null,null,null,null,{"$f":"bdrate($E327:$E330,F327:F330,$M327:$M330,N327:N330)","v":0},null,null,{"$f":"bdrateOld($E327:$E330,F327:F330,$M327:$M330,N327:N330)","v":0}]
[null,null,null,39,96.241600000000005,41.1233,null,null,null,null,null,null,96.241600000000005,41.1233]
[null,null,null,42,51.941600000000001,37.537100000000002,null,null,null,null,null,null,51.941600000000001,37.537100000000002]
[null,null,null,45,27.052,34.386299999999999,null,null,null,null,null,null,27.052,34.386299999999999]
[null,null,"depth 1",34,84.848799999999997,44.775799999999997,null,null,null,null,null,null,84.765600000000006,44.825499999999998,null,null,null,null,null,null,{"$f":"bdrate($E331:$E334,F331:F334,$M331:$M334,N331:N334)","v":6.2273197593865071E-3},null,null,{"$f":"bdrateOld($E331:$E334,F331:F334,$M331:$M334,N331:N334)","v":6.8656975233607476E-3}]
[null,null,null,39,36.8352,40.939100000000003,null,null,null,null,null,null,36.856000000000002,40.848999999999997]
[null,null,null,42,19.7624,37.478000000000002,null,null,null,null,null,null,19.574400000000001,37.444899999999997]
[null,null,null,45,10.907999999999999,34.325299999999999,null,null,null,null,null,null,10.876799999999999,34.226500000000001]
[null,null,"depth 2",34,86.416799999999995,44.485399999999998,null,null,null,null,null,null,86.201599999999999,44.478000000000002,null,null,null,null,null,null,{"$f":"bdrate($E335:$E338,F335:F338,$M335:$M338,N335:N338)","v":5.1914926202367706E-3},null,null,{"$f":"bdrateOld($E335:$E338,F335:F338,$M335:$M338,N335:N338)","v":4.8970522345817002E-3}]
[null,null,null,39,39.103999999999999,41.005099999999999,null,null,null,null,null,null,39.130400000000002,41.002000000000002]
[null,null,null,42,20.947199999999999,37.57,null,null,null,null,null,null,21.012799999999999,37.517600000000002]
[null,null,null,45,11.5824,34.359400000000001,null,null,null,null,null,null,11.6936,34.402099999999997]
[null,null,"syn 0.25",25,null,38.3748,46.494399999999999,45.946399999999997,null,null,null,null,null,38.407200000000003,46.497300000000003,45.909700000000001]
[null,null,null,30,null,35.644100000000002,45.140300000000003,44.522399999999998,null,null,null,null,null,35.640999999999998,45.131,44.5259]
[null,null,null,35,null,33.160200000000003,43.991,43.468200000000003,null,null,null,null,null,33.160499999999999,43.966799999999999,43.463500000000003]
[null,null,null,40,null,30.875399999999999,43.329900000000002,42.778599999999997,null,null,null,null,null,30.874199999999998,43.333500000000001,42.778599999999997]
[null,null,"syn 0.50",25,null,38.726700000000001,46.860999999999997,46.22,null,null,null,null,null,38.774999999999999,46.866799999999998,46.198399999999999]
[null,null,null,30,null,35.900300000000001,45.4298,44.848199999999999,null,null,null,null,null,35.899799999999999,45.427599999999998,44.854999999999997]
[null,null,null,35,null,33.345199999999998,44.1813,43.717599999999997,null,null,null,null,null,33.341799999999999,44.174100000000003,43.711599999999997]
[null,null,null,40,null,31.0059,43.496899999999997,43.036200000000001,null,null,null,null,null,31.004799999999999,43.501199999999997,43.035499999999999]
[null,null,"syn 0.75",25,null,38.821100000000001,47.360799999999998,46.780700000000003,null,null,null,null,null,38.861499999999999,47.368299999999998,46.782299999999999]
[null,null,null,30,null,35.959000000000003,45.818300000000001,45.2545,null,null,null,null,null,35.962200000000003,45.817999999999998,45.254300000000001]
[null,null,null,35,null,33.392499999999998,44.4116,43.941499999999998,null,null,null,null,null,33.392099999999999,44.412199999999999,43.940399999999997]
[null,null,null,40,null,31.0595,43.641100000000002,43.226900000000001,null,null,null,null,null,31.058499999999999,43.640700000000002,43.226300000000002]
[null,null,"syn 1.25",25,null,38.7742,47.2849,46.753500000000003,null,null,null,null,null,38.776699999999998,47.284799999999997,46.753999999999998]
[null,null,null,30,null,35.972499999999997,45.737699999999997,45.2331,null,null,null,null,null,35.9726,45.736800000000002,45.233899999999998]
[null,null,null,35,null,33.389299999999999,44.322000000000003,43.916400000000003,null,null,null,null,null,33.392699999999998,44.322000000000003,43.916499999999999]
[null,null,null,40,null,31.065000000000001,43.564999999999998,43.209499999999998,null,null,null,null,null,31.0656,43.5655,43.21]
[null,null,"syn 1.5",25,null,38.719799999999999,46.553600000000003,46.4101,null,null,null,null,null,38.720700000000001,46.530500000000004,46.416499999999999]
[null,null,null,30,null,35.950400000000002,45.072899999999997,44.926699999999997,null,null,null,null,null,35.948900000000002,45.0745,44.944400000000002]
[null,null,null,35,null,33.3842,43.7637,43.601199999999999,null,null,null,null,null,33.389099999999999,43.776400000000002,43.587400000000002]
[null,null,null,40,null,31.047899999999998,43.098399999999998,42.959699999999998,null,null,null,null,null,31.049299999999999,43.099299999999999,42.965400000000002]
[null,null,"syn 1.75",25,null,38.425699999999999,46.31,46.097900000000003,null,null,null,null,null,38.427,46.29,46.100900000000003]
[null,null,null,30,null,35.761800000000001,44.842199999999998,44.665599999999998,null,null,null,null,null,35.761499999999998,44.8324,44.691299999999998]
[null,null,null,35,null,33.270400000000002,43.583500000000001,43.372700000000002,null,null,null,null,null,33.273000000000003,43.594099999999997,43.352200000000003]
[null,null,null,40,null,30.9772,42.9617,42.756399999999999,null,null,null,null,null,30.9801,42.956499999999998,42.7607]
[null,null,"overall",25,6794.7352000000001,null,null,null,56195.519999999997,109.05,701.28,null,6794.9831999999997,null,null,null,55843.83,102.73,691.46,null,null,null,null,null,null,null,null,{"$f":"GEOMEAN(Q363:Q366)/GEOMEAN(I363:I366)","v":0.99400915515565014},{"$f":"GEOMEAN(R363:R366)/GEOMEAN(J363:J366)","v":0.96807824195508163},{"$f":"GEOMEAN(S363:S366)/GEOMEAN(K363:K366)","v":0.99710224157465865}]
[null,null,null,30,2854.04,null,null,null,52252.03,93.87,696.08,null,2854.2856000000002,null,null,null,51843.839999999997,93.19,695.79]
[null,null,null,35,1326.5463999999999,null,null,null,49519.91,90.8,696.88,null,1326.8312000000001,null,null,null,49291.22,89.93,690.84]
[null,null,null,40,637.46879999999999,null,null,null,47632.32,92.12,696.71,null,637.28399999999999,null,null,null,47381.2,87.35,704.85]
[]
[null,"Time geomean",null,"1024x768"]
[null,null,null,"1920x1088"]
[null,null,null,"all"]
[null,"Time ratio",null,"1024x768"]
[null,null,null,"1920x1088"]
[null,null,null,"all"]
[]
["averages"]
[null,null,null,null,"Reference",null,null,null,null,null,null,null,"Tested",null,null,null,null,null,null,null,"BD-rate (piecewise cubic)",null,null,"BD-rate (cubic)"]
["Class","Sequence","average","QPISlice(V0)","kbps","Y-PSNR","U-PSNR","V-PSNR",null,null,null,null,"kbps","Y-PSNR","U-PSNR","V-PSNR",null,null,null,null,"Y","U","V","Y","U","V"]
["1024x768",{"$f":"B3","v":"Balloons"},"video (2V)",25,{"$f":"E3+E7","v":1176.5848000000001},{"$f":"AVERAGE(F3,F7)","v":42.698799999999999},43.246899999999997,43.535550000000001,null,null,null,null,{"$f":"M3+M7","v":1177.9744000000001},{"$f":"AVERAGE(N3,N7)","v":42.696799999999996},43.24915,43.537950000000002,null,null,null,null,{"$f":"bdrate($E378:$E381,F378:F381,$M378:$M381,N378:N381)","v":7.8701484029730651E-4},{"$f":"bdrate($E378:$E381,G378:G381,$M378:$M381,O378:O381)","v":3.1795089970110268E-4},{"$f":"bdrate($E378:$E381,H378:H381,$M378:$M381,P378:P381)","v":1.237568469569128E-3},{"$f":"bdrateOld($E378:$E381,F378:F381,$M378:$M381,N378:N381)","v":7.8259105720612787E-4},{"$f":"bdrateOld($E378:$E381,G378:G381,$M378:$M381,O378:O381)","v":3.1057330049977239E-4},{"$f":"bdrateOld($E378:$E381,H378:H381,$M378:$M381,P378:P381)","v":1.2286787561668344E-3}]
[null,null,null,30,{"$f":"E4+E8","v":627.31600000000003},40.546350000000004,42.037199999999999,41.977699999999999,null,null,null,null,{"$f":"M4+M8","v":627.75919999999996},40.543900000000001,42.041849999999997,41.975700000000003]
[null,null,null,35,{"$f":"E5+E9","v":356.9776},37.97495,40.704250000000002,40.351500000000001,null,null,null,null,{"$f":"M5+M9","v":356.928},37.971850000000003,40.699799999999996,40.347749999999998]
[null,null,null,40,{"$f":"E6+E10","v":213.42399999999998},35.188450000000003,39.689450000000001,39.183599999999998,null,null,null,null,{"$f":"M6+M10","v":213.24399999999997},35.185749999999999,39.683700000000002,39.1785]
[null,null,"video (3V)",25,{"$f":"E3+E7+E11","v":1505.4888000000001},{"$f":"AVERAGE(F3,F7,F11)","v":42.454666666666668},43.019533333333328,43.310433333333329,null,null,null,null,{"$f":"M3+M7+M11","v":1508.2216000000001},{"$f":"AVERAGE(N3,N7,N11)","v":42.452566666666662},43.020566666666667,43.313200000000002,null,null,null,null,{"$f":"bdrate($E382:$E385,F382:F385,$M382:$M385,N382:N385)","v":1.3061313684370468E-3},{"$f":"bdrate($E382:$E385,G382:G385,$M382:$M385,O382:O385)","v":1.5623069902546138E-3},{"$f":"bdrate($E382:$E385,H382:H385,$M382:$M385,P382:P385)","v":1.5106060245602126E-3},{"$f":"bdrateOld($E382:$E385,F382:F385,$M382:$M385,N382:N385)","v":1.3139712580187979E-3},{"$f":"bdrateOld($E382:$E385,G382:G385,$M382:$M385,O382:O385)","v":1.4930362034508704E-3},{"$f":"bdrateOld($E382:$E385,H382:H385,$M382:$M385,P382:P385)","v":1.5086479224477589E-3}]
[null,null,null,30,{"$f":"E4+E8+E12","v":785.6952},40.286933333333337,41.818399999999997,41.787133333333337,null,null,null,null,{"$f":"M4+M8+M12","v":786.58479999999997},40.284700000000001,41.818899999999992,41.786799999999999]
[null,null,null,35,{"$f":"E5+E9+E13","v":442.47120000000001},37.726933333333335,40.536633333333334,40.221566666666668,null,null,null,null,{"$f":"M5+M9+M13","v":442.63279999999997},37.723199999999999,40.531133333333337,40.217866666666666]
[null,null,null,40,{"$f":"E6+E10+E14","v":262.84719999999999},34.963799999999999,39.557066666666664,39.081766666666667,null,null,null,null,{"$f":"M6+M10+M14","v":262.64479999999998},34.959800000000001,39.556366666666669,39.074766666666669]
[null,null,"synth (2V)",25,{"$f":"E3+E7+E15+E19","v":1373.26},{"$f":"AVERAGE(F27,F31,F35)","v":42.744499999999995},45.592700000000001,45.505133333333333,null,null,null,null,{"$f":"M3+M7+M15+M19","v":1375.1895999999999},{"$f":"AVERAGE(N27,N31,N35)","v":42.739200000000004},45.594366666666666,45.505533333333339,null,null,null,null,{"$f":"bdrate($E386:$E389,F386:F389,$M386:$M389,N386:N389)","v":2.2888797631537283E-3},{"$f":"bdrate($E386:$E389,G386:G389,$M386:$M389,O386:O389)","v":5.1664250020388991E-4},{"$f":"bdrate($E386:$E389,H386:H389,$M386:$M389,P386:P389)","v":2.6672733863288833E-3},{"$f":"bdrateOld($E386:$E389,F386:F389,$M386:$M389,N386:N389)","v":2.2694213390961337E-3},{"$f":"bdrateOld($E386:$E389,G386:G389,$M386:$M389,O386:O389)","v":5.4258958736608243E-4},{"$f":"bdrateOld($E386:$E389,H386:H389,$M386:$M389,P386:P389)","v":2.6461546160678751E-3}]
[null,null,null,30,{"$f":"E4+E8+E16+E20","v":698.38480000000004},40.584166666666668,43.990899999999989,43.586633333333339,null,null,null,null,{"$f":"M4+M8+M16+M20","v":699.52240000000006},40.577466666666673,43.995566666666662,43.580733333333335]
[null,null,null,35,{"$f":"E5+E9+E17+E21","v":390.22879999999998},38.065800000000003,42.268266666666669,41.608000000000004,null,null,null,null,{"$f":"M5+M9+M17+M21","v":390.4264},38.060499999999998,42.267133333333334,41.601733333333328]
[null,null,null,40,{"$f":"E6+E10+E18+E22","v":230.80799999999999},35.313033333333337,40.982400000000005,40.199300000000001,null,null,null,null,{"$f":"M6+M10+M18+M22","v":230.59999999999997},35.303466666666672,40.977000000000004,40.193800000000003]
[null,null,"synth (3V)",25,{"$f":"E51","v":1804.9128000000001},{"$f":"AVERAGE(F27,F31,F35,F39,F43,F47)","v":42.673049999999996},45.563250000000004,45.450566666666667,null,null,null,null,{"$f":"M51","v":1809.2528},{"$f":"AVERAGE(N27,N31,N35,N39,N43,N47)","v":42.666083333333333},45.566049999999997,45.448916666666669,null,null,null,null,{"$f":"bdrate($E390:$E393,F390:F393,$M390:$M393,N390:N393)","v":3.2924545915560266E-3},{"$f":"bdrate($E390:$E393,G390:G393,$M390:$M393,O390:O393)","v":2.0742277939074238E-3},{"$f":"bdrate($E390:$E393,H390:H393,$M390:$M393,P390:P393)","v":3.0597403052243788E-3},{"$f":"bdrateOld($E390:$E393,F390:F393,$M390:$M393,N390:N393)","v":3.2665831989808769E-3},{"$f":"bdrateOld($E390:$E393,G390:G393,$M390:$M393,O390:O393)","v":2.0222658178012942E-3},{"$f":"bdrateOld($E390:$E393,H390:H393,$M390:$M393,P390:P393)","v":3.0421486111480434E-3}]
[null,null,null,30,{"$f":"E52","v":897.32960000000003},40.516033333333333,43.969916666666656,43.527333333333331,null,null,null,null,{"$f":"M52","v":899.7328},40.508500000000005,43.969950000000004,43.526466666666664]
[null,null,null,35,{"$f":"E53","v":499.05759999999998},38.008983333333333,42.248533333333334,41.55928333333334,null,null,null,null,{"$f":"M53","v":499.7072},38.002783333333333,42.244900000000001,41.55266666666666]
[null,null,null,40,{"$f":"E54","v":295.89440000000002},35.242883333333332,40.961116666666662,40.141283333333334,null,null,null,null,{"$f":"M54","v":295.83600000000001},35.238599999999998,40.963150000000006,40.135783333333329]
[null,null,"all (2V)",25,{"$f":"E386","v":1373.26},{"$f":"AVERAGE(F3,F7,F27,F31,F35)","v":42.726219999999998},{"$f":"AVERAGE(G3,G7,G27,G31,G35)","v":44.654379999999989},44.717300000000002,null,null,null,null,{"$f":"M386","v":1375.1895999999999},{"$f":"AVERAGE(N3,N7,N27,N31,N35)","v":42.722239999999999},44.656279999999995,44.718499999999999,null,null,null,null,{"$f":"bdrate($E394:$E397,F394:F397,$M394:$M397,N394:N397)","v":1.934204264318673E-3},{"$f":"bdrate($E394:$E397,G394:G397,$M394:$M397,O394:O397)","v":6.5217750867385682E-4},{"$f":"bdrate($E394:$E397,H394:H397,$M394:$M397,P394:P397)","v":2.3956947455143762E-3},{"$f":"bdrateOld($E394:$E397,F394:F397,$M394:$M397,N394:N397)","v":1.9186246623903447E-3},{"$f":"bdrateOld($E394:$E397,G394:G397,$M394:$M397,O394:O397)","v":6.6659901230736729E-4},{"$f":"bdrateOld($E394:$E397,H394:H397,$M394:$M397,P394:P397)","v":2.379967872141231E-3}]
[null,null,null,30,698.38480000000004,40.569040000000001,43.209420000000001,42.943060000000003,null,null,null,null,699.52240000000006,40.564039999999999,43.214080000000003,42.938720000000004]
[null,null,null,35,390.22879999999998,38.02946,41.642659999999999,41.105399999999996,null,null,null,null,390.4264,38.025040000000004,41.6402,41.100139999999996]
[null,null,null,40,230.80799999999999,35.263200000000005,40.465220000000002,39.793019999999999,null,null,null,null,230.59999999999997,35.25638,40.459680000000006,39.787680000000002]
[null,null,"all (3V)",25,1804.9128000000001,{"$f":"AVERAGE(F3,F7,F11,F27,F31,F35,F39,F43,F47)","v":42.600255555555556},44.71534444444444,44.737188888888888,null,null,null,null,1809.2528,{"$f":"AVERAGE(N3,N7,N11,N27,N31,N35,N39,N43,N47)","v":42.594911111111116},44.717555555555549,44.737011111111116,null,null,null,null,{"$f":"bdrate($E398:$E401,F398:F401,$M398:$M401,N398:N401)","v":2.9870555305864244E-3},{"$f":"bdrate($E398:$E401,G398:G401,$M398:$M401,O398:O401)","v":2.236751794502112E-3},{"$f":"bdrate($E398:$E401,H398:H401,$M398:$M401,P398:P401)","v":2.93370122730785E-3},{"$f":"bdrateOld($E398:$E401,F398:F401,$M398:$M401,N398:N401)","v":2.9667900614227527E-3},{"$f":"bdrateOld($E398:$E401,G398:G401,$M398:$M401,O398:O401)","v":2.1815874356470033E-3},{"$f":"bdrateOld($E398:$E401,H398:H401,$M398:$M401,P398:P401)","v":2.9247097642166597E-3}]
[null,null,null,30,897.32960000000003,40.439666666666675,43.252744444444446,42.947266666666664,null,null,null,null,899.7328,40.433900000000001,43.252933333333331,42.946577777777783]
[null,null,null,35,499.05759999999998,37.914966666666672,41.677900000000001,41.113377777777771,null,null,null,null,499.7072,37.909588888888891,41.673644444444442,41.107733333333329]
[null,null,null,40,295.89440000000002,35.149855555555561,40.493100000000005,39.788111111111107,null,null,null,null,295.83600000000001,35.145666666666664,40.49422222222222,39.782111111111107]
[null,{"$f":"B55","v":"Kendo"},"video (2V)",25,{"$f":"E55+E59","v":1144.1584},{"$f":"AVERAGE(F55,F59)","v":43.185500000000005},44.875749999999996,44.584800000000001,null,null,null,null,{"$f":"M55+M59","v":1146.2064},{"$f":"AVERAGE(N55,N59)","v":43.18365},44.877549999999999,44.581049999999998,null,null,null,null,{"$f":"bdrate($E402:$E405,F402:F405,$M402:$M405,N402:N405)","v":1.8355412664616821E-3},{"$f":"bdrate($E402:$E405,G402:G405,$M402:$M405,O402:O405)","v":1.0233451022729767E-3},{"$f":"bdrate($E402:$E405,H402:H405,$M402:$M405,P402:P405)","v":2.2416173602988199E-3},{"$f":"bdrateOld($E402:$E405,F402:F405,$M402:$M405,N402:N405)","v":1.8280736010352072E-3},{"$f":"bdrateOld($E402:$E405,G402:G405,$M402:$M405,O402:O405)","v":8.3029488409636087E-4},{"$f":"bdrateOld($E402:$E405,H402:H405,$M402:$M405,P402:P405)","v":2.2132912622032652E-3}]
[null,null,null,30,{"$f":"E56+E60","v":591.28719999999998},40.956150000000001,44.035349999999994,43.161450000000002,null,null,null,null,{"$f":"M56+M60","v":592.22879999999998},40.953900000000004,44.038799999999995,43.161200000000001]
[null,null,null,35,{"$f":"E57+E61","v":333.20800000000003},38.515500000000003,43.069050000000004,41.624700000000004,null,null,null,null,{"$f":"M57+M61","v":333.29920000000004},38.509749999999997,43.061050000000002,41.618549999999999]
[null,null,null,40,{"$f":"E58+E62","v":199.52160000000001},35.952399999999997,42.295650000000002,40.426749999999998,null,null,null,null,{"$f":"M58+M62","v":199.6112},35.947400000000002,42.305350000000004,40.4255]
[null,null,"video (3V)",25,{"$f":"E55+E59+E63","v":1463.3032000000001},{"$f":"AVERAGE(F55,F59,F63)","v":42.91823333333334},44.586533333333328,44.379433333333338,null,null,null,null,{"$f":"M55+M59+M63","v":1467.3816000000002},{"$f":"AVERAGE(N55,N59,N63)","v":42.914233333333335},44.587166666666668,44.374099999999999,null,null,null,null,{"$f":"bdrate($E406:$E409,F406:F409,$M406:$M409,N406:N409)","v":2.9396301922754997E-3},{"$f":"bdrate($E406:$E409,G406:G409,$M406:$M409,O406:O409)","v":3.7788395757758497E-3},{"$f":"bdrate($E406:$E409,H406:H409,$M406:$M409,P406:P409)","v":4.0010877363430009E-3},{"$f":"bdrateOld($E406:$E409,F406:F409,$M406:$M409,N406:N409)","v":2.9430138223598412E-3},{"$f":"bdrateOld($E406:$E409,G406:G409,$M406:$M409,O406:O409)","v":3.5647902357101025E-3},{"$f":"bdrateOld($E406:$E409,H406:H409,$M406:$M409,P406:P409)","v":3.9439981660351897E-3}]
[null,null,null,30,{"$f":"E56+E60+E64","v":739.61120000000005},40.699000000000005,43.732166666666664,42.986466666666672,null,null,null,null,{"$f":"M56+M60+M64","v":741.58960000000002},40.697433333333336,43.732300000000002,42.982833333333332]
[null,null,null,35,{"$f":"E57+E61+E65","v":413.05280000000005},38.296466666666667,42.828933333333339,41.526433333333337,null,null,null,null,{"$f":"M57+M61+M65","v":413.43760000000003},38.288800000000002,42.818933333333327,41.518666666666668]
[null,null,null,40,{"$f":"E58+E62+E66","v":245.024},35.759833333333326,42.098633333333332,40.363599999999998,null,null,null,null,{"$f":"M58+M62+M66","v":245.22880000000001},35.751866666666665,42.1038,40.364733333333334]
[null,null,"synth (2V)",25,{"$f":"E55+E59+E67+E71","v":1378.7647999999999},{"$f":"AVERAGE(F79,F83,F87)","v":43.247866666666674},47.236566666666668,46.345033333333333,null,null,null,null,{"$f":"M55+M59+M67+M71","v":1382.5552000000002},{"$f":"AVERAGE(N79,N83,N87)","v":43.250933333333336},47.239899999999999,46.335466666666662,null,null,null,null,{"$f":"bdrate($E410:$E413,F410:F413,$M410:$M413,N410:N413)","v":2.1683287835019271E-3},{"$f":"bdrate($E410:$E413,G410:G413,$M410:$M413,O410:O413)","v":2.4460158253407638E-3},{"$f":"bdrate($E410:$E413,H410:H413,$M410:$M413,P410:P413)","v":2.068012069032843E-3},{"$f":"bdrateOld($E410:$E413,F410:F413,$M410:$M413,N410:N413)","v":2.1521607660193176E-3},{"$f":"bdrateOld($E410:$E413,G410:G413,$M410:$M413,O410:O413)","v":2.222812816894626E-3},{"$f":"bdrateOld($E410:$E413,H410:H413,$M410:$M413,P410:P413)","v":2.0708863639720132E-3}]
[null,null,null,30,{"$f":"E56+E60+E68+E72","v":678.86320000000001},40.980766666666668,46.108133333333335,44.669566666666668,null,null,null,null,{"$f":"M56+M60+M68+M72","v":680.28559999999993},40.979033333333334,46.120666666666665,44.671700000000008]
[null,null,null,35,{"$f":"E57+E61+E69+E73","v":374.11919999999998},38.56303333333333,44.858600000000003,42.890366666666665,null,null,null,null,{"$f":"M57+M61+M69+M73","v":374.46000000000004},38.559899999999999,44.838600000000007,42.888499999999993]
[null,null,null,40,{"$f":"E58+E62+E70+E74","v":220.48320000000001},36.015366666666665,43.882300000000008,41.483600000000003,null,null,null,null,{"$f":"M58+M62+M70+M74","v":220.7432},36.005066666666664,43.879633333333338,41.485399999999998]
[null,null,"synth (3V)",25,{"$f":"E103","v":1821.1751999999999},{"$f":"AVERAGE(F79,F83,F87,F91,F95,F99)","v":43.11761666666667},47.07953333333333,46.340699999999998,null,null,null,null,{"$f":"M103","v":1827.8864000000001},{"$f":"AVERAGE(N79,N83,N87,N91,N95,N99)","v":43.117566666666676},47.08123333333333,46.333933333333334,null,null,null,null,{"$f":"bdrate($E414:$E417,F414:F417,$M414:$M417,N414:N417)","v":3.2206441956286191E-3},{"$f":"bdrate($E414:$E417,G414:G417,$M414:$M417,O414:O417)","v":5.2530233564465068E-3},{"$f":"bdrate($E414:$E417,H414:H417,$M414:$M417,P414:P417)","v":4.8810206396869837E-3},{"$f":"bdrateOld($E414:$E417,F414:F417,$M414:$M417,N414:N417)","v":3.2321534355523873E-3},{"$f":"bdrateOld($E414:$E417,G414:G417,$M414:$M417,O414:O417)","v":5.1299405918101559E-3},{"$f":"bdrateOld($E414:$E417,H414:H417,$M414:$M417,P414:P417)","v":4.842771894975062E-3}]
[null,null,null,30,{"$f":"E104","v":878.17600000000004},40.866416666666666,45.982016666666659,44.658683333333329,null,null,null,null,{"$f":"M104","v":881.09439999999995},40.867733333333334,45.983016666666664,44.651933333333339]
[null,null,null,35,{"$f":"E105","v":481.49439999999998},38.462616666666662,44.768033333333335,42.888950000000001,null,null,null,null,{"$f":"M105","v":482.42880000000002},38.457300000000004,44.7545,42.882616666666671]
[null,null,null,40,{"$f":"E106","v":283.90800000000002},35.924849999999999,43.826316666666663,41.471083333333333,null,null,null,null,{"$f":"M106","v":284.36320000000001},35.913550000000001,43.819850000000002,41.47293333333333]
[null,null,"all (2V)",25,{"$f":"E410","v":1378.7647999999999},{"$f":"AVERAGE(F55,F59,F79,F83,F87)","v":43.222920000000002},46.29224,45.640940000000001,null,null,null,null,{"$f":"M410","v":1382.5552000000002},{"$f":"AVERAGE(N55,N59,N79,N83,N87)","v":43.224019999999996},46.294959999999996,45.633699999999997,null,null,null,null,{"$f":"bdrate($E418:$E421,F418:F421,$M418:$M421,N418:N421)","v":2.3057824130983118E-3},{"$f":"bdrate($E418:$E421,G418:G421,$M418:$M421,O418:O421)","v":2.1690014468938035E-3},{"$f":"bdrate($E418:$E421,H418:H421,$M418:$M421,P418:P421)","v":2.3814822099210708E-3},{"$f":"bdrateOld($E418:$E421,F418:F421,$M418:$M421,N418:N421)","v":2.2943564769828395E-3},{"$f":"bdrateOld($E418:$E421,G418:G421,$M418:$M421,O418:O421)","v":1.9481912853238637E-3},{"$f":"bdrateOld($E418:$E421,H418:H421,$M418:$M421,P418:P421)","v":2.3708227835452789E-3}]
[null,null,null,30,678.86320000000001,40.97092,45.279020000000003,44.066319999999997,null,null,null,null,680.28559999999993,40.968980000000002,45.28792,44.067500000000003]
[null,null,null,35,374.11919999999998,38.544020000000003,44.142780000000002,42.384100000000004,null,null,null,null,374.46000000000004,38.539839999999998,44.127580000000002,42.380520000000004]
[null,null,null,40,220.48320000000001,35.990179999999995,43.247640000000004,41.060860000000005,null,null,null,null,220.7432,35.981999999999999,43.249919999999996,41.061439999999997]
[null,null,"all (3V)",25,1821.1751999999999,{"$f":"AVERAGE(F55,F59,F63,F79,F83,F87,F91,F95,F99)","v":43.05115555555556},46.248533333333327,45.686944444444443,null,null,null,null,1827.8864000000001,{"$f":"AVERAGE(N55,N59,N63,N79,N83,N87,N91,N95,N99)","v":43.049788888888884},46.249877777777783,45.680655555555553,null,null,null,null,{"$f":"bdrate($E422:$E425,F422:F425,$M422:$M425,N422:N425)","v":3.4171100566990908E-3},{"$f":"bdrate($E422:$E425,G422:G425,$M422:$M425,O422:O425)","v":5.0827862007496449E-3},{"$f":"bdrate($E422:$E425,H422:H425,$M422:$M425,P422:P425)","v":4.8902455511250498E-3},{"$f":"bdrateOld($E422:$E425,F422:F425,$M422:$M425,N422:N425)","v":3.4285465280630145E-3},{"$f":"bdrateOld($E422:$E425,G422:G425,$M422:$M425,O422:O425)","v":4.9273748581473154E-3},{"$f":"bdrateOld($E422:$E425,H422:H425,$M422:$M425,P422:P425)","v":4.8428931230739547E-3}]
[null,null,null,30,878.17600000000004,40.810611111111115,45.232066666666668,44.101277777777774,null,null,null,null,881.09439999999995,40.810966666666673,45.232777777777777,44.095566666666663]
[null,null,null,35,481.49439999999998,38.407233333333323,44.12166666666667,42.434777777777782,null,null,null,null,482.42880000000002,38.401133333333334,44.109311111111111,42.427966666666663]
[null,null,null,40,283.90800000000002,35.869844444444446,43.25042222222222,41.101922222222221,null,null,null,null,284.36320000000001,35.859655555555548,43.247833333333332,41.103533333333331]
[null,{"$f":"B107","v":"Newspaper_CC"},"video (2V)",25,{"$f":"E107+E111","v":1275.5871999999999},{"$f":"AVERAGE(F107,F111)","v":40.831199999999995},43.543599999999998,43.627300000000005,null,null,null,null,{"$f":"M107+M111","v":1276.1351999999999},{"$f":"AVERAGE(N107,N111)","v":40.82985},43.542299999999997,43.625250000000001,null,null,null,null,{"$f":"bdrate($E426:$E429,F426:F429,$M426:$M429,N426:N429)","v":7.6741443511529894E-4},{"$f":"bdrate($E426:$E429,G426:G429,$M426:$M429,O426:O429)","v":9.2704634808860042E-4},{"$f":"bdrate($E426:$E429,H426:H429,$M426:$M429,P426:P429)","v":1.5574695550089057E-3},{"$f":"bdrateOld($E426:$E429,F426:F429,$M426:$M429,N426:N429)","v":7.6581582164281237E-4},{"$f":"bdrateOld($E426:$E429,G426:G429,$M426:$M429,O426:O429)","v":8.6072825914307316E-4},{"$f":"bdrateOld($E426:$E429,H426:H429,$M426:$M429,P426:P429)","v":1.5551648885665514E-3}]
[null,null,null,30,{"$f":"E108+E112","v":644.15120000000002},38.496899999999997,41.981700000000004,42.0182,null,null,null,null,{"$f":"M108+M112","v":644.4144},38.495249999999999,41.983850000000004,42.014400000000002]
[null,null,null,35,{"$f":"E109+E113","v":349.73360000000002},36.027850000000001,40.464199999999998,40.423699999999997,null,null,null,null,{"$f":"M109+M113","v":349.83440000000002},36.026299999999999,40.459099999999999,40.421350000000004]
[null,null,null,40,{"$f":"E110+E114","v":202.5256},33.547650000000004,39.374099999999999,39.286250000000003,null,null,null,null,{"$f":"M110+M114","v":202.63040000000001},33.546300000000002,39.372299999999996,39.284950000000002]
[null,null,"video (3V)",25,{"$f":"E107+E111+E115","v":1644.0375999999999},{"$f":"AVERAGE(F107,F111,F115)","v":40.523400000000002},43.311066666666669,43.330433333333339,null,null,null,null,{"$f":"M107+M111+M115","v":1645.6856},{"$f":"AVERAGE(N107,N111,N115)","v":40.521833333333333},43.311599999999999,43.330866666666672,null,null,null,null,{"$f":"bdrate($E430:$E433,F430:F433,$M430:$M433,N430:N433)","v":1.0362166302586573E-3},{"$f":"bdrate($E430:$E433,G430:G433,$M430:$M433,O430:O433)","v":5.5260672229273666E-4},{"$f":"bdrate($E430:$E433,H430:H433,$M430:$M433,P430:P433)","v":1.4329182089496406E-3},{"$f":"bdrateOld($E430:$E433,F430:F433,$M430:$M433,N430:N433)","v":1.0338247924608357E-3},{"$f":"bdrateOld($E430:$E433,G430:G433,$M430:$M433,O430:O433)","v":4.1173105360714501E-4},{"$f":"bdrateOld($E430:$E433,H430:H433,$M430:$M433,P430:P433)","v":1.4211266037935655E-3}]
[null,null,null,30,{"$f":"E108+E112+E116","v":809.15200000000004},38.183033333333334,41.792499999999997,41.733066666666666,null,null,null,null,{"$f":"M108+M112+M116","v":809.81200000000001},38.181566666666669,41.797566666666668,41.731500000000004]
[null,null,null,35,{"$f":"E109+E113+E117","v":435.3032},35.725200000000001,40.361233333333331,40.207766666666664,null,null,null,null,{"$f":"M109+M113+M117","v":435.42},35.722966666666672,40.355166666666669,40.204800000000006]
[null,null,null,40,{"$f":"E110+E114+E118","v":250.07839999999999},33.237733333333331,39.306800000000003,39.106366666666666,null,null,null,null,{"$f":"M110+M114+M118","v":250.2192},33.236700000000006,39.307233333333329,39.104399999999998]
[null,null,"synth (2V)",25,{"$f":"E107+E111+E119+E123","v":1580.748},{"$f":"AVERAGE(F131,F135,F139)","v":40.40356666666667},45.785933333333332,45.877066666666657,null,null,null,null,{"$f":"M107+M111+M119+M123","v":1583.0312000000001},{"$f":"AVERAGE(N131,N135,N139)","v":40.403466666666667},45.787966666666669,45.877533333333332,null,null,null,null,{"$f":"bdrate($E434:$E437,F434:F437,$M434:$M437,N434:N437)","v":3.0841799867227238E-3},{"$f":"bdrate($E434:$E437,G434:G437,$M434:$M437,O434:O437)","v":1.3161837388286912E-3},{"$f":"bdrate($E434:$E437,H434:H437,$M434:$M437,P434:P437)","v":2.0183911500690765E-3},{"$f":"bdrateOld($E434:$E437,F434:F437,$M434:$M437,N434:N437)","v":3.1027646245567198E-3},{"$f":"bdrateOld($E434:$E437,G434:G437,$M434:$M437,O434:O437)","v":1.3107690483962209E-3},{"$f":"bdrateOld($E434:$E437,H434:H437,$M434:$M437,P434:P437)","v":1.9953787396129741E-3}]
[null,null,null,30,{"$f":"E108+E112+E120+E124","v":756.2016000000001},38.200333333333333,44.0503,44.048433333333328,null,null,null,null,{"$f":"M108+M112+M120+M124","v":757.17920000000004},38.198366666666665,44.051600000000008,44.048033333333329]
[null,null,null,35,{"$f":"E109+E113+E121+E125","v":399.7704},35.829500000000003,42.251566666666669,42.140466666666669,null,null,null,null,{"$f":"M109+M113+M121+M125","v":400.40719999999999},35.825099999999999,42.250599999999999,42.136966666666666]
[null,null,null,40,{"$f":"E110+E114+E122+E126","v":226.84960000000001},33.385700000000007,40.860566666666664,40.757200000000005,null,null,null,null,{"$f":"M110+M114+M122+M126","v":227.03120000000001},33.346800000000002,40.857166666666664,40.753166666666665]
[null,null,"synth (3V)",25,{"$f":"E155","v":2065.5855999999999},{"$f":"AVERAGE(F131,F135,F139,F143,F147,F151)","v":40.359833333333334},45.69336666666667,45.742683333333332,null,null,null,null,{"$f":"M155","v":2070.9872},{"$f":"AVERAGE(N131,N135,N139,N143,N147,N151)","v":40.362383333333334},45.692633333333333,45.743116666666658,null,null,null,null,{"$f":"bdrate($E438:$E441,F438:F441,$M438:$M441,N438:N441)","v":2.7111125876355668E-3},{"$f":"bdrate($E438:$E441,G438:G441,$M438:$M441,O438:O441)","v":1.9305674947349694E-3},{"$f":"bdrate($E438:$E441,H438:H441,$M438:$M441,P438:P441)","v":1.8616877526547171E-3},{"$f":"bdrateOld($E438:$E441,F438:F441,$M438:$M441,N438:N441)","v":2.7332258365886375E-3},{"$f":"bdrateOld($E438:$E441,G438:G441,$M438:$M441,O438:O441)","v":1.8952533586391596E-3},{"$f":"bdrateOld($E438:$E441,H438:H441,$M438:$M441,P438:P441)","v":1.8510472974899717E-3}]
[null,null,null,30,{"$f":"E156","v":967.36159999999995},38.117100000000001,43.955500000000001,43.880166666666668,null,null,null,null,{"$f":"M156","v":969.58479999999997},38.119300000000003,43.958033333333333,43.884183333333333]
[null,null,null,35,{"$f":"E157","v":510.74400000000003},35.729466666666667,42.165516666666669,41.964266666666667,null,null,null,null,{"$f":"M157","v":511.77600000000001},35.724800000000002,42.16393333333334,41.962383333333335]
[null,null,null,40,{"$f":"E158","v":291.25200000000001},33.252066666666671,40.794666666666664,40.580849999999998,null,null,null,null,{"$f":"M158","v":291.60879999999997},33.232616666666665,40.795883333333329,40.577833333333331]
[null,null,"all (2V)",25,{"$f":"E434","v":1580.748},{"$f":"AVERAGE(F107,F111,F131,F135,F139)","v":40.574619999999996},44.888999999999996,44.977159999999998,null,null,null,null,{"$f":"M434","v":1583.0312000000001},{"$f":"AVERAGE(N107,N111,N131,N135,N139)","v":40.574019999999997},44.889699999999991,44.976619999999997,null,null,null,null,{"$f":"bdrate($E442:$E445,F442:F445,$M442:$M445,N442:N445)","v":2.556208645653868E-3},{"$f":"bdrate($E442:$E445,G442:G445,$M442:$M445,O442:O445)","v":1.5425770647550241E-3},{"$f":"bdrate($E442:$E445,H442:H445,$M442:$M445,P442:P445)","v":2.2322243359491623E-3},{"$f":"bdrateOld($E442:$E445,F442:F445,$M442:$M445,N442:N445)","v":2.5712578807752795E-3},{"$f":"bdrateOld($E442:$E445,G442:G445,$M442:$M445,O442:O445)","v":1.5114061770222786E-3},{"$f":"bdrateOld($E442:$E445,H442:H445,$M442:$M445,P442:P445)","v":2.2072526340468634E-3}]
[null,null,null,30,756.2016000000001,38.318960000000004,43.222860000000004,43.236339999999998,null,null,null,null,757.17920000000004,38.317120000000003,43.224499999999999,43.234580000000001]
[null,null,null,35,399.7704,35.908839999999998,41.536619999999999,41.453760000000003,null,null,null,null,400.40719999999999,35.90558,41.534000000000006,41.450720000000004]
[null,null,null,40,226.84960000000001,33.450480000000006,40.265979999999999,40.168819999999997,null,null,null,null,227.03120000000001,33.426600000000001,40.263220000000004,40.165880000000001]
[null,null,"all (3V)",25,2065.5855999999999,{"$f":"AVERAGE(F107,F111,F115,F131,F135,F139,F143,F147,F151)","v":40.414355555555552},44.899266666666662,44.938600000000008,null,null,null,null,2070.9872,{"$f":"AVERAGE(N107,N111,N115,N131,N135,N139,N143,N147,N151)","v":40.415533333333329},44.89895555555556,44.939033333333342,null,null,null,null,{"$f":"bdrate($E446:$E449,F446:F449,$M446:$M449,N446:N449)","v":2.6583239575699302E-3},{"$f":"bdrate($E446:$E449,G446:G449,$M446:$M449,O446:O449)","v":1.9658329832672461E-3},{"$f":"bdrate($E446:$E449,H446:H449,$M446:$M449,P446:P449)","v":2.1810976347789168E-3},{"$f":"bdrateOld($E446:$E449,F446:F449,$M446:$M449,N446:N449)","v":2.6732798646200706E-3},{"$f":"bdrateOld($E446:$E449,G446:G449,$M446:$M449,O446:O449)","v":1.9005324578125204E-3},{"$f":"bdrateOld($E446:$E449,H446:H449,$M446:$M449,P446:P449)","v":2.1612662497478841E-3}]
[null,null,null,30,967.36159999999995,38.139077777777779,43.234499999999997,43.164466666666662,null,null,null,null,969.58479999999997,38.140055555555563,43.237877777777783,43.166622222222223]
[null,null,null,35,510.74400000000003,35.728044444444443,41.564088888888897,41.378766666666671,null,null,null,null,511.77600000000001,35.724188888888889,41.561011111111107,41.376522222222228]
[null,null,null,40,291.25200000000001,33.247288888888896,40.298711111111118,40.089355555555557,null,null,null,null,291.60879999999997,33.233977777777774,40.299666666666667,40.086688888888894]
[null,{"$f":"B159","v":"GT_Fly"},"video (2V)",25,{"$f":"E159+E163","v":4233.6296000000002},{"$f":"AVERAGE(F159,F163)","v":39.943800000000003},45.358050000000006,46.193300000000001,null,null,null,null,{"$f":"M159+M163","v":4233.6872000000003},{"$f":"AVERAGE(N159,N163)","v":39.943800000000003},45.357950000000002,46.193300000000001,null,null,null,null,{"$f":"bdrate($E450:$E453,F450:F453,$M450:$M453,N450:N453)","v":4.5219507054383712E-6},{"$f":"bdrate($E450:$E453,G450:G453,$M450:$M453,O450:O453)","v":-1.9733780688202529E-5},{"$f":"bdrate($E450:$E453,H450:H453,$M450:$M453,P450:P453)","v":-7.3308632837498777E-6},{"$f":"bdrateOld($E450:$E453,F450:F453,$M450:$M453,N450:N453)","v":4.2149797538915124E-6},{"$f":"bdrateOld($E450:$E453,G450:G453,$M450:$M453,O450:O453)","v":-1.8873505519989564E-5},{"$f":"bdrateOld($E450:$E453,H450:H453,$M450:$M453,P450:P453)","v":-8.1050951009631333E-6}]
[null,null,null,30,{"$f":"E160+E164","v":1825.5520000000001},37.61365,43.555700000000002,44.373699999999999,null,null,null,null,{"$f":"M160+M164","v":1825.5424},37.61365,43.55585,44.373750000000001]
[null,null,null,35,{"$f":"E161+E165","v":854.49840000000006},35.485299999999995,41.765599999999999,42.591450000000002,null,null,null,null,{"$f":"M161+M165","v":854.50880000000006},35.485299999999995,41.765599999999999,42.591450000000002]
[null,null,null,40,{"$f":"E162+E166","v":415.31199999999995},33.389250000000004,40.634950000000003,41.460149999999999,null,null,null,null,{"$f":"M162+M166","v":415.3064},33.389200000000002,40.634950000000003,41.460149999999999]
[null,null,"video (3V)",25,{"$f":"E159+E163+E167","v":4818.5848000000005},{"$f":"AVERAGE(F159,F163,F167)","v":39.848866666666673},45.327933333333334,46.166433333333337,null,null,null,null,{"$f":"M159+M163+M167","v":4818.7376000000004},{"$f":"AVERAGE(N159,N163,N167)","v":39.848900000000008},45.327866666666665,46.166400000000003,null,null,null,null,{"$f":"bdrate($E454:$E457,F454:F457,$M454:$M457,N454:N457)","v":-1.0810897769442107E-5},{"$f":"bdrate($E454:$E457,G454:G457,$M454:$M457,O454:O457)","v":9.7775377063680224E-6},{"$f":"bdrate($E454:$E457,H454:H457,$M454:$M457,P454:P457)","v":8.0193637244097005E-6},{"$f":"bdrateOld($E454:$E457,F454:F457,$M454:$M457,N454:N457)","v":-1.019748860031644E-5},{"$f":"bdrateOld($E454:$E457,G454:G457,$M454:$M457,O454:O457)","v":1.1093366652170644E-5},{"$f":"bdrateOld($E454:$E457,H454:H457,$M454:$M457,P454:P457)","v":6.8470424714472955E-6}]
[null,null,null,30,{"$f":"E160+E164+E168","v":2049.0655999999999},37.542833333333334,43.535733333333333,44.35646666666667,null,null,null,null,{"$f":"M160+M164+M168","v":2049.1127999999999},37.542866666666669,43.535733333333333,44.356500000000004]
[null,null,null,35,{"$f":"E161+E165+E169","v":958.48720000000003},35.432066666666664,41.752566666666667,42.58003333333334,null,null,null,null,{"$f":"M161+M165+M169","v":958.46560000000011},35.432133333333333,41.752566666666667,42.579966666666671]
[null,null,null,40,{"$f":"E162+E166+E170","v":467.20799999999997},33.345266666666667,40.622700000000002,41.450733333333332,null,null,null,null,{"$f":"M162+M166+M170","v":467.19279999999998},33.345199999999998,40.622700000000002,41.450799999999994]
[null,null,"synth (2V)",25,{"$f":"E159+E163+E171+E175","v":4601.8807999999999},{"$f":"AVERAGE(F183,F187,F191)","v":39.873033333333332},46.505733333333332,46.965499999999999,null,null,null,null,{"$f":"M159+M163+M171+M175","v":4601.9575999999997},{"$f":"AVERAGE(N183,N187,N191)","v":39.873066666666666},46.506100000000004,46.963499999999989,null,null,null,null,{"$f":"bdrate($E458:$E461,F458:F461,$M458:$M461,N458:N461)","v":1.4319874156365486E-4},{"$f":"bdrate($E458:$E461,G458:G461,$M458:$M461,O458:O461)","v":1.6888174720430804E-4},{"$f":"bdrate($E458:$E461,H458:H461,$M458:$M461,P458:P461)","v":5.5399490410112939E-4},{"$f":"bdrateOld($E458:$E461,F458:F461,$M458:$M461,N458:N461)","v":1.4622530147012647E-4},{"$f":"bdrateOld($E458:$E461,G458:G461,$M458:$M461,O458:O461)","v":1.6300098802135565E-4},{"$f":"bdrateOld($E458:$E461,H458:H461,$M458:$M461,P458:P461)","v":5.5395378226164027E-4}]
[null,null,null,30,{"$f":"E160+E164+E172+E176","v":1960.0336000000002},37.636533333333325,44.698733333333337,45.297166666666669,null,null,null,null,{"$f":"M160+M164+M172+M176","v":1960.1424},37.635833333333331,44.697966666666666,45.295833333333327]
[null,null,null,35,{"$f":"E161+E165+E173+E177","v":915.54320000000007},35.53073333333333,42.762633333333333,43.493766666666666,null,null,null,null,{"$f":"M161+M165+M173+M177","v":915.43920000000003},35.5304,42.762266666666669,43.49280000000001]
[null,null,null,40,{"$f":"E162+E166+E174+E178","v":444.32719999999995},33.4358,41.518833333333333,42.283366666666666,null,null,null,null,{"$f":"M162+M166+M174+M178","v":444.23599999999999},33.434699999999999,41.5184,42.283133333333332]
[null,null,"synth (3V)",25,{"$f":"E207","v":5293.8807999999999},{"$f":"AVERAGE(F183,F187,F191,F195,F199,F203)","v":39.857283333333335},46.465933333333332,46.999883333333344,null,null,null,null,{"$f":"M207","v":5294.3464000000004},{"$f":"AVERAGE(N183,N187,N191,N195,N199,N203)","v":39.856316666666665},46.466233333333342,46.998683333333332,null,null,null,null,{"$f":"bdrate($E462:$E465,F462:F465,$M462:$M465,N462:N465)","v":2.1463045463043784E-4},{"$f":"bdrate($E462:$E465,G462:G465,$M462:$M465,O462:O465)","v":1.3669950536132625E-4},{"$f":"bdrate($E462:$E465,H462:H465,$M462:$M465,P462:P465)","v":2.0600177562002386E-4},{"$f":"bdrateOld($E462:$E465,F462:F465,$M462:$M465,N462:N465)","v":2.1638452448047296E-4},{"$f":"bdrateOld($E462:$E465,G462:G465,$M462:$M465,O462:O465)","v":1.3126284649533915E-4},{"$f":"bdrateOld($E462:$E465,H462:H465,$M462:$M465,P462:P465)","v":1.8418876898707026E-4}]
[null,null,null,30,{"$f":"E208","v":2224.5855999999999},37.620499999999993,44.670949999999998,45.302583333333331,null,null,null,null,{"$f":"M208","v":2224.8807999999999},37.619766666666663,44.670849999999994,45.301916666666664]
[null,null,null,35,{"$f":"E209","v":1042.4975999999999},35.516133333333329,42.735849999999999,43.464966666666669,null,null,null,null,{"$f":"M209","v":1042.4151999999999},35.51585,42.735199999999999,43.464383333333338]
[null,null,null,40,{"$f":"E210","v":511.61919999999998},33.416666666666664,41.491999999999997,42.250583333333331,null,null,null,null,{"$f":"M210","v":511.45519999999999},33.415966666666662,41.491633333333333,42.25266666666667]
[null,null,"all (2V)",25,{"$f":"E458","v":4601.8807999999999},{"$f":"AVERAGE(F159,F163,F183,F187,F191)","v":39.901340000000005},46.046660000000003,46.656619999999997,null,null,null,null,{"$f":"M458","v":4601.9575999999997},{"$f":"AVERAGE(N159,N163,N183,N187,N191)","v":39.901360000000004},46.046839999999996,46.655420000000007,null,null,null,null,{"$f":"bdrate($E466:$E469,F466:F469,$M466:$M469,N466:N469)","v":6.9711245721526538E-5},{"$f":"bdrate($E466:$E469,G466:G469,$M466:$M469,O466:O469)","v":8.5502345779087108E-5},{"$f":"bdrate($E466:$E469,H466:H469,$M466:$M469,P466:P469)","v":3.1655584368217582E-4},{"$f":"bdrateOld($E466:$E469,F466:F469,$M466:$M469,N466:N469)","v":7.243147357627322E-5},{"$f":"bdrateOld($E466:$E469,G466:G469,$M466:$M469,O466:O469)","v":8.3580290764384557E-5},{"$f":"bdrateOld($E466:$E469,H466:H469,$M466:$M469,P466:P469)","v":3.1729075381448091E-4}]
[null,null,null,30,1960.0336000000002,37.627379999999995,44.241520000000001,44.927779999999998,null,null,null,null,1960.1424,37.626960000000004,44.241119999999995,44.927]
[null,null,null,35,915.54320000000007,35.512560000000001,42.363819999999997,43.132840000000002,null,null,null,null,915.43920000000003,35.512360000000001,42.363599999999998,43.132259999999995]
[null,null,null,40,444.32719999999995,33.417180000000002,41.165279999999996,41.954079999999998,null,null,null,null,444.23599999999999,33.416499999999999,41.165020000000005,41.953940000000003]
[null,null,"all (3V)",25,5293.8807999999999,{"$f":"AVERAGE(F159,F163,F167,F183,F187,F191,F195,F199,F203)","v":39.854477777777781},46.086599999999997,46.72206666666667,null,null,null,null,5294.3464000000004,{"$f":"AVERAGE(N159,N163,N167,N183,N187,N191,N195,N199,N203)","v":39.853844444444448},46.086777777777769,46.721255555555558,null,null,null,null,{"$f":"bdrate($E470:$E473,F470:F473,$M470:$M473,N470:N473)","v":1.3751176362819528E-4},{"$f":"bdrate($E470:$E473,G470:G473,$M470:$M473,O470:O473)","v":1.0101116769578589E-4},{"$f":"bdrate($E470:$E473,H470:H473,$M470:$M473,P470:P473)","v":1.4543089522911501E-4},{"$f":"bdrateOld($E470:$E473,F470:F473,$M470:$M473,N470:N473)","v":1.3918156303049933E-4},{"$f":"bdrateOld($E470:$E473,G470:G473,$M470:$M473,O470:O473)","v":9.7388916504348444E-5},{"$f":"bdrateOld($E470:$E473,H470:H473,$M470:$M473,P470:P473)","v":1.2832911789861789E-4}]
[null,null,null,30,2224.5855999999999,37.594611111111107,44.292544444444445,44.987211111111108,null,null,null,null,2224.8807999999999,37.594133333333332,44.292477777777776,44.986777777777782]
[null,null,null,35,1042.4975999999999,35.488111111111117,42.408088888888891,43.169988888888888,null,null,null,null,1042.4151999999999,35.487944444444445,42.407655555555557,43.169577777777782]
[null,null,null,40,511.61919999999998,33.392866666666663,41.202233333333339,41.983966666666674,null,null,null,null,511.45519999999999,33.392377777777781,41.201988888888884,41.985377777777778]
[null,{"$f":"B211","v":"Poznan_Hall2"},"video (2V)",25,{"$f":"E211+E215","v":1078.405},{"$f":"AVERAGE(F211,F215)","v":41.9955},48.344499999999996,47.837499999999999,null,null,null,null,{"$f":"M211+M215","v":1078.835},{"$f":"AVERAGE(N211,N215)","v":41.994100000000003},48.337350000000001,47.838750000000005,null,null,null,null,{"$f":"bdrate($E474:$E477,F474:F477,$M474:$M477,N474:N477)","v":1.8385068455624154E-3},{"$f":"bdrate($E474:$E477,G474:G477,$M474:$M477,O474:O477)","v":3.3619099652268947E-3},{"$f":"bdrate($E474:$E477,H474:H477,$M474:$M477,P474:P477)","v":-1.6958472645375311E-3},{"$f":"bdrateOld($E474:$E477,F474:F477,$M474:$M477,N474:N477)","v":1.8825851908403912E-3},{"$f":"bdrateOld($E474:$E477,G474:G477,$M474:$M477,O474:O477)","v":3.2245431043520512E-3},{"$f":"bdrateOld($E474:$E477,H474:H477,$M474:$M477,P474:P477)","v":-1.6342595560339124E-3}]
[null,null,null,30,{"$f":"E212+E216","v":454.51799999999997},41.011099999999999,47.351950000000002,46.984549999999999,null,null,null,null,{"$f":"M212+M216","v":454.79399999999998},41.0105,47.352450000000005,46.991199999999999]
[null,null,null,35,{"$f":"E213+E217","v":236.65199999999999},39.61,46.066949999999999,45.8187,null,null,null,null,{"$f":"M213+M217","v":236.864},39.607349999999997,46.058099999999996,45.821550000000002]
[null,null,null,40,{"$f":"E214+E218","v":132.38200000000001},37.890650000000001,45.10765,44.960099999999997,null,null,null,null,{"$f":"M214+M218","v":132.65699999999998},37.887349999999998,45.108350000000002,44.957850000000001]
[null,null,"video (3V)",25,{"$f":"E211+E215+E219","v":1356.557},{"$f":"AVERAGE(F211,F215,F219)","v":41.900933333333334},48.000266666666668,47.469166666666666,null,null,null,null,{"$f":"M211+M215+M219","v":1357.8589999999999},{"$f":"AVERAGE(N211,N215,N219)","v":41.899966666666671},47.994766666666671,47.466666666666669,null,null,null,null,{"$f":"bdrate($E478:$E481,F478:F481,$M478:$M481,N478:N481)","v":2.2706922680677533E-3},{"$f":"bdrate($E478:$E481,G478:G481,$M478:$M481,O478:O481)","v":1.8274613127478023E-3},{"$f":"bdrate($E478:$E481,H478:H481,$M478:$M481,P478:P481)","v":-9.6566374361761742E-4},{"$f":"bdrateOld($E478:$E481,F478:F481,$M478:$M481,N478:N481)","v":2.1954913918327268E-3},{"$f":"bdrateOld($E478:$E481,G478:G481,$M478:$M481,O478:O481)","v":1.829095474026321E-3},{"$f":"bdrateOld($E478:$E481,H478:H481,$M478:$M481,P478:P481)","v":-8.3234589379521662E-4}]
[null,null,null,30,{"$f":"E212+E216+E220","v":566.62199999999996},40.935300000000005,47.054766666666666,46.580233333333332,null,null,null,null,{"$f":"M212+M216+M220","v":567.13},40.933533333333337,47.058,46.585100000000004]
[null,null,null,35,{"$f":"E213+E217+E221","v":295.96899999999999},39.551299999999998,45.886599999999994,45.484033333333336,null,null,null,null,{"$f":"M213+M217+M221","v":296.202},39.547899999999998,45.882966666666668,45.488366666666671]
[null,null,null,40,{"$f":"E214+E218+E222","v":165.494},37.839199999999998,44.9666,44.639533333333333,null,null,null,null,{"$f":"M214+M218+M222","v":165.904},37.836966666666662,44.964200000000005,44.638066666666667]
[null,null,"synth (2V)",25,{"$f":"E211+E215+E223+E227","v":1198.7190000000001},{"$f":"AVERAGE(F235,F239,F243)","v":43.162433333333333},48.880099999999999,48.271333333333331,null,null,null,null,{"$f":"M211+M215+M223+M227","v":1199.713},{"$f":"AVERAGE(N235,N239,N243)","v":43.159400000000005},48.895433333333337,48.254533333333335,null,null,null,null,{"$f":"bdrate($E482:$E485,F482:F485,$M482:$M485,N482:N485)","v":1.9308094160137568E-3},{"$f":"bdrate($E482:$E485,G482:G485,$M482:$M485,O482:O485)","v":4.3502353756330603E-3},{"$f":"bdrate($E482:$E485,H482:H485,$M482:$M485,P482:P485)","v":7.2960020510384194E-3},{"$f":"bdrateOld($E482:$E485,F482:F485,$M482:$M485,N482:N485)","v":2.0056810682125281E-3},{"$f":"bdrateOld($E482:$E485,G482:G485,$M482:$M485,O482:O485)","v":4.3526803738136444E-3},{"$f":"bdrateOld($E482:$E485,H482:H485,$M482:$M485,P482:P485)","v":7.4184586199861347E-3}]
[null,null,null,30,{"$f":"E212+E216+E224+E228","v":505.57299999999998},41.968366666666668,47.883700000000005,47.383333333333333,null,null,null,null,{"$f":"M212+M216+M224+M228","v":506.05599999999998},41.966633333333334,47.863100000000003,47.367533333333334]
[null,null,null,35,{"$f":"E213+E217+E225+E229","v":263.57900000000001},40.375066666666669,46.513299999999994,46.198299999999996,null,null,null,null,{"$f":"M213+M217+M225+M229","v":263.79500000000002},40.374799999999993,46.513599999999997,46.199199999999998]
[null,null,null,40,{"$f":"E214+E218+E226+E230","v":148.15400000000002},38.47226666666667,45.476599999999998,45.305700000000002,null,null,null,null,{"$f":"M214+M218+M226+M230","v":148.45699999999999},38.464733333333328,45.474333333333334,45.306366666666669]
[null,null,"synth (3V)",25,{"$f":"E259","v":1531.472},{"$f":"AVERAGE(F235,F239,F243,F247,F251,F255)","v":43.216883333333335},48.720366666666671,48.556966666666661,null,null,null,null,{"$f":"M259","v":1533.808},{"$f":"AVERAGE(N235,N239,N243,N247,N251,N255)","v":43.214516666666668},48.728566666666666,48.546950000000002,null,null,null,null,{"$f":"bdrate($E486:$E489,F486:F489,$M486:$M489,N486:N489)","v":2.3079260382707911E-3},{"$f":"bdrate($E486:$E489,G486:G489,$M486:$M489,O486:O489)","v":3.7295537882087171E-3},{"$f":"bdrate($E486:$E489,H486:H489,$M486:$M489,P486:P489)","v":-1.62986428472367E-3},{"$f":"bdrateOld($E486:$E489,F486:F489,$M486:$M489,N486:N489)","v":2.2919310716624786E-3},{"$f":"bdrateOld($E486:$E489,G486:G489,$M486:$M489,O486:O489)","v":3.4389405004779938E-3},{"$f":"bdrateOld($E486:$E489,H486:H489,$M486:$M489,P486:P489)","v":-1.4335525252746617E-3}]
[null,null,null,30,{"$f":"E260","v":643.55100000000004},42.037883333333333,47.735433333333333,47.595433333333339,null,null,null,null,{"$f":"M260","v":644.50599999999997},42.03521666666667,47.72528333333333,47.60864999999999]
[null,null,null,35,{"$f":"E261","v":339.61599999999999},40.45888333333334,46.445683333333335,46.425583333333329,null,null,null,null,{"$f":"M261","v":339.89400000000001},40.458083333333327,46.438733333333339,46.429733333333331]
[null,null,null,40,{"$f":"E262","v":194.03100000000001},38.550566666666668,45.407150000000001,45.500300000000003,null,null,null,null,{"$f":"M262","v":194.499},38.545133333333325,45.415633333333339,45.496950000000005]
[null,null,"all (2V)",25,{"$f":"E482","v":1198.7190000000001},{"$f":"AVERAGE(F211,F215,F235,F239,F243)","v":42.695660000000004},48.665859999999995,48.097799999999992,null,null,null,null,{"$f":"M482","v":1199.713},{"$f":"AVERAGE(N211,N215,N235,N239,N243)","v":42.693280000000001},48.672199999999997,48.088219999999993,null,null,null,null,{"$f":"bdrate($E490:$E493,F490:F493,$M490:$M493,N490:N493)","v":1.9294877236506469E-3},{"$f":"bdrate($E490:$E493,G490:G493,$M490:$M493,O490:O493)","v":4.0156726836704237E-3},{"$f":"bdrate($E490:$E493,H490:H493,$M490:$M493,P490:P493)","v":3.8140227557732498E-3},{"$f":"bdrateOld($E490:$E493,F490:F493,$M490:$M493,N490:N493)","v":1.9940460321279385E-3},{"$f":"bdrateOld($E490:$E493,G490:G493,$M490:$M493,O490:O493)","v":3.9537601479311402E-3},{"$f":"bdrateOld($E490:$E493,H490:H493,$M490:$M493,P490:P493)","v":3.9204049914978167E-3}]
[null,null,null,30,505.57299999999998,41.585459999999998,47.671000000000006,47.223819999999996,null,null,null,null,506.05599999999998,41.584179999999996,47.658840000000005,47.216999999999999]
[null,null,null,35,263.57900000000001,40.069040000000001,46.334759999999996,46.046460000000003,null,null,null,null,263.79500000000002,40.067819999999998,46.331399999999995,46.048140000000004]
[null,null,null,40,148.15400000000002,38.239620000000002,45.32902,45.167459999999991,null,null,null,null,148.45699999999999,38.233779999999996,45.327939999999998,45.166960000000003]
[null,null,"all (3V)",25,1531.472,{"$f":"AVERAGE(F211,F215,F219,F235,F239,F243,F247,F251,F255)","v":42.778233333333333},48.480333333333334,48.194366666666667,null,null,null,null,1533.808,{"$f":"AVERAGE(N211,N215,N219,N235,N239,N243,N247,N251,N255)","v":42.776333333333326},48.483966666666667,48.186855555555553,null,null,null,null,{"$f":"bdrate($E494:$E497,F494:F497,$M494:$M497,N494:N497)","v":2.3549601064625225E-3},{"$f":"bdrate($E494:$E497,G494:G497,$M494:$M497,O494:O497)","v":3.2158347275668131E-3},{"$f":"bdrate($E494:$E497,H494:H497,$M494:$M497,P494:P497)","v":-1.3120491302602844E-3},{"$f":"bdrateOld($E494:$E497,F494:F497,$M494:$M497,N494:N497)","v":2.3216942888528713E-3},{"$f":"bdrateOld($E494:$E497,G494:G497,$M494:$M497,O494:O497)","v":3.0169863339442049E-3},{"$f":"bdrateOld($E494:$E497,H494:H497,$M494:$M497,P494:P497)","v":-1.1375115195828567E-3}]
[null,null,null,30,643.55100000000004,41.670355555555552,47.508544444444446,47.257033333333332,null,null,null,null,644.50599999999997,41.667988888888885,47.502855555555556,47.267466666666664]
[null,null,null,35,339.61599999999999,40.156355555555557,46.259322222222217,46.111733333333341,null,null,null,null,339.89400000000001,40.154688888888892,46.253477777777775,46.115944444444438]
[null,null,null,40,194.03100000000001,38.31344444444445,45.260300000000001,45.213377777777772,null,null,null,null,194.499,38.30907777777778,45.265155555555559,45.210655555555554]
[null,{"$f":"B263","v":"Poznan_Street"},"video (2V)",25,{"$f":"E263+E267","v":3173.1376},{"$f":"AVERAGE(F263,F267)","v":39.42745},46.686099999999996,45.421350000000004,null,null,null,null,{"$f":"M263+M267","v":3173.8927999999996},{"$f":"AVERAGE(N263,N267)","v":39.42745},46.682450000000003,45.423000000000002,null,null,null,null,{"$f":"bdrate($E498:$E501,F498:F501,$M498:$M501,N498:N501)","v":4.2593622003828102E-4},{"$f":"bdrate($E498:$E501,G498:G501,$M498:$M501,O498:O501)","v":8.5343262512127538E-4},{"$f":"bdrate($E498:$E501,H498:H501,$M498:$M501,P498:P501)","v":-8.0523884590999462E-4},{"$f":"bdrateOld($E498:$E501,F498:F501,$M498:$M501,N498:N501)","v":4.2344540311423096E-4},{"$f":"bdrateOld($E498:$E501,G498:G501,$M498:$M501,O498:O501)","v":9.1675573424843115E-4},{"$f":"bdrateOld($E498:$E501,H498:H501,$M498:$M501,P498:P501)","v":-8.4251399333923338E-4}]
[null,null,null,30,{"$f":"E264+E268","v":1174.4416000000001},37.5319,45.327399999999997,43.948050000000002,null,null,null,null,{"$f":"M264+M268","v":1175.3800000000001},37.532499999999999,45.325949999999999,43.9529]
[null,null,null,35,{"$f":"E265+E269","v":551.39840000000004},35.588949999999997,43.764499999999998,42.460850000000001,null,null,null,null,{"$f":"M265+M269","v":551.51760000000002},35.588449999999995,43.766450000000006,42.45975]
[null,null,null,40,{"$f":"E266+E270","v":283.03120000000001},33.550699999999999,42.649550000000005,41.470050000000001,null,null,null,null,{"$f":"M266+M270","v":283.1472},33.550699999999999,42.6494,41.47195]
[null,null,"video (3V)",25,{"$f":"E263+E267+E271","v":3904.1872000000003},{"$f":"AVERAGE(F263,F267,F271)","v":39.262233333333334},46.62446666666667,45.676766666666673,null,null,null,null,{"$f":"M263+M267+M271","v":3906.4839999999995},{"$f":"AVERAGE(N263,N267,N271)","v":39.261733333333332},46.620833333333337,45.677833333333332,null,null,null,null,{"$f":"bdrate($E502:$E505,F502:F505,$M502:$M505,N502:N505)","v":9.800411158493727E-4},{"$f":"bdrate($E502:$E505,G502:G505,$M502:$M505,O502:O505)","v":9.6243211701363407E-4},{"$f":"bdrate($E502:$E505,H502:H505,$M502:$M505,P502:P505)","v":-9.2099228622632978E-5},{"$f":"bdrateOld($E502:$E505,F502:F505,$M502:$M505,N502:N505)","v":9.8705525896991553E-4},{"$f":"bdrateOld($E502:$E505,G502:G505,$M502:$M505,O502:O505)","v":1.0374437743367881E-3},{"$f":"bdrateOld($E502:$E505,H502:H505,$M502:$M505,P502:P505)","v":-1.5716909406349178E-4}]
[null,null,null,30,{"$f":"E264+E268+E272","v":1390.5896},37.345799999999997,45.265533333333337,44.231699999999996,null,null,null,null,{"$f":"M264+M268+M272","v":1391.5808000000002},37.346133333333334,45.265466666666669,44.235399999999998]
[null,null,null,35,{"$f":"E265+E269+E273","v":641.30560000000003},35.395466666666664,43.739333333333327,42.7331,null,null,null,null,{"$f":"M265+M269+M273","v":642.17280000000005},35.394633333333331,43.741700000000002,42.732100000000003]
[null,null,null,40,{"$f":"E266+E270+E274","v":323.64080000000001},33.372399999999999,42.631733333333337,41.714966666666669,null,null,null,null,{"$f":"M266+M270+M274","v":323.74239999999998},33.372599999999998,42.63,41.716533333333331]
[null,null,"synth (2V)",25,{"$f":"E263+E267+E275+E279","v":3433.9760000000001},{"$f":"AVERAGE(F287,F291,F295)","v":40.424933333333335},47.027566666666665,46.782033333333324,null,null,null,null,{"$f":"M263+M267+M275+M279","v":3434.2079999999996},{"$f":"AVERAGE(N287,N291,N295)","v":40.4238},47.050900000000006,46.778866666666666,null,null,null,null,{"$f":"bdrate($E506:$E509,F506:F509,$M506:$M509,N506:N509)","v":6.9416150429191248E-4},{"$f":"bdrate($E506:$E509,G506:G509,$M506:$M509,O506:O509)","v":-1.9613583505588839E-3},{"$f":"bdrate($E506:$E509,H506:H509,$M506:$M509,P506:P509)","v":5.9082432250834316E-4},{"$f":"bdrateOld($E506:$E509,F506:F509,$M506:$M509,N506:N509)","v":6.9235414893298319E-4},{"$f":"bdrateOld($E506:$E509,G506:G509,$M506:$M509,O506:O509)","v":-2.2126394984405273E-3},{"$f":"bdrateOld($E506:$E509,H506:H509,$M506:$M509,P506:P509)","v":6.476629924372368E-4}]
[null,null,null,30,{"$f":"E264+E268+E276+E280","v":1256.3256000000001},38.257733333333334,45.653266666666667,45.212700000000005,null,null,null,null,{"$f":"M264+M268+M276+M280","v":1257.2216000000001},38.257399999999997,45.661099999999998,45.212899999999998]
[null,null,null,35,{"$f":"E265+E269+E277+E281","v":588.9448000000001},36.144399999999997,44.012833333333333,43.618933333333331,null,null,null,null,{"$f":"M265+M269+M277+M281","v":588.95360000000005},36.14223333333333,44.002433333333336,43.619166666666672]
[null,null,null,40,{"$f":"E266+E270+E278+E282","v":303.11040000000003},33.971066666666665,42.870433333333331,42.543799999999997,null,null,null,null,{"$f":"M266+M270+M278+M282","v":303.10000000000002},33.970333333333336,42.869599999999998,42.543200000000006]
[null,null,"synth (3V)",25,{"$f":"E311","v":4284.4128000000001},{"$f":"AVERAGE(F287,F291,F295,F299,F303,F307)","v":40.3827},46.969383333333333,46.789616666666667,null,null,null,null,{"$f":"M311","v":4285.616},{"$f":"AVERAGE(N287,N291,N295,N299,N303,N307)","v":40.382216666666665},46.975533333333338,46.789733333333338,null,null,null,null,{"$f":"bdrate($E510:$E513,F510:F513,$M510:$M513,N510:N513)","v":1.226751981040497E-3},{"$f":"bdrate($E510:$E513,G510:G513,$M510:$M513,O510:O513)","v":5.0257239678641596E-4},{"$f":"bdrate($E510:$E513,H510:H513,$M510:$M513,P510:P513)","v":1.23849354077743E-3},{"$f":"bdrateOld($E510:$E513,F510:F513,$M510:$M513,N510:N513)","v":1.221253885582696E-3},{"$f":"bdrateOld($E510:$E513,G510:G513,$M510:$M513,O510:O513)","v":4.5253975263581658E-4},{"$f":"bdrateOld($E510:$E513,H510:H513,$M510:$M513,P510:P513)","v":1.1608500643403019E-3}]
[null,null,null,30,{"$f":"E312","v":1509.5752},38.192183333333332,45.580300000000001,45.216150000000006,null,null,null,null,{"$f":"M312","v":1510.64},38.191099999999999,45.582333333333331,45.214783333333337]
[null,null,null,35,{"$f":"E313","v":698.62800000000004},36.064699999999995,43.943533333333335,43.569916666666664,null,null,null,null,{"$f":"M313","v":699.18},36.061416666666666,43.939316666666663,43.567500000000003]
[null,null,null,40,{"$f":"E314","v":357.01839999999999},33.882149999999996,42.795350000000006,42.442900000000002,null,null,null,null,{"$f":"M314","v":356.91039999999998},33.880366666666667,42.790649999999999,42.444316666666673]
[null,null,"all (2V)",25,{"$f":"E506","v":3433.9760000000001},{"$f":"AVERAGE(F263,F267,F287,F291,F295)","v":40.025940000000006},46.890979999999999,46.237760000000002,null,null,null,null,{"$f":"M506","v":3434.2079999999996},{"$f":"AVERAGE(N263,N267,N287,N291,N295)","v":40.025259999999996},46.90352,46.236519999999999,null,null,null,null,{"$f":"bdrate($E514:$E517,F514:F517,$M514:$M517,N514:N517)","v":5.2195247738473505E-4},{"$f":"bdrate($E514:$E517,G514:G517,$M514:$M517,O514:O517)","v":-9.3660298053344082E-4},{"$f":"bdrate($E514:$E517,H514:H517,$M514:$M517,P514:P517)","v":-1.1953372855533217E-5},{"$f":"bdrateOld($E514:$E517,F514:F517,$M514:$M517,N514:N517)","v":5.2013766421321606E-4},{"$f":"bdrateOld($E514:$E517,G514:G517,$M514:$M517,O514:O517)","v":-1.069988539888822E-3},{"$f":"bdrateOld($E514:$E517,H514:H517,$M514:$M517,P514:P517)","v":8.549632759979886E-6}]
[null,null,null,30,1256.3256000000001,37.967399999999998,45.522919999999999,44.706840000000007,null,null,null,null,1257.2216000000001,37.967439999999996,45.52704,44.7089]
[null,null,null,35,588.9448000000001,35.922219999999996,43.913499999999999,43.155699999999996,null,null,null,null,588.95360000000005,35.920719999999996,43.90804,43.1554]
[null,null,null,40,303.11040000000003,33.80292,42.782080000000001,42.1143,null,null,null,null,303.10000000000002,33.802480000000003,42.78152,42.114699999999999]
[null,null,"all (3V)",25,4284.4128000000001,{"$f":"AVERAGE(F263,F267,F271,F287,F291,F295,F299,F303,F307)","v":40.009211111111114},46.854411111111105,46.418666666666667,null,null,null,null,4285.616,{"$f":"AVERAGE(N263,N267,N271,N287,N291,N295,N299,N303,N307)","v":40.008722222222218},46.857300000000002,46.419099999999993,null,null,null,null,{"$f":"bdrate($E518:$E521,F518:F521,$M518:$M521,N518:N521)","v":1.0450203085867749E-3},{"$f":"bdrate($E518:$E521,G518:G521,$M518:$M521,O518:O521)","v":5.5462708329412358E-4},{"$f":"bdrate($E518:$E521,H518:H521,$M518:$M521,P518:P521)","v":7.2963359873434719E-4},{"$f":"bdrateOld($E518:$E521,F518:F521,$M518:$M521,N518:N521)","v":1.0422578158644225E-3},{"$f":"bdrateOld($E518:$E521,G518:G521,$M518:$M521,O518:O521)","v":5.4626979473204607E-4},{"$f":"bdrateOld($E518:$E521,H518:H521,$M518:$M521,P518:P521)","v":6.5856985328860418E-4}]
[null,null,null,30,1509.5752,37.910055555555545,45.475377777777773,44.888000000000005,null,null,null,null,1510.64,37.909444444444439,45.476711111111115,44.888322222222222]
[null,null,null,35,698.62800000000004,35.84162222222222,43.875466666666675,43.290977777777783,null,null,null,null,699.18,35.83915555555555,43.873444444444445,43.289033333333336]
[null,null,null,40,357.01839999999999,33.71223333333333,42.740811111111114,42.200255555555557,null,null,null,null,356.91039999999998,33.711111111111109,42.737100000000005,42.201722222222223]
[null,{"$f":"B315","v":"Undo_Dancer"},"video (2V)",25,{"$f":"E315+E319","v":5532.5151999999998},{"$f":"AVERAGE(F315,F319)","v":38.356949999999998},46.5837,45.926000000000002,null,null,null,null,{"$f":"M315+M319","v":5532.9808000000003},{"$f":"AVERAGE(N315,N319)","v":38.356949999999998},46.582800000000006,45.926749999999998,null,null,null,null,{"$f":"bdrate($E522:$E525,F522:F525,$M522:$M525,N522:N525)","v":3.9514005529595053E-5},{"$f":"bdrate($E522:$E525,G522:G525,$M522:$M525,O522:O525)","v":-1.9381547844499192E-4},{"$f":"bdrate($E522:$E525,H522:H525,$M522:$M525,P522:P525)","v":-1.5589934066773115E-4},{"$f":"bdrateOld($E522:$E525,F522:F525,$M522:$M525,N522:N525)","v":4.2777605935517826E-5},{"$f":"bdrateOld($E522:$E525,G522:G525,$M522:$M525,O522:O525)","v":-1.9346628560690249E-4},{"$f":"bdrateOld($E522:$E525,H522:H525,$M522:$M525,P522:P525)","v":-1.2848286231137429E-4}]
[null,null,null,30,{"$f":"E316+E320","v":2343.7640000000001},35.624650000000003,45.142499999999998,44.577399999999997,null,null,null,null,{"$f":"M316+M320","v":2343.3624},35.623649999999998,45.143500000000003,44.577849999999998]
[null,null,null,35,{"$f":"E317+E321","v":1075.3128000000002},33.16995,43.853549999999998,43.41525,null,null,null,null,{"$f":"M317+M321","v":1075.3512000000001},33.170249999999996,43.853149999999999,43.415149999999997]
[null,null,null,40,{"$f":"E318+E322","v":506.80079999999998},30.935549999999999,43.148350000000001,42.7883,null,null,null,null,{"$f":"M318+M322","v":506.65279999999996},30.934950000000001,43.148499999999999,42.787100000000002]
[null,null,"video (3V)",25,{"$f":"E315+E319+E323","v":6422.4951999999994},{"$f":"AVERAGE(F315,F319,F323)","v":38.283166666666666},46.553433333333338,45.864033333333339,null,null,null,null,{"$f":"M315+M319+M323","v":6423.0416000000005},{"$f":"AVERAGE(N315,N319,N323)","v":38.283299999999997},46.552700000000009,45.864133333333335,null,null,null,null,{"$f":"bdrate($E526:$E529,F526:F529,$M526:$M529,N526:N529)","v":1.2040214541642058E-4},{"$f":"bdrate($E526:$E529,G526:G529,$M526:$M529,O526:O529)","v":3.7562691717374364E-4},{"$f":"bdrate($E526:$E529,H526:H529,$M526:$M529,P526:P529)","v":1.4583404965851088E-4},{"$f":"bdrateOld($E526:$E529,F526:F529,$M526:$M529,N526:N529)","v":1.2090906540773716E-4},{"$f":"bdrateOld($E526:$E529,G526:G529,$M526:$M529,O526:O529)","v":3.3906067735944845E-4},{"$f":"bdrateOld($E526:$E529,H526:H529,$M526:$M529,P526:P529)","v":1.2679375127500059E-4}]
[null,null,null,30,{"$f":"E316+E320+E324","v":2675.2064},35.598633333333332,45.116733333333336,44.523299999999999,null,null,null,null,{"$f":"M316+M320+M324","v":2675.4047999999998},35.598166666666664,45.116500000000002,44.523466666666671]
[null,null,null,35,{"$f":"E317+E321+E325","v":1227.2424000000001},33.167033333333336,43.835100000000004,43.377966666666673,null,null,null,null,{"$f":"M317+M321+M325","v":1227.6496},33.167666666666662,43.834633333333329,43.377800000000001]
[null,null,null,40,{"$f":"E318+E322+E326","v":581.27359999999999},30.938800000000001,43.131433333333327,42.751100000000001,null,null,null,null,{"$f":"M318+M322+M326","v":581.00879999999995},30.937966666666668,43.131266666666669,42.75053333333333]
[null,null,"synth (2V)",25,{"$f":"E315+E319+E327+E331","v":5811.6855999999998},{"$f":"AVERAGE(F339,F343,F347)","v":38.640866666666668},46.905400000000007,46.3157,null,null,null,null,{"$f":"M315+M319+M327+M331","v":5812.0680000000002},{"$f":"AVERAGE(N339,N343,N347)","v":38.681233333333331},46.910800000000002,46.296799999999998,null,null,null,null,{"$f":"bdrate($E530:$E533,F530:F533,$M530:$M533,N530:N533)","v":-1.6264108885318818E-3},{"$f":"bdrate($E530:$E533,G530:G533,$M530:$M533,O530:O533)","v":2.6416447203385651E-3},{"$f":"bdrate($E530:$E533,H530:H533,$M530:$M533,P530:P533)","v":1.6089811648274388E-3},{"$f":"bdrateOld($E530:$E533,F530:F533,$M530:$M533,N530:N533)","v":-1.5796542295077876E-3},{"$f":"bdrateOld($E530:$E533,G530:G533,$M530:$M533,O530:O533)","v":1.7156062150807116E-3},{"$f":"bdrateOld($E530:$E533,H530:H533,$M530:$M533,P530:P533)","v":1.7486762786338428E-3}]
[null,null,null,30,{"$f":"E316+E320+E328+E332","v":2476.8407999999999},35.834466666666664,45.462799999999994,44.875033333333334,null,null,null,null,{"$f":"M316+M320+M328+M332","v":2476.46},35.834333333333326,45.458866666666665,44.878399999999999]
[null,null,null,35,{"$f":"E317+E321+E329+E333","v":1147.0168000000003},33.299300000000002,44.194633333333336,43.709099999999999,null,null,null,null,{"$f":"M317+M321+M329+M333","v":1146.8672000000001},33.298133333333332,44.184366666666669,43.705166666666663]
[null,null,null,40,{"$f":"E318+E322+E330+E334","v":544.76080000000002},30.980266666666665,43.489299999999993,43.0139,null,null,null,null,{"$f":"M318+M322+M330+M334","v":544.58159999999998},30.979166666666668,43.491800000000005,43.013466666666666]
[null,null,"synth (3V)",25,{"$f":"E363","v":6794.7352000000001},{"$f":"AVERAGE(F339,F343,F347,F351,F355,F359)","v":38.640383333333332},46.81078333333334,46.368099999999998,null,null,null,null,{"$f":"M363","v":6794.9831999999997},{"$f":"AVERAGE(N339,N343,N347,N351,N355,N359)","v":38.661349999999999},46.80628333333334,46.360300000000002,null,null,null,null,{"$f":"bdrate($E534:$E537,F534:F537,$M534:$M537,N534:N537)","v":-9.2588531458226431E-4},{"$f":"bdrate($E534:$E537,G534:G537,$M534:$M537,O534:O537)","v":1.7208649262101527E-3},{"$f":"bdrate($E534:$E537,H534:H537,$M534:$M537,P534:P537)","v":-1.1843707768954825E-4},{"$f":"bdrateOld($E534:$E537,F534:F537,$M534:$M537,N534:N537)","v":-9.0205562924849936E-4},{"$f":"bdrateOld($E534:$E537,G534:G537,$M534:$M537,O534:O537)","v":1.6420416472726629E-3},{"$f":"bdrateOld($E534:$E537,H534:H537,$M534:$M537,P534:P537)","v":-2.4723039815288672E-4}]
[null,null,null,30,{"$f":"E364","v":2854.04},35.864683333333332,45.340200000000003,44.90841666666666,null,null,null,null,{"$f":"M364","v":2854.2856000000002},35.864333333333327,45.336716666666668,44.917466666666662]
[null,null,null,35,{"$f":"E365","v":1326.5463999999999},33.323633333333333,44.042183333333334,43.669600000000003,null,null,null,null,{"$f":"M365","v":1326.8312000000001},33.324866666666665,44.040933333333328,43.66193333333333]
[null,null,null,40,{"$f":"E366","v":637.46879999999999},31.00515,43.348833333333324,42.994549999999997,null,null,null,null,{"$f":"M366","v":637.28399999999999},31.005416666666665,43.349449999999997,42.996083333333331]
[null,null,"all (2V)",25,{"$f":"E530","v":5811.6855999999998},{"$f":"AVERAGE(F315,F319,F339,F343,F347)","v":38.527299999999997},46.776719999999997,46.159820000000003,null,null,null,null,{"$f":"M530","v":5812.0680000000002},{"$f":"AVERAGE(N315,N319,N339,N343,N347)","v":38.551519999999996},46.779600000000002,46.148779999999995,null,null,null,null,{"$f":"bdrate($E538:$E541,F538:F541,$M538:$M541,N538:N541)","v":-1.0032225197341704E-3},{"$f":"bdrate($E538:$E541,G538:G541,$M538:$M541,O538:O541)","v":1.4830182464453667E-3},{"$f":"bdrate($E538:$E541,H538:H541,$M538:$M541,P538:P541)","v":9.2946764513901492E-4},{"$f":"bdrateOld($E538:$E541,F538:F541,$M538:$M541,N538:N541)","v":-9.7253851406586822E-4},{"$f":"bdrateOld($E538:$E541,G538:G541,$M538:$M541,O538:O541)","v":9.4661200699430736E-4},{"$f":"bdrateOld($E538:$E541,H538:H541,$M538:$M541,P538:P541)","v":1.1017475031682711E-3}]
[null,null,null,30,2476.8407999999999,35.750540000000001,45.334679999999999,44.755980000000001,null,null,null,null,2476.46,35.750059999999998,45.332719999999995,44.758179999999996]
[null,null,null,35,1147.0168000000003,33.24756,44.058199999999999,43.591560000000001,null,null,null,null,1146.8672000000001,33.246979999999994,44.051880000000004,43.589160000000007]
[null,null,null,40,544.76080000000002,30.962379999999996,43.352919999999997,42.923659999999998,null,null,null,null,544.58159999999998,30.961480000000002,43.354479999999995,42.922920000000005]
[null,null,"all (3V)",25,6794.7352000000001,{"$f":"AVERAGE(F315,F319,F323,F339,F343,F347,F351,F355,F359)","v":38.52131111111111},46.724999999999994,46.200077777777771,null,null,null,null,6794.9831999999997,{"$f":"AVERAGE(N315,N319,N323,N339,N343,N347,N351,N355,N359)","v":38.535333333333341},46.721755555555561,46.194911111111111,null,null,null,null,{"$f":"bdrate($E542:$E545,F542:F545,$M542:$M545,N542:N545)","v":-5.9541685479225226E-4},{"$f":"bdrate($E542:$E545,G542:G545,$M542:$M545,O542:O545)","v":1.2660328171416602E-3},{"$f":"bdrate($E542:$E545,H542:H545,$M542:$M545,P542:P545)","v":-4.3895149417383372E-5},{"$f":"bdrateOld($E542:$E545,F542:F545,$M542:$M545,N542:N545)","v":-5.7677720264093235E-4},{"$f":"bdrateOld($E542:$E545,G542:G545,$M542:$M545,O542:O545)","v":1.2080985083948725E-3},{"$f":"bdrateOld($E542:$E545,H542:H545,$M542:$M545,P542:P545)","v":-1.4350362696713415E-4}]
[null,null,null,30,2854.04,35.776000000000003,45.265711111111116,44.780044444444435,null,null,null,null,2854.2856000000002,35.775611111111111,45.263311111111108,44.786133333333339]
[null,null,null,35,1326.5463999999999,33.271433333333334,43.973155555555557,43.572388888888895,null,null,null,null,1326.8312000000001,33.272466666666666,43.972166666666666,43.56722222222222]
[null,null,null,40,637.46879999999999,30.983033333333335,43.276366666666661,42.913399999999996,null,null,null,null,637.28399999999999,30.982933333333335,43.276722222222219,42.914233333333328]