{"text_format":"1","workbook":"xlsx","n_sheets":2,"sheets":["summary (auto)","experimental data"],"not_rendered":{"charts":0,"images":0,"macros":1,"external_links":0,"defined_names":0,"comments":0,"pivot_tables":0},"unopened":[],"bounds":{"document_bytes":16777216,"sheet_cells":100000,"rows_first":2000,"rows_last":500,"rows_between":2000,"halvings":0,"cell_chars":16384,"cell_head_chars":4096},"cells_cut":0,"cells_raw":0,"read":"whole","date_system":"1900"}

{"sheet":"summary (auto)","index":0,"n_rows":31,"n_cols":11,"rows_kept":31,"cut":false,"hidden":false,"merged":[]}
[]
[null,"3 view test case"]
[]
[null,null,"video 0","video 1","video 2","video PSNR / video bitrate","video PSNR / total bitrate","synth PSNR / total bitrate ","enc time","dec time","ren time"]
[null,{"$f":"'experimental data'!B3","v":"Balloons"},{"$f":"'experimental data'!U3","v":0},{"$f":"'experimental data'!U7","v":2.537880125758285E-3},{"$f":"'experimental data'!U11","v":-2.3458583183466608E-4},{"$f":"'experimental data'!U434","v":2.150931162696601E-4},{"$f":"bdrate('experimental data'!E450:E453,'experimental data'!F434:F437,'experimental data'!M450:M453,'experimental data'!N434:N437)","v":1.3065828286484837E-4},{"$f":"'experimental data'!U442","v":-5.0938222982088721E-4},{"$f":"'experimental data'!Y51","v":0.99589502328038526},{"$f":"'experimental data'!Z51","v":0.97693624696759218},{"$f":"'experimental data'!AA51","v":1.0082831583034688}]
[null,{"$f":"'experimental data'!B55","v":"Kendo"},{"$f":"'experimental data'!U55","v":0},{"$f":"'experimental data'!U59","v":1.2082418429808506E-3},{"$f":"'experimental data'!U63","v":1.5075100246073614E-3},{"$f":"'experimental data'!U458","v":4.562406429933219E-4},{"$f":"bdrate('experimental data'!E474:E477,'experimental data'!F458:F461,'experimental data'!M474:M477,'experimental data'!N458:N461)","v":2.6834150595989037E-4},{"$f":"'experimental data'!U466","v":-2.1536832571522613E-4},{"$f":"'experimental data'!Y103","v":1.0000677968662657},{"$f":"'experimental data'!Z103","v":1.0223216785229539},{"$f":"'experimental data'!AA103","v":1.0120484480477732}]
[null,{"$f":"'experimental data'!B107","v":"Newspaper_CC"},{"$f":"'experimental data'!U107","v":0},{"$f":"'experimental data'!U111","v":1.6944915772048041E-3},{"$f":"'experimental data'!U115","v":1.0133674530954373E-4},{"$f":"'experimental data'!U482","v":3.4453184105820434E-4},{"$f":"bdrate('experimental data'!E498:E501,'experimental data'!F482:F485,'experimental data'!M498:M501,'experimental data'!N482:N485)","v":4.2370103119049318E-4},{"$f":"'experimental data'!U490","v":8.1895680418986316E-4},{"$f":"'experimental data'!Y155","v":1.0013436372089997},{"$f":"'experimental data'!Z155","v":1.0027437927852336},{"$f":"'experimental data'!AA155","v":0.99634576514490059}]
[null,{"$f":"'experimental data'!B159","v":"GT_Fly"},{"$f":"'experimental data'!U159","v":0},{"$f":"'experimental data'!U163","v":9.9090347785413257E-4},{"$f":"'experimental data'!U167","v":1.7893137034701301E-3},{"$f":"'experimental data'!U506","v":3.8407563374143194E-4},{"$f":"bdrate('experimental data'!E522:E525,'experimental data'!F506:F509,'experimental data'!M522:M525,'experimental data'!N506:N509)","v":3.0021792454570928E-4},{"$f":"'experimental data'!U514","v":-4.2173394638467254E-4},{"$f":"'experimental data'!Y207","v":0.99748896569454848},{"$f":"'experimental data'!Z207","v":1.0083928694327862},{"$f":"'experimental data'!AA207","v":1.0040829465563172}]
[null,{"$f":"'experimental data'!B211","v":"Poznan_Hall2"},{"$f":"'experimental data'!U211","v":0},{"$f":"'experimental data'!U215","v":8.1626220855990361E-4},{"$f":"'experimental data'!U219","v":9.5154936217944908E-4},{"$f":"'experimental data'!U530","v":2.1779004192090667E-4},{"$f":"bdrate('experimental data'!E546:E549,'experimental data'!F530:F533,'experimental data'!M546:M549,'experimental data'!N530:N533)","v":-4.9249297353615162E-6},{"$f":"'experimental data'!U538","v":9.9459936844237262E-4},{"$f":"'experimental data'!Y259","v":1.0009111284696153},{"$f":"'experimental data'!Z259","v":0.99899245310891704},{"$f":"'experimental data'!AA259","v":1.0042741561011372}]
[null,{"$f":"'experimental data'!B263","v":"Poznan_Street"},{"$f":"'experimental data'!U263","v":0},{"$f":"'experimental data'!U267","v":-2.0858892178245991E-3},{"$f":"'experimental data'!U271","v":5.0272581470744981E-4},{"$f":"'experimental data'!U554","v":-1.0051150797696362E-4},{"$f":"bdrate('experimental data'!E570:E573,'experimental data'!F554:F557,'experimental data'!M570:M573,'experimental data'!N554:N557)","v":3.888402637075572E-5},{"$f":"'experimental data'!U562","v":-1.5492495686919572E-4},{"$f":"'experimental data'!Y311","v":0.99933174033002048},{"$f":"'experimental data'!Z311","v":1.0222317838330106},{"$f":"'experimental data'!AA311","v":1.0004352310592912}]
[null,{"$f":"'experimental data'!B315","v":"Undo_Dancer"},{"$f":"'experimental data'!U315","v":0},{"$f":"'experimental data'!U319","v":4.1860388419068251E-4},{"$f":"'experimental data'!U323","v":3.7853781933083752E-4},{"$f":"'experimental data'!U578","v":2.9637100514534609E-4},{"$f":"bdrate('experimental data'!E594:E597,'experimental data'!F578:F581,'experimental data'!M594:M597,'experimental data'!N578:N581)","v":2.7339226662714822E-4},{"$f":"'experimental data'!U586","v":-1.3278286759088598E-4},{"$f":"'experimental data'!Y363","v":0.99709143321285221},{"$f":"'experimental data'!Z363","v":0.99708185184760989},{"$f":"'experimental data'!AA363","v":0.99919097770651344}]
[null,{"$f":"'experimental data'!B598","v":"Shark"},{"$f":"'experimental data'!U367","v":0},{"$f":"'experimental data'!U371","v":7.369915411055139E-4},{"$f":"'experimental data'!U375","v":-2.0359084641519143E-4},{"$f":"'experimental data'!U602","v":2.1583375913136749E-4},{"$f":"bdrate('experimental data'!E618:E621,'experimental data'!F602:F605,'experimental data'!M618:M621,'experimental data'!N602:N605)","v":1.9078672001593411E-4},{"$f":"'experimental data'!U610","v":-3.0061614768595035E-6},{"$f":"'experimental data'!Y415","v":0.99834740372923125},{"$f":"'experimental data'!Z415","v":0.9904374848400207},{"$f":"'experimental data'!AA415","v":1.0044574017596537}]
[null,"1024x768",{"$f":"AVERAGE(C5:C7)","v":0},1.8135378486479798E-3,4.5808697936074633E-4,3.386218667737288E-4,2.7423360667174396E-4,3.1402082884583273E-5,0.99910215245188361,1.0006672394252598,1.0055591238320474]
[null,"1920x1088",{"$f":"AVERAGE(C8:C12)","v":0},{"$f":"AVERAGE(D8:D12)","v":1.7537437877712669E-4},6.8370717065453497E-4,2.0271178639241771E-4,1.5967120156483715E-4,5.6430287224151777E-5,0.99863413428725356,1.0034272886124689,1.0024881426365826]
[null,"average",{"$f":"AVERAGE(C5:C12)","v":0},{"$f":"AVERAGE(D5:D12)","v":7.8968567997869665E-4},5.9909959891936426E-4,2.5367806653540936E-4,2.0263210347992722E-4,4.7044710596813588E-5,{"$f":"AVERAGE(I5:I12)","v":0.99880964109898984},1.0023922701672656,1.0036397605848819]
[]
[]
[null,"2 view test case (extracted from 3 view data)"]
[]
[null,null,"video 0","video 1","video PSNR / video bitrate","video PSNR / total bitrate","synth PSNR / total bitrate "]
[null,{"$f":"'experimental data'!B3","v":"Balloons"},{"$f":"'experimental data'!U3","v":0},{"$f":"'experimental data'!U7","v":2.537880125758285E-3},{"$f":"'experimental data'!U430","v":4.7587820025052352E-4},{"$f":"bdrate('experimental data'!E446:E449,'experimental data'!F430:F433,'experimental data'!M446:M449,'experimental data'!N430:N433)","v":3.2170044267965103E-4},{"$f":"'experimental data'!U438","v":-6.2424705192776209E-4}]
[null,{"$f":"'experimental data'!B55","v":"Kendo"},{"$f":"'experimental data'!U55","v":0},{"$f":"'experimental data'!U59","v":1.2082418429808506E-3},{"$f":"'experimental data'!U454","v":2.861128080982045E-4},{"$f":"bdrate('experimental data'!E470:E473,'experimental data'!F454:F457,'experimental data'!M470:M473,'experimental data'!N454:N457)","v":1.9827449048048784E-4},{"$f":"'experimental data'!U462","v":5.5536279411461109E-5}]
[null,{"$f":"'experimental data'!B107","v":"Newspaper_CC"},{"$f":"'experimental data'!U107","v":0},{"$f":"'experimental data'!U111","v":1.6944915772048041E-3},{"$f":"'experimental data'!U478","v":3.9237657079738142E-4},{"$f":"bdrate('experimental data'!E494:E497,'experimental data'!F478:F481,'experimental data'!M494:M497,'experimental data'!N478:N481)","v":4.0421946626456595E-4},{"$f":"'experimental data'!U486","v":8.9035620384270153E-4}]
[null,{"$f":"'experimental data'!B159","v":"GT_Fly"},{"$f":"'experimental data'!U159","v":0},{"$f":"'experimental data'!U163","v":9.9090347785413257E-4},{"$f":"'experimental data'!U502","v":2.2878170746531978E-4},{"$f":"bdrate('experimental data'!E518:E521,'experimental data'!F502:F505,'experimental data'!M518:M521,'experimental data'!N502:N505)","v":1.816511044321345E-4},{"$f":"'experimental data'!U510","v":-3.4060048722828196E-4}]
[null,{"$f":"'experimental data'!B211","v":"Poznan_Hall2"},{"$f":"'experimental data'!U211","v":0},{"$f":"'experimental data'!U215","v":8.1626220855990361E-4},{"$f":"'experimental data'!U526","v":2.1455363186406728E-4},{"$f":"bdrate('experimental data'!E542:E545,'experimental data'!F526:F529,'experimental data'!M542:M545,'experimental data'!N526:N529)","v":1.586608361512365E-4},{"$f":"'experimental data'!U534","v":1.091365417226875E-3}]
[null,{"$f":"'experimental data'!B263","v":"Poznan_Street"},{"$f":"'experimental data'!U263","v":0},{"$f":"'experimental data'!U267","v":-2.0858892178245991E-3},{"$f":"'experimental data'!U550","v":-3.3648628462634722E-4},{"$f":"bdrate('experimental data'!E566:E569,'experimental data'!F550:F553,'experimental data'!M566:M569,'experimental data'!N550:N553)","v":-3.1053623482391046E-4},{"$f":"'experimental data'!U558","v":-5.1392137216976774E-4}]
[null,{"$f":"'experimental data'!B315","v":"Undo_Dancer"},{"$f":"'experimental data'!U315","v":0},{"$f":"'experimental data'!U319","v":4.1860388419068251E-4},{"$f":"'experimental data'!U574","v":2.0250590873849283E-4},{"$f":"bdrate('experimental data'!E590:E593,'experimental data'!F574:F577,'experimental data'!M590:M593,'experimental data'!N574:N577)","v":1.8884716915801292E-4},{"$f":"'experimental data'!U582","v":2.2412457684040099E-4}]
[null,{"$f":"'experimental data'!B598","v":"Shark"},{"$f":"'experimental data'!U367","v":0},{"$f":"'experimental data'!U371","v":7.369915411055139E-4},{"$f":"'experimental data'!U598","v":2.0515512792562696E-4},{"$f":"bdrate('experimental data'!E614:E617,'experimental data'!F598:F601,'experimental data'!M614:M617,'experimental data'!N598:N601)","v":1.2990531552192763E-4},{"$f":"'experimental data'!U606","v":1.8153566859058223E-4}]
[null,"1024x768",{"$f":"AVERAGE(C21:C23)","v":0},{"$f":"AVERAGE(D21:D23)","v":1.8135378486479798E-3},{"$f":"AVERAGE(E21:E23)","v":3.8478919304870313E-4},{"$f":"AVERAGE(F21:F23)","v":3.0806479980823492E-4},{"$f":"AVERAGE(G21:G23)","v":1.0721514377546686E-4}]
[null,"1920x1088",{"$f":"AVERAGE(C24:C28)","v":0},{"$f":"AVERAGE(D24:D28)","v":1.7537437877712669E-4},{"$f":"AVERAGE(E24:E28)","v":1.0290201827343193E-4},{"$f":"AVERAGE(F24:F28)","v":6.970563808788022E-5},{"$f":"AVERAGE(G24:G28)","v":1.285007606519617E-4}]
[null,"average",{"$f":"AVERAGE(C21:C28)","v":0},{"$f":"AVERAGE(D21:D28)","v":7.8968567997869665E-4},{"$f":"AVERAGE(E21:E28)","v":2.0860970881415863E-4},{"$f":"AVERAGE(F21:F28)","v":1.5909032373301324E-4},{"$f":"AVERAGE(G21:G28)","v":1.2051865432327613E-4}]

{"sheet":"experimental data","index":1,"n_rows":621,"n_cols":35,"rows_kept":621,"cut":false,"hidden":false,"merged":[[0,28,0,34],[0,24,0,26],[427,4,427,10],[427,12,427,18],[427,20,427,22],[0,4,0,10],[0,12,0,18],[0,20,0,22]]}
[null,null,null,null,"Reference",null,null,null,null,null,null,null,"Tested",null,null,null,null,null,null,null,"BD-rate (piecewise cubic)",null,null,null,"Time ratio",null,null,null,"Compared"]
["Class","Sequence","component","QPISlice(V0)","kbps","Y-PSNR","U-PSNR","V-PSNR","Enc T [s]","Dec T [s]","Ren T [s]",null,"kbps","Y-PSNR","U-PSNR","V-PSNR","Enc T [s]","Dec T [s]","Ren T [s]",null,"Y","U","V",null,"Enc","Dec","Ren",null,"kbps","Y-PSNR","U-PSNR","V-PSNR","Enc T [s]","Dec T [s]","Ren T [s]"]
["1024x768","Balloons","video 0",25,878.05759999999998,43.095300000000002,43.405999999999999,43.974600000000002,null,null,null,null,878.05759999999998,43.095300000000002,43.405999999999999,43.974600000000002,null,null,null,null,{"$f":"bdrate($E3:$E6,F3:F6,$M3:$M6,N3:N6)","v":0},{"$f":"bdrate($E3:$E6,G3:G6,$M3:$M6,O3:O6)","v":0},{"$f":"bdrate($E3:$E6,H3:H6,$M3:$M6,P3:P6)","v":0},null,null,null,null,null,{"$f":"E3 -M3","v":0},0,0,0]
[null,null,null,30,481.55200000000002,41.046100000000003,42.135899999999999,42.337499999999999,null,null,null,null,481.55200000000002,41.046100000000003,42.135899999999999,42.337499999999999,null,null,null,null,null,null,null,null,null,null,null,null,0,0,0,0]
[null,null,null,35,277.3152,38.459400000000002,40.651200000000003,40.526899999999998,null,null,null,null,277.3152,38.459400000000002,40.651200000000003,40.526899999999998,null,null,null,null,null,null,null,null,null,null,null,null,0,0,0,0]
[null,null,null,40,167.92080000000001,35.64,39.566600000000001,39.223599999999998,null,null,null,null,167.92080000000001,35.64,39.566600000000001,39.223599999999998,null,null,null,null,null,null,null,null,null,null,null,null,0,0,0,0]
[null,null,"video 1",25,268.54880000000003,42.219799999999999,43.106499999999997,43.131999999999998,null,null,null,null,268.94319999999999,42.219700000000003,43.100299999999997,43.128100000000003,null,null,null,null,{"$f":"bdrate($E7:$E10,F7:F10,$M7:$M10,N7:N10)","v":2.537880125758285E-3},{"$f":"bdrate($E7:$E10,G7:G10,$M7:$M10,O7:O10)","v":3.5827572293554155E-3},{"$f":"bdrate($E7:$E10,H7:H10,$M7:$M10,P7:P10)","v":3.4534349383879004E-3},null,null,null,null,null,-0.39439999999996189,9.9999999996214228E-5,6.1999999999997613E-3,3.8999999999944635E-3]
[null,null,null,30,122.0592,39.902099999999997,41.823599999999999,41.537500000000001,null,null,null,null,122.5416,39.904800000000002,41.819099999999999,41.538400000000003,null,null,null,null,null,null,null,null,null,null,null,null,-0.48239999999999839,-2.7000000000043656E-3,4.5000000000001705E-3,-9.0000000000145519E-4]
[null,null,null,35,63.7928,37.3123,40.5625,40.060200000000002,null,null,null,null,63.812800000000003,37.308500000000002,40.564900000000002,40.054699999999997,null,null,null,null,null,null,null,null,null,null,null,null,-2.0000000000003126E-2,3.7999999999982492E-3,-2.400000000001512E-3,5.5000000000049454E-3]
[null,null,null,40,33.561599999999999,34.593299999999999,39.475299999999997,38.815600000000003,null,null,null,null,33.790399999999998,34.598199999999999,39.477600000000002,38.819200000000002,null,null,null,null,null,null,null,null,null,null,null,null,-0.22879999999999967,-4.8999999999992383E-3,-2.3000000000052978E-3,-3.5999999999987153E-3]
[null,null,"video 2",25,298.04880000000003,41.8934,42.545099999999998,42.872199999999999,null,null,null,null,298.02319999999997,41.894199999999998,42.540799999999997,42.864400000000003,null,null,null,null,{"$f":"bdrate($E11:$E14,F11:F14,$M11:$M14,N11:N14)","v":-2.3458583183466608E-4},{"$f":"bdrate($E11:$E14,G11:G14,$M11:$M14,O11:O14)","v":1.250132191321196E-3},{"$f":"bdrate($E11:$E14,H11:H14,$M11:$M14,P11:P14)","v":1.4844576063026693E-3},null,null,null,null,null,2.5600000000054024E-2,-7.9999999999813554E-4,4.3000000000006366E-3,7.7999999999960323E-3]
[null,null,null,30,135.13200000000001,39.661499999999997,41.214300000000001,41.307499999999997,null,null,null,null,135.13999999999999,39.663499999999999,41.210700000000003,41.302199999999999,null,null,null,null,null,null,null,null,null,null,null,null,-7.9999999999813554E-3,-2.0000000000024443E-3,3.5999999999987153E-3,5.2999999999983061E-3]
[null,null,null,35,70.384799999999998,37.106099999999998,40.061700000000002,39.862900000000003,null,null,null,null,70.461600000000004,37.113799999999998,40.062899999999999,39.8673,null,null,null,null,null,null,null,null,null,null,null,null,-7.6800000000005753E-2,-7.6999999999998181E-3,-1.1999999999972033E-3,-4.3999999999968509E-3]
[null,null,null,40,37.203200000000002,34.399700000000003,39.0032,38.611499999999999,null,null,null,null,37.320799999999998,34.403599999999997,39.010100000000001,38.613799999999998,null,null,null,null,null,null,null,null,null,null,null,null,-0.11759999999999593,-3.8999999999944635E-3,-6.9000000000016826E-3,-2.2999999999981924E-3]
[null,null,"depth 0",34,116.3904,39.519199999999998,null,null,null,null,null,null,116.35120000000001,39.504800000000003,null,null,null,null,null,null,{"$f":"bdrate($E15:$E18,F15:F18,$M15:$M18,N15:N18)","v":1.8099390266930193E-3},null,null,null,null,null,null,null,3.9199999999993906E-2,1.4399999999994861E-2]
[null,null,null,39,38.887999999999998,36.385199999999998,null,null,null,null,null,null,38.940800000000003,36.381799999999998,null,null,null,null,null,null,null,null,null,null,null,null,null,null,-5.2800000000004843E-2,3.3999999999991815E-3]
[null,null,null,42,16.8,33.9101,null,null,null,null,null,null,16.788,33.907200000000003,null,null,null,null,null,null,null,null,null,null,null,null,null,null,1.2000000000000455E-2,2.899999999996794E-3]
[null,null,null,45,8.5399999999999991,31.436299999999999,null,null,null,null,null,null,8.5399999999999991,31.436299999999999,null,null,null,null,null,null,null,null,null,null,null,null,null,null,0,0]
[null,null,"depth 1",34,86.483999999999995,37.4129,null,null,null,null,null,null,86.553600000000003,37.440899999999999,null,null,null,null,null,null,{"$f":"bdrate($E19:$E22,F19:F22,$M19:$M22,N19:N22)","v":-7.3863764886098471E-3},null,null,null,null,null,null,null,-6.9600000000008322E-2,-2.7999999999998693E-2]
[null,null,null,39,27.9848,34.401600000000002,null,null,null,null,null,null,27.744,34.4026,null,null,null,null,null,null,null,null,null,null,null,null,null,null,0.24080000000000013,-9.9999999999766942E-4]
[null,null,null,42,11.9208,31.909300000000002,null,null,null,null,null,null,11.941599999999999,31.910799999999998,null,null,null,null,null,null,null,null,null,null,null,null,null,null,-2.0799999999999486E-2,-1.4999999999965041E-3]
[null,null,null,45,5.7911999999999999,29.315899999999999,null,null,null,null,null,null,5.7560000000000002,29.3858,null,null,null,null,null,null,null,null,null,null,null,null,null,null,3.5199999999999676E-2,-6.9900000000000517E-2]
[null,null,"depth 2",34,95.538399999999996,36.739199999999997,null,null,null,null,null,null,95.471199999999996,36.714399999999998,null,null,null,null,null,null,{"$f":"bdrate($E23:$E26,F23:F26,$M23:$M26,N23:N26)","v":4.7780688145293571E-3},null,null,null,null,null,null,null,6.7199999999999704E-2,2.4799999999999045E-2]
[null,null,null,39,30.610399999999998,33.5867,null,null,null,null,null,null,30.7776,33.575000000000003,null,null,null,null,null,null,null,null,null,null,null,null,null,null,-0.16720000000000113,1.1699999999997601E-2]
[null,null,null,42,13.168799999999999,30.997900000000001,null,null,null,null,null,null,13.172000000000001,30.996099999999998,null,null,null,null,null,null,null,null,null,null,null,null,null,null,-3.2000000000014239E-3,1.8000000000029104E-3]
[null,null,null,45,6.3136000000000001,28.145399999999999,null,null,null,null,null,null,6.3296000000000001,28.170500000000001,null,null,null,null,null,null,null,null,null,null,null,null,null,null,-1.6000000000000014E-2,-2.5100000000001899E-2]
[null,null,"syn 0.25",25,null,42.314100000000003,45.359299999999998,45.084299999999999,null,null,null,null,null,42.312899999999999,45.355600000000003,45.0839,null,null,null,null,null,null,null,null,null,null,null,null,null,{"$f":"F27 -N27","v":1.2000000000043087E-3},{"$f":"G27 -O27","v":3.6999999999949296E-3},{"$f":"H27 -P27","v":3.9999999999906777E-4}]
[null,null,null,30,null,40.112099999999998,43.719499999999996,43.133899999999997,null,null,null,null,null,40.118200000000002,43.721200000000003,43.127099999999999,null,null,null,null,null,null,null,null,null,null,null,null,null,-6.100000000003547E-3,-1.7000000000066962E-3,6.7999999999983629E-3]
[null,null,null,35,null,37.613,42.069499999999998,41.303199999999997,null,null,null,null,null,37.613799999999998,42.067799999999998,41.305700000000002,null,null,null,null,null,null,null,null,null,null,null,null,null,-7.9999999999813554E-4,1.6999999999995907E-3,-2.5000000000048317E-3]
[null,null,null,40,null,34.9377,40.724400000000003,39.840299999999999,null,null,null,null,null,34.946399999999997,40.7239,39.851500000000001,null,null,null,null,null,null,null,null,null,null,null,null,null,-8.6999999999974875E-3,5.0000000000238742E-4,-1.1200000000002319E-2]
[null,null,"syn 0.50",25,null,42.923200000000001,45.957500000000003,45.765000000000001,null,null,null,null,null,42.922600000000003,45.956899999999997,45.767800000000001,null,null,null,null,null,null,null,null,null,null,null,null,null,5.9999999999860165E-4,6.0000000000570708E-4,-2.8000000000005798E-3]
[null,null,null,30,null,40.6252,44.205100000000002,43.694400000000002,null,null,null,null,null,40.631999999999998,44.2057,43.6907,null,null,null,null,null,null,null,null,null,null,null,null,null,-6.7999999999983629E-3,-5.9999999999860165E-4,3.700000000002035E-3]
[null,null,null,35,null,38.043199999999999,42.369300000000003,41.651600000000002,null,null,null,null,null,38.044800000000002,42.367199999999997,41.657400000000003,null,null,null,null,null,null,null,null,null,null,null,null,null,-1.6000000000033765E-3,2.1000000000057639E-3,-5.8000000000006935E-3]
[null,null,null,40,null,35.2776,40.951099999999997,40.1128,null,null,null,null,null,35.281500000000001,40.949399999999997,40.122300000000003,null,null,null,null,null,null,null,null,null,null,null,null,null,-3.9000000000015689E-3,1.6999999999995907E-3,-9.5000000000027285E-3]
[null,null,"syn 0.75",25,null,43.049900000000001,45.576700000000002,45.6937,null,null,null,null,null,43.057699999999997,45.579700000000003,45.695799999999998,null,null,null,null,null,null,null,null,null,null,null,null,null,-7.7999999999960323E-3,-3.0000000000001137E-3,-2.0999999999986585E-3]
[null,null,null,30,null,40.901400000000002,43.949199999999998,43.710500000000003,null,null,null,null,null,40.908900000000003,43.951700000000002,43.713000000000001,null,null,null,null,null,null,null,null,null,null,null,null,null,-7.5000000000002842E-3,-2.5000000000048317E-3,-2.4999999999977263E-3]
[null,null,null,35,null,38.341099999999997,42.127600000000001,41.633899999999997,null,null,null,null,null,38.343600000000002,42.128,41.634799999999998,null,null,null,null,null,null,null,null,null,null,null,null,null,-2.5000000000048317E-3,-3.9999999999906777E-4,-9.0000000000145519E-4]
[null,null,null,40,null,35.555999999999997,40.810099999999998,40.1175,null,null,null,null,null,35.556800000000003,40.808300000000003,40.117800000000003,null,null,null,null,null,null,null,null,null,null,null,null,null,-8.0000000000524096E-4,1.799999999995805E-3,-3.0000000000285354E-4]
[null,null,"syn 1.25",25,null,42.944299999999998,45.584600000000002,45.669699999999999,null,null,null,null,null,42.951500000000003,45.584899999999998,45.667999999999999,null,null,null,null,null,null,null,null,null,null,null,null,null,-7.2000000000045361E-3,-2.9999999999574811E-4,1.6999999999995907E-3]
[null,null,null,30,null,40.797800000000002,43.955300000000001,43.694299999999998,null,null,null,null,null,40.7988,43.952399999999997,43.690399999999997,null,null,null,null,null,null,null,null,null,null,null,null,null,-9.9999999999766942E-4,2.9000000000038995E-3,3.9000000000015689E-3]
[null,null,null,35,null,38.243200000000002,42.131999999999998,41.615200000000002,null,null,null,null,null,38.24,42.138300000000001,41.6158,null,null,null,null,null,null,null,null,null,null,null,null,null,3.1999999999996476E-3,-6.3000000000030809E-3,-5.9999999999860165E-4]
[null,null,null,40,null,35.453200000000002,40.805900000000001,40.0899,null,null,null,null,null,35.457500000000003,40.808700000000002,40.085999999999999,null,null,null,null,null,null,null,null,null,null,null,null,null,-4.3000000000006366E-3,-2.8000000000005798E-3,3.9000000000015689E-3]
[null,null,"syn 1.5",25,null,42.747900000000001,45.877299999999998,45.662799999999997,null,null,null,null,null,42.756999999999998,45.879600000000003,45.654200000000003,null,null,null,null,null,null,null,null,null,null,null,null,null,{"$f":"F43 -N43","v":-9.0999999999965553E-3},-2.3000000000052978E-3,8.5999999999941679E-3]
[null,null,null,30,null,40.508000000000003,44.1325,43.589100000000002,null,null,null,null,null,40.5077,44.132800000000003,43.576799999999999,null,null,null,null,null,null,null,null,null,null,null,null,null,3.0000000000285354E-4,-3.0000000000285354E-4,1.2300000000003308E-2]
[null,null,null,35,null,37.944000000000003,42.293700000000001,41.534799999999997,null,null,null,null,null,37.939799999999998,42.302399999999999,41.547400000000003,null,null,null,null,null,null,null,null,null,null,null,null,null,4.2000000000044224E-3,-8.6999999999974875E-3,-1.2600000000006162E-2]
[null,null,null,40,null,35.180500000000002,40.930999999999997,39.9756,null,null,null,null,null,35.186300000000003,40.945500000000003,39.985999999999997,null,null,null,null,null,null,null,null,null,null,null,null,null,-5.8000000000006935E-3,-1.4500000000005286E-2,-1.0399999999997078E-2]
[null,null,"syn 1.75",25,null,42.081000000000003,45.141100000000002,44.904800000000002,null,null,null,null,null,42.088099999999997,45.139499999999998,44.894599999999997,null,null,null,null,null,null,null,null,null,null,null,null,null,-7.099999999994111E-3,1.6000000000033765E-3,1.020000000000465E-2]
[null,null,null,30,null,39.954000000000001,43.478299999999997,42.966900000000003,null,null,null,null,null,39.966299999999997,43.482700000000001,42.958100000000002,null,null,null,null,null,null,null,null,null,null,null,null,null,-1.2299999999996203E-2,-4.4000000000039563E-3,8.8000000000008072E-3]
[null,null,null,35,null,37.479100000000003,41.846699999999998,41.128399999999999,null,null,null,null,null,37.490299999999998,41.856299999999997,41.138399999999997,null,null,null,null,null,null,null,null,null,null,null,null,null,-1.1199999999995214E-2,-9.5999999999989427E-3,-9.9999999999980105E-3]
[null,null,null,40,null,34.805500000000002,40.588200000000001,39.660299999999999,null,null,null,null,null,34.8108,40.605200000000004,39.6706,null,null,null,null,null,null,null,null,null,null,null,null,null,-5.2999999999983061E-3,-1.7000000000003013E-2,-1.0300000000000864E-2]
[null,null,"overall",25,1748.8584000000001,null,null,null,28719.15,46.44,331.93,null,1749.1904,null,null,null,28586.66,46.33,333.85,null,null,null,null,null,{"$f":"GEOMEAN(Q51:Q54)/GEOMEAN(I51:I54)","v":0.99589502328038526},{"$f":"GEOMEAN(R51:R54)/GEOMEAN(J51:J54)","v":0.97693624696759218},{"$f":"GEOMEAN(S51:S54)/GEOMEAN(K51:K54)","v":1.0082831583034688},null,{"$f":"E51 -M51","v":-0.33199999999987995},null,null,null,{"$f":"I51 -Q51","v":132.4900000000016},0.10999999999999943,-1.9200000000000159]
[null,null,null,30,842.01679999999999,null,null,null,22168.12,42.01,334.69,null,842.4864,null,null,null,22076.94,41.74,340.95,null,null,null,null,null,null,null,null,null,{"$f":"E52 -M52","v":-0.46960000000001401},null,null,null,91.180000000000291,0.26999999999999602,-6.2599999999999909]
[null,null,null,35,459.1728,null,null,null,18913.310000000001,41.56,333.27,null,459.28160000000003,null,null,null,18870.28,40.97,340.27,null,null,null,null,null,null,null,null,null,{"$f":"E53 -M53","v":-0.10880000000003065},null,null,null,43.030000000002474,0.59000000000000341,-7]
[null,null,null,40,265.12079999999997,null,null,null,16719.89,39.08,336.21,null,265.44799999999998,null,null,null,16629.34,36.43,332.17,null,null,null,null,null,null,null,null,null,{"$f":"E54 -M54","v":-0.32720000000000482},null,null,null,90.549999999999272,2.6499999999999986,4.0399999999999636]
["1024x768","Kendo","video 0",25,846.29520000000002,43.603400000000001,44.9589,44.931199999999997,null,null,null,null,846.29520000000002,43.603400000000001,44.9589,44.931199999999997,null,null,null,null,{"$f":"bdrate($E55:$E58,F55:F58,$M55:$M58,N55:N58)","v":0},{"$f":"bdrate($E55:$E58,G55:G58,$M55:$M58,O55:O58)","v":0},{"$f":"bdrate($E55:$E58,H55:H58,$M55:$M58,P55:P58)","v":0},null,null,null,null,null,{"$f":"E55 -M55","v":0},{"$f":"F55 -N55","v":0},0,0]
[null,null,null,30,450.75119999999998,41.433599999999998,44.113999999999997,43.451300000000003,null,null,null,null,450.75119999999998,41.433599999999998,44.113999999999997,43.451300000000003,null,null,null,null,null,null,null,null,null,null,null,null,{"$f":"E56 -M56","v":0},0,0,0]
[null,null,null,35,255.928,38.940899999999999,43.061300000000003,41.776499999999999,null,null,null,null,255.928,38.940899999999999,43.061300000000003,41.776499999999999,null,null,null,null,null,null,null,null,null,null,null,null,0,0,0,0]
[null,null,null,40,153.756,36.325200000000002,42.263399999999997,40.448300000000003,null,null,null,null,153.756,36.325200000000002,42.263399999999997,40.448300000000003,null,null,null,null,null,null,null,null,null,null,null,null,0,0,0,0]
[null,null,"video 1",25,273.21839999999997,42.688600000000001,44.733400000000003,44.150799999999997,null,null,null,null,273.51600000000002,42.69,44.7395,44.153799999999997,null,null,null,null,{"$f":"bdrate($E59:$E62,F59:F62,$M59:$M62,N59:N62)","v":1.2082418429808506E-3},{"$f":"bdrate($E59:$E62,G59:G62,$M59:$M62,O59:O62)","v":-7.1639726244965285E-4},{"$f":"bdrate($E59:$E62,H59:H62,$M59:$M62,P59:P62)","v":8.4522367506556506E-5},null,null,null,null,null,-0.29760000000004538,-1.3999999999967372E-3,-6.0999999999964416E-3,-3.0000000000001137E-3]
[null,null,null,30,122.1456,40.360799999999998,43.801900000000003,42.6691,null,null,null,null,122.4552,40.359499999999997,43.799599999999998,42.668900000000001,null,null,null,null,null,null,null,null,null,null,null,null,-0.30960000000000321,1.300000000000523E-3,2.3000000000052978E-3,1.9999999999953388E-4]
[null,null,null,35,63.844000000000001,37.917900000000003,42.8874,41.307600000000001,null,null,null,null,63.885599999999997,37.918900000000001,42.8919,41.312100000000001,null,null,null,null,null,null,null,null,null,null,null,null,-4.1599999999995418E-2,-9.9999999999766942E-4,-4.5000000000001705E-3,-4.5000000000001705E-3]
[null,null,null,40,34.377600000000001,35.373800000000003,42.003599999999999,40.021700000000003,null,null,null,null,34.321599999999997,35.369,42.011699999999998,40.0246,null,null,null,null,null,null,null,null,null,null,null,null,5.6000000000004491E-2,4.8000000000030241E-3,-8.0999999999988859E-3,-2.899999999996794E-3]
[null,null,"video 2",25,290.03519999999997,42.327800000000003,43.945700000000002,43.893700000000003,null,null,null,null,289.74560000000002,42.321100000000001,43.9422,43.882800000000003,null,null,null,null,{"$f":"bdrate($E63:$E66,F63:F66,$M63:$M66,N63:N66)","v":1.5075100246073614E-3},{"$f":"bdrate($E63:$E66,G63:G66,$M63:$M66,O63:O66)","v":1.224282535073673E-3},{"$f":"bdrate($E63:$E66,H63:H66,$M63:$M66,P63:P66)","v":9.053144204935748E-4},null,null,null,null,null,0.28959999999995034,6.7000000000021487E-3,3.5000000000025011E-3,1.0899999999999466E-2]
[null,null,null,30,128.2424,40.111400000000003,42.9696,42.462899999999998,null,null,null,null,128.1472,40.108499999999999,42.972000000000001,42.462200000000003,null,null,null,null,null,null,null,null,null,null,null,null,9.5200000000005502E-2,2.9000000000038995E-3,-2.400000000001512E-3,6.9999999999481588E-4]
[null,null,null,35,66.367999999999995,37.724699999999999,42.193100000000001,41.200899999999997,null,null,null,null,66.636799999999994,37.7286,42.186999999999998,41.209299999999999,null,null,null,null,null,null,null,null,null,null,null,null,-0.26879999999999882,-3.9000000000015689E-3,6.100000000003547E-3,-8.4000000000017394E-3]
[null,null,null,40,35.156799999999997,35.214399999999998,41.401899999999998,39.972499999999997,null,null,null,null,35.2744,35.226900000000001,41.416499999999999,39.972499999999997,null,null,null,null,null,null,null,null,null,null,null,null,-0.11760000000000304,-1.2500000000002842E-2,-1.4600000000001501E-2,0]
[null,null,"depth 0",34,137.74959999999999,39.056199999999997,null,null,null,null,null,null,137.80799999999999,39.048499999999997,null,null,null,null,null,null,{"$f":"bdrate($E67:$E70,F67:F70,$M67:$M70,N67:N70)","v":1.5360367985801648E-3},null,null,null,null,null,null,null,-5.8400000000006003E-2,7.6999999999998181E-3]
[null,null,null,39,48.296799999999998,35.020200000000003,null,null,null,null,null,null,48.211199999999998,35.005000000000003,null,null,null,null,null,null,null,null,null,null,null,null,null,null,8.5599999999999454E-2,1.5200000000000102E-2]
[null,null,null,42,20.783200000000001,31.991,null,null,null,null,null,null,20.785599999999999,31.990100000000002,null,null,null,null,null,null,null,null,null,null,null,null,null,null,-2.3999999999979593E-3,8.9999999999790248E-4]
[null,null,null,45,9.9624000000000006,29.441400000000002,null,null,null,null,null,null,9.9624000000000006,29.441400000000002,null,null,null,null,null,null,null,null,null,null,null,null,null,null,0,0]
[null,null,"depth 1",34,107.83199999999999,36.045699999999997,null,null,null,null,null,null,107.3784,36.039200000000001,null,null,null,null,null,null,{"$f":"bdrate($E71:$E74,F71:F74,$M71:$M74,N71:N74)","v":4.4980718359388661E-4},null,null,null,null,null,null,null,0.45359999999999445,6.4999999999955094E-3]
[null,null,null,39,35.236800000000002,32.061999999999998,null,null,null,null,null,null,35.273600000000002,32.063400000000001,null,null,null,null,null,null,null,null,null,null,null,null,null,null,-3.67999999999995E-2,-1.4000000000038426E-3]
[null,null,null,42,15.311199999999999,29.372699999999998,null,null,null,null,null,null,15.2744,29.381399999999999,null,null,null,null,null,null,null,null,null,null,null,null,null,null,3.67999999999995E-2,-8.7000000000010402E-3]
[null,null,null,45,7.3743999999999996,26.891500000000001,null,null,null,null,null,null,7.4367999999999999,26.8489,null,null,null,null,null,null,null,null,null,null,null,null,null,null,-6.2400000000000233E-2,4.2600000000000193E-2]
[null,null,"depth 2",34,125.2816,35.163499999999999,null,null,null,null,null,null,125.1816,35.168700000000001,null,null,null,null,null,null,{"$f":"bdrate($E75:$E78,F75:F78,$M75:$M78,N75:N78)","v":-6.5657391963647171E-4},null,null,null,null,null,null,null,9.9999999999994316E-2,-5.2000000000020918E-3]
[null,null,null,39,40.423999999999999,31.3474,null,null,null,null,null,null,40.234400000000001,31.342700000000001,null,null,null,null,null,null,null,null,null,null,null,null,null,null,0.18959999999999866,4.6999999999997044E-3]
[null,null,null,42,17.22,28.6694,null,null,null,null,null,null,17.244,28.661999999999999,null,null,null,null,null,null,null,null,null,null,null,null,null,null,-2.4000000000000909E-2,7.4000000000005173E-3]
[null,null,null,45,8.1872000000000007,26.081299999999999,null,null,null,null,null,null,8.1367999999999991,26.056799999999999,null,null,null,null,null,null,null,null,null,null,null,null,null,null,5.0400000000001555E-2,2.4499999999999744E-2]
[null,null,"syn 0.25",25,null,42.765999999999998,46.994900000000001,45.775399999999998,null,null,null,null,null,42.763800000000003,47.002499999999998,45.768500000000003,null,null,null,null,null,null,null,null,null,null,null,null,null,2.1999999999948727E-3,-7.5999999999964984E-3,6.8999999999945771E-3]
[null,null,null,30,null,40.521500000000003,45.811799999999998,44.084699999999998,null,null,null,null,null,40.519599999999997,45.821899999999999,44.081099999999999,null,null,null,null,null,null,null,null,null,null,null,null,null,1.90000000000623E-3,-1.010000000000133E-2,3.5999999999987153E-3]
[null,null,null,35,null,38.158999999999999,44.6477,42.475099999999998,null,null,null,null,null,38.165100000000002,44.659700000000001,42.481200000000001,null,null,null,null,null,null,null,null,null,null,null,null,null,-6.100000000003547E-3,-1.2000000000000455E-2,-6.100000000003547E-3]
[null,null,null,40,null,35.682400000000001,43.653199999999998,41.053800000000003,null,null,null,null,null,35.676400000000001,43.651200000000003,41.061799999999998,null,null,null,null,null,null,null,null,null,null,null,null,null,6.0000000000002274E-3,1.9999999999953388E-3,-7.9999999999955662E-3]
[null,null,"syn 0.50",25,null,43.468000000000004,47.588200000000001,46.6023,null,null,null,null,null,43.470399999999998,47.592799999999997,46.5976,null,null,null,null,null,null,null,null,null,null,null,null,null,-2.3999999999944066E-3,-4.5999999999963848E-3,4.6999999999997044E-3]
[null,null,null,30,null,41.0717,46.319299999999998,44.793100000000003,null,null,null,null,null,41.072699999999998,46.321399999999997,44.796799999999998,null,null,null,null,null,null,null,null,null,null,null,null,null,-9.9999999999766942E-4,-2.0999999999986585E-3,-3.6999999999949296E-3]
[null,null,null,35,null,38.581099999999999,44.966099999999997,42.9681,null,null,null,null,null,38.580199999999998,44.973999999999997,42.970100000000002,null,null,null,null,null,null,null,null,null,null,null,null,null,9.0000000000145519E-4,-7.899999999999352E-3,-2.0000000000024443E-3]
[null,null,null,40,null,35.999899999999997,43.907200000000003,41.451000000000001,null,null,null,null,null,35.997999999999998,43.913899999999998,41.453899999999997,null,null,null,null,null,null,null,null,null,null,null,null,null,1.8999999999991246E-3,-6.6999999999950433E-3,-2.899999999996794E-3]
[null,null,"syn 0.75",25,null,43.639299999999999,47.041899999999998,46.530099999999997,null,null,null,null,null,43.6417,47.044499999999999,46.530700000000003,null,null,null,null,null,null,null,null,null,null,null,null,null,-2.400000000001512E-3,-2.6000000000010459E-3,-6.0000000000570708E-4]
[null,null,null,30,null,41.349800000000002,45.992899999999999,44.808399999999999,null,null,null,null,null,41.348700000000001,45.991900000000001,44.811399999999999,null,null,null,null,null,null,null,null,null,null,null,null,null,1.1000000000009891E-3,9.9999999999766942E-4,-3.0000000000001137E-3]
[null,null,null,35,null,38.85,44.7104,42.954000000000001,null,null,null,null,null,38.851999999999997,44.7121,42.954300000000003,null,null,null,null,null,null,null,null,null,null,null,null,null,-1.9999999999953388E-3,-1.6999999999995907E-3,-3.0000000000285354E-4]
[null,null,null,40,null,36.238199999999999,43.765599999999999,41.457799999999999,null,null,null,null,null,36.235199999999999,43.764800000000001,41.456000000000003,null,null,null,null,null,null,null,null,null,null,null,null,null,3.0000000000001137E-3,7.9999999999813554E-4,1.799999999995805E-3]
[null,null,"syn 1.25",25,null,43.476199999999999,47.031799999999997,46.586599999999997,null,null,null,null,null,43.474699999999999,47.031999999999996,46.583599999999997,null,null,null,null,null,null,null,null,null,null,null,null,null,1.5000000000000568E-3,-1.9999999999953388E-4,3.0000000000001137E-3]
[null,null,null,30,null,41.192900000000002,46.019599999999997,44.854799999999997,null,null,null,null,null,41.192500000000003,46.020699999999998,44.854500000000002,null,null,null,null,null,null,null,null,null,null,null,null,null,3.9999999999906777E-4,-1.1000000000009891E-3,2.9999999999574811E-4]
[null,null,null,35,null,38.698500000000003,44.760899999999999,42.971800000000002,null,null,null,null,null,38.704799999999999,44.7622,42.976500000000001,null,null,null,null,null,null,null,null,null,null,null,null,null,-6.2999999999959755E-3,-1.300000000000523E-3,-4.6999999999997044E-3]
[null,null,null,40,null,36.083599999999997,43.7849,41.444800000000001,null,null,null,null,null,36.090400000000002,43.790300000000002,41.443399999999997,null,null,null,null,null,null,null,null,null,null,null,null,null,-6.8000000000054683E-3,-5.4000000000016257E-3,1.4000000000038426E-3]
[null,null,"syn 1.5",25,null,43.213999999999999,47.269199999999998,46.587600000000002,null,null,null,null,null,43.211599999999997,47.279499999999999,46.584099999999999,null,null,null,null,null,null,null,null,null,null,null,null,null,2.400000000001512E-3,-1.0300000000000864E-2,3.5000000000025011E-3]
[null,null,null,30,null,40.846699999999998,46.125599999999999,44.753900000000002,null,null,null,null,null,40.848399999999998,46.1265,44.760599999999997,null,null,null,null,null,null,null,null,null,null,null,null,null,-1.6999999999995907E-3,-9.0000000000145519E-4,-6.6999999999950433E-3]
[null,null,null,35,null,38.367899999999999,44.936199999999999,42.964199999999998,null,null,null,null,null,38.376300000000001,44.9313,42.973700000000001,null,null,null,null,null,null,null,null,null,null,null,null,null,-8.4000000000017394E-3,4.8999999999992383E-3,-9.5000000000027285E-3]
[null,null,null,40,null,35.787799999999997,43.8992,41.41,null,null,null,null,null,35.795200000000001,43.909100000000002,41.400700000000001,null,null,null,null,null,null,null,null,null,null,null,null,null,-7.40000000000407E-3,-9.9000000000017963E-3,9.2999999999960892E-3]
[null,null,"syn 1.75",25,null,42.459600000000002,46.320799999999998,45.744500000000002,null,null,null,null,null,42.4651,46.325099999999999,45.738799999999998,null,null,null,null,null,null,null,null,null,null,null,null,null,-5.49999999999784E-3,-4.3000000000006366E-3,5.7000000000044793E-3]
[null,null,null,30,null,40.270299999999999,45.201700000000002,44.030999999999999,null,null,null,null,null,40.268099999999997,45.193199999999997,44.033499999999997,null,null,null,null,null,null,null,null,null,null,null,null,null,2.2000000000019782E-3,8.5000000000050591E-3,-2.4999999999977263E-3]
[null,null,null,35,null,37.921300000000002,44.232399999999998,42.466200000000001,null,null,null,null,null,37.927999999999997,44.223100000000002,42.475999999999999,null,null,null,null,null,null,null,null,null,null,null,null,null,-6.6999999999950433E-3,9.2999999999960892E-3,-9.7999999999984766E-3]
[null,null,null,40,null,35.434899999999999,43.303100000000001,41.023499999999999,null,null,null,null,null,35.444200000000002,43.320599999999999,41.0122,null,null,null,null,null,null,null,null,null,null,null,null,null,-9.3000000000031946E-3,-1.7499999999998295E-2,1.1299999999998533E-2]
[null,null,"overall",25,1786.2023999999999,null,null,null,32965.17,43.18,331.25,null,1785.7152000000001,null,null,null,32979.89,43.39,337.37,null,null,null,null,null,{"$f":"GEOMEAN(Q103:Q106)/GEOMEAN(I103:I106)","v":1.0000677968662657},{"$f":"GEOMEAN(R103:R106)/GEOMEAN(J103:J106)","v":1.0223216785229539},{"$f":"GEOMEAN(S103:S106)/GEOMEAN(K103:K106)","v":1.0120484480477732},null,{"$f":"E103 -M103","v":0.48719999999980246},null,null,null,{"$f":"I103 -Q103","v":-14.720000000001164},-0.21000000000000085,-6.1200000000000045]
[null,null,null,30,830.88720000000001,null,null,null,25426.92,39.31,333.77,null,830.86320000000001,null,null,null,25516.06,43.13,336.76,null,null,null,null,null,null,null,null,null,{"$f":"E104 -M104","v":2.4000000000000909E-2},null,null,null,-89.140000000003056,-3.8200000000000003,-2.9900000000000091]
[null,null,null,35,445.2448,null,null,null,21577.01,40.75,333.53,null,445.54480000000001,null,null,null,21667.62,37.380000000000003,341.28,null,null,null,null,null,null,null,null,null,{"$f":"E105 -M105","v":-0.30000000000001137},null,null,null,-90.610000000000582,3.3699999999999974,-7.75]
[null,null,null,40,254.60480000000001,null,null,null,18868.89,35.840000000000003,332.27,null,254.67840000000001,null,null,null,18721.060000000001,38.71,331.51,null,null,null,null,null,null,null,null,null,{"$f":"E106 -M106","v":-7.3599999999999E-2},null,null,null,147.82999999999811,-2.8699999999999974,0.75999999999999091]
["1024x768","Newspaper_CC","video 0",25,949.1848,41.356299999999997,44.151299999999999,44.212400000000002,null,null,null,null,949.1848,41.356299999999997,44.151299999999999,44.212400000000002,null,null,null,null,{"$f":"bdrate($E107:$E110,F107:F110,$M107:$M110,N107:N110)","v":0},{"$f":"bdrate($E107:$E110,G107:G110,$M107:$M110,O107:O110)","v":0},{"$f":"bdrate($E107:$E110,H107:H110,$M107:$M110,P107:P110)","v":0},null,null,null,null,null,{"$f":"E107 -M107","v":0},{"$f":"F107 -N107","v":0},0,0]
[null,null,null,30,499.90800000000002,38.991500000000002,42.521900000000002,42.534399999999998,null,null,null,null,499.90800000000002,38.991500000000002,42.521900000000002,42.534399999999998,null,null,null,null,null,null,null,null,null,null,null,null,{"$f":"E108 -M108","v":0},0,0,0]
[null,null,null,35,275.40719999999999,36.451599999999999,40.753500000000003,40.705300000000001,null,null,null,null,275.40719999999999,36.451599999999999,40.753500000000003,40.705300000000001,null,null,null,null,null,null,null,null,null,null,null,null,0,0,0,0]
[null,null,null,40,159.29040000000001,33.872100000000003,39.514000000000003,39.404200000000003,null,null,null,null,159.29040000000001,33.872100000000003,39.514000000000003,39.404200000000003,null,null,null,null,null,null,null,null,null,null,null,null,0,0,0,0]
[null,null,"video 1",25,303.988,40.304200000000002,42.935600000000001,43.061700000000002,null,null,null,null,303.9984,40.297699999999999,42.950699999999998,43.066699999999997,null,null,null,null,{"$f":"bdrate($E111:$E114,F111:F114,$M111:$M114,N111:N114)","v":1.6944915772048041E-3},{"$f":"bdrate($E111:$E114,G111:G114,$M111:$M114,O111:O114)","v":-4.469037231667583E-3},{"$f":"bdrate($E111:$E114,H111:H114,$M111:$M114,P111:P114)","v":1.3074127708081473E-3},null,null,null,null,null,-1.0400000000004184E-2,6.5000000000026148E-3,-1.5099999999996783E-2,-4.9999999999954525E-3]
[null,null,null,30,128.96719999999999,37.9634,41.2879,41.437100000000001,null,null,null,null,129.25040000000001,37.961199999999998,41.3078,41.436999999999998,null,null,null,null,null,null,null,null,null,null,null,null,-0.2832000000000221,2.2000000000019782E-3,-1.9899999999999807E-2,1.0000000000331966E-4]
[null,null,null,35,63.9848,35.527299999999997,40.0182,40.061500000000002,null,null,null,null,64.040000000000006,35.5289,40.018300000000004,40.057299999999998,null,null,null,null,null,null,null,null,null,null,null,null,-5.5200000000006355E-2,-1.6000000000033765E-3,-1.0000000000331966E-4,4.2000000000044224E-3]
[null,null,null,40,34.459200000000003,33.109400000000001,38.980400000000003,38.951500000000003,null,null,null,null,34.512,33.111600000000003,38.978299999999997,38.9587,null,null,null,null,null,null,null,null,null,null,null,null,-5.2799999999997738E-2,-2.2000000000019782E-3,2.1000000000057639E-3,-7.1999999999974307E-3]
[null,null,"video 2",25,347.0752,39.897300000000001,42.855400000000003,42.746400000000001,null,null,null,null,348.07600000000002,39.900599999999997,42.852699999999999,42.746200000000002,null,null,null,null,{"$f":"bdrate($E115:$E118,F115:F118,$M115:$M118,N115:N118)","v":1.0133674530954373E-4},{"$f":"bdrate($E115:$E118,G115:G118,$M115:$M118,O115:O118)","v":4.5355927602128698E-3},{"$f":"bdrate($E115:$E118,H115:H118,$M115:$M118,P115:P118)","v":3.6578071262305389E-3},null,null,null,null,null,-1.0008000000000266,-3.2999999999958618E-3,2.7000000000043656E-3,1.9999999999953388E-4]
[null,null,null,30,149.9624,37.521999999999998,41.369100000000003,41.099499999999999,null,null,null,null,149.97919999999999,37.5199,41.353400000000001,41.088299999999997,null,null,null,null,null,null,null,null,null,null,null,null,-1.6799999999989268E-2,2.0999999999986585E-3,1.570000000000249E-2,1.1200000000002319E-2]
[null,null,null,35,75.147199999999998,35.065199999999997,40.087699999999998,39.6738,null,null,null,null,75.0976,35.064700000000002,40.084600000000002,39.671999999999997,null,null,null,null,null,null,null,null,null,null,null,null,4.959999999999809E-2,4.99999999995282E-4,3.0999999999963279E-3,1.8000000000029104E-3]
[null,null,null,40,39.9696,32.549999999999997,39.093400000000003,38.607500000000002,null,null,null,null,39.944000000000003,32.552900000000001,39.097700000000003,38.5959,null,null,null,null,null,null,null,null,null,null,null,null,2.5599999999997181E-2,-2.9000000000038995E-3,-4.3000000000006366E-3,1.1600000000001387E-2]
[null,null,"depth 0",34,188.7184,38.293199999999999,null,null,null,null,null,null,188.43440000000001,38.288200000000003,null,null,null,null,null,null,{"$f":"bdrate($E119:$E122,F119:F122,$M119:$M122,N119:N122)","v":1.8088327302945295E-4},null,null,null,null,null,null,null,0.28399999999999181,4.9999999999954525E-3]
[null,null,null,39,63.496000000000002,35.021099999999997,null,null,null,null,null,null,63.488,35.018799999999999,null,null,null,null,null,null,null,null,null,null,null,null,null,null,8.0000000000026716E-3,2.2999999999981924E-3]
[null,null,null,42,26.005600000000001,32.409700000000001,null,null,null,null,null,null,25.992799999999999,32.409100000000002,null,null,null,null,null,null,null,null,null,null,null,null,null,null,1.2800000000002143E-2,5.9999999999860165E-4]
[null,null,null,45,11.8752,29.6752,null,null,null,null,null,null,11.8752,29.6752,null,null,null,null,null,null,null,null,null,null,null,null,null,null,0,0]
[null,null,"depth 1",34,123.7376,37.202599999999997,null,null,null,null,null,null,123.5504,37.192599999999999,null,null,null,null,null,null,{"$f":"bdrate($E123:$E126,F123:F126,$M123:$M126,N123:N126)","v":5.9157276233368083E-3},null,null,null,null,null,null,null,0.18720000000000425,9.9999999999980105E-3]
[null,null,null,39,43.758400000000002,34.1434,null,null,null,null,null,null,44.090400000000002,34.147500000000001,null,null,null,null,null,null,null,null,null,null,null,null,null,null,-0.33200000000000074,-4.1000000000011028E-3]
[null,null,null,42,18.8432,31.557500000000001,null,null,null,null,null,null,18.812000000000001,31.511099999999999,null,null,null,null,null,null,null,null,null,null,null,null,null,null,3.119999999999834E-2,4.6400000000001995E-2]
[null,null,null,45,8.5784000000000002,28.588699999999999,null,null,null,null,null,null,8.4920000000000009,28.580300000000001,null,null,null,null,null,null,null,null,null,null,null,null,null,null,8.6399999999999366E-2,8.3999999999981867E-3]
[null,null,"depth 2",34,111.2368,37.120100000000001,null,null,null,null,null,null,111.4648,37.145000000000003,null,null,null,null,null,null,{"$f":"bdrate($E127:$E130,F127:F130,$M127:$M130,N127:N130)","v":4.9229452995849243E-3},null,null,null,null,null,null,null,-0.22799999999999443,-2.4900000000002365E-2]
[null,null,null,39,36.287999999999997,34.1614,null,null,null,null,null,null,36.4176,34.130000000000003,null,null,null,null,null,null,null,null,null,null,null,null,null,null,-0.12960000000000349,3.1399999999997874E-2]
[null,null,null,42,15.628,31.6541,null,null,null,null,null,null,15.6136,31.654399999999999,null,null,null,null,null,null,null,null,null,null,null,null,null,null,1.440000000000019E-2,-2.9999999999930083E-4]
[null,null,null,45,7.5712000000000002,28.990100000000002,null,null,null,null,null,null,7.6375999999999999,29.0078,null,null,null,null,null,null,null,null,null,null,null,null,null,null,-6.6399999999999793E-2,-1.7699999999997829E-2]
[null,null,"syn 0.25",25,null,39.914999999999999,45.242800000000003,45.431800000000003,null,null,null,null,null,39.910899999999998,45.252299999999998,45.434600000000003,null,null,null,null,null,null,null,null,null,null,null,null,null,4.1000000000011028E-3,-9.4999999999956231E-3,-2.8000000000005798E-3]
[null,null,null,30,null,37.778700000000001,43.450600000000001,43.624400000000001,null,null,null,null,null,37.7774,43.473599999999998,43.621000000000002,null,null,null,null,null,null,null,null,null,null,null,null,null,1.300000000000523E-3,-2.2999999999996135E-2,3.3999999999991815E-3]
[null,null,null,35,null,35.506399999999999,41.865200000000002,41.902299999999997,null,null,null,null,null,35.502099999999999,41.872,41.903500000000001,null,null,null,null,null,null,null,null,null,null,null,null,null,4.3000000000006366E-3,-6.7999999999983629E-3,-1.2000000000043087E-3]
[null,null,null,40,null,33.137599999999999,40.552300000000002,40.534599999999998,null,null,null,null,null,33.139000000000003,40.547600000000003,40.540399999999998,null,null,null,null,null,null,null,null,null,null,null,null,null,-1.4000000000038426E-3,4.6999999999997044E-3,-5.8000000000006935E-3]
[null,null,"syn 0.50",25,null,40.447200000000002,46.101900000000001,46.157400000000003,null,null,null,null,null,40.444000000000003,46.11,46.160299999999999,null,null,null,null,null,null,null,null,null,null,null,null,null,3.1999999999996476E-3,-8.0999999999988859E-3,-2.899999999996794E-3]
[null,null,null,30,null,38.1815,44.223999999999997,44.238,null,null,null,null,null,38.180100000000003,44.2423,44.235399999999998,null,null,null,null,null,null,null,null,null,null,null,null,null,1.3999999999967372E-3,-1.8300000000003536E-2,2.6000000000010459E-3]
[null,null,null,35,null,35.799799999999998,42.372100000000003,42.267000000000003,null,null,null,null,null,35.797400000000003,42.379199999999997,42.266199999999998,null,null,null,null,null,null,null,null,null,null,null,null,null,2.3999999999944066E-3,-7.099999999994111E-3,8.0000000000524096E-4]
[null,null,null,40,null,33.331600000000002,40.919699999999999,40.768000000000001,null,null,null,null,null,33.330300000000001,40.912100000000002,40.773000000000003,null,null,null,null,null,null,null,null,null,null,null,null,null,1.300000000000523E-3,7.5999999999964984E-3,-5.000000000002558E-3]
[null,null,"syn 0.75",25,null,40.931699999999999,46.0167,46.084099999999999,null,null,null,null,null,40.930700000000002,46.019799999999996,46.0901,null,null,null,null,null,null,null,null,null,null,null,null,null,9.9999999999766942E-4,-3.0999999999963279E-3,-6.0000000000002274E-3]
[null,null,null,30,null,38.6539,44.252800000000001,44.226300000000002,null,null,null,null,null,38.6492,44.259,44.2303,null,null,null,null,null,null,null,null,null,null,null,null,null,4.6999999999997044E-3,-6.1999999999997613E-3,-3.9999999999977831E-3]
[null,null,null,35,null,36.192999999999998,42.314,42.192900000000002,null,null,null,null,null,36.193100000000001,42.320099999999996,42.194200000000002,null,null,null,null,null,null,null,null,null,null,null,null,null,-1.0000000000331966E-4,-6.0999999999964416E-3,-1.300000000000523E-3]
[null,null,null,40,null,33.678800000000003,40.856299999999997,40.700800000000001,null,null,null,null,null,33.676099999999998,40.853299999999997,40.701700000000002,null,null,null,null,null,null,null,null,null,null,null,null,null,2.7000000000043656E-3,3.0000000000001137E-3,-9.0000000000145519E-4]
[null,null,"syn 1.25",25,null,40.876300000000001,45.866999999999997,45.9373,null,null,null,null,null,40.869399999999999,45.8675,45.937100000000001,null,null,null,null,null,null,null,null,null,null,null,null,null,6.9000000000016826E-3,-5.0000000000238742E-4,1.9999999999953388E-4]
[null,null,null,30,null,38.589599999999997,44.064500000000002,44.046399999999998,null,null,null,null,null,38.580199999999998,44.061199999999999,44.037999999999997,null,null,null,null,null,null,null,null,null,null,null,null,null,9.3999999999994088E-3,3.3000000000029672E-3,8.4000000000017394E-3]
[null,null,null,35,null,36.124099999999999,42.143900000000002,41.9758,null,null,null,null,null,36.129800000000003,42.147199999999998,41.977800000000002,null,null,null,null,null,null,null,null,null,null,null,null,null,-5.7000000000044793E-3,-3.2999999999958618E-3,-2.0000000000024443E-3]
[null,null,null,40,null,33.6006,40.726500000000001,40.508299999999998,null,null,null,null,null,33.599200000000003,40.724899999999998,40.5045,null,null,null,null,null,null,null,null,null,null,null,null,null,1.3999999999967372E-3,1.6000000000033765E-3,3.7999999999982492E-3]
[null,null,"syn 1.5",25,null,40.2926,45.895299999999999,45.8643,null,null,null,null,null,40.286799999999999,45.901499999999999,45.867400000000004,null,null,null,null,null,null,null,null,null,null,null,null,null,5.8000000000006935E-3,-6.1999999999997613E-3,-3.1000000000034333E-3]
[null,null,null,30,null,37.966700000000003,44.051499999999997,43.866700000000002,null,null,null,null,null,37.968899999999998,44.043199999999999,43.856099999999998,null,null,null,null,null,null,null,null,null,null,null,null,null,-2.1999999999948727E-3,8.2999999999984198E-3,1.0600000000003718E-2]
[null,null,null,35,null,35.564700000000002,42.214199999999998,41.847000000000001,null,null,null,null,null,35.5623,42.2121,41.854700000000001,null,null,null,null,null,null,null,null,null,null,null,null,null,2.400000000001512E-3,2.0999999999986585E-3,-7.6999999999998181E-3]
[null,null,null,40,null,33.084800000000001,40.801400000000001,40.400799999999997,null,null,null,null,null,33.082299999999996,40.797400000000003,40.392000000000003,null,null,null,null,null,null,null,null,null,null,null,null,null,2.5000000000048317E-3,3.9999999999977831E-3,8.7999999999937017E-3]
[null,null,"syn 1.75",25,null,39.936500000000002,45.084600000000002,45.046399999999998,null,null,null,null,null,39.945,45.083799999999997,45.040599999999998,null,null,null,null,null,null,null,null,null,null,null,null,null,-8.4999999999979536E-3,8.0000000000524096E-4,5.8000000000006935E-3]
[null,null,null,30,null,37.609499999999997,43.364600000000003,43.119799999999998,null,null,null,null,null,37.607199999999999,43.353400000000001,43.109299999999998,null,null,null,null,null,null,null,null,null,null,null,null,null,2.2999999999981924E-3,1.1200000000002319E-2,1.0500000000000398E-2]
[null,null,null,35,null,35.194299999999998,41.776800000000001,41.332599999999999,null,null,null,null,null,35.1922,41.772399999999998,41.334299999999999,null,null,null,null,null,null,null,null,null,null,null,null,null,2.0999999999986585E-3,4.4000000000039563E-3,-1.6999999999995907E-3]
[null,null,null,40,null,32.703299999999999,40.512300000000003,40.003700000000002,null,null,null,null,null,32.704900000000002,40.509900000000002,39.989400000000003,null,null,null,null,null,null,null,null,null,null,null,null,null,-1.6000000000033765E-3,2.400000000001512E-3,1.4299999999998647E-2]
[null,null,"overall",25,2029.7311999999999,null,null,null,26854.55,39.6,332.39,null,2030.4992,null,null,null,26816.91,40.32,335.32,null,null,null,null,null,{"$f":"GEOMEAN(Q155:Q158)/GEOMEAN(I155:I158)","v":1.0013436372089997},{"$f":"GEOMEAN(R155:R158)/GEOMEAN(J155:J158)","v":1.0027437927852336},{"$f":"GEOMEAN(S155:S158)/GEOMEAN(K155:K158)","v":0.99634576514490059},null,{"$f":"E155 -M155","v":-0.7680000000000291},null,null,null,{"$f":"I155 -Q155","v":37.639999999999418},-0.71999999999999886,-2.9300000000000068]
[null,null,null,30,928.17039999999997,null,null,null,21295.02,37.28,343.37,null,928.92399999999998,null,null,null,21289.62,36.65,341.19,null,null,null,null,null,null,null,null,null,{"$f":"E156 -M156","v":-0.75360000000000582},null,null,null,5.4000000000014552,0.63000000000000256,2.1800000000000068]
[null,null,null,35,480.8064,null,null,null,18545.759999999998,34.82,337.29,null,480.75360000000001,null,null,null,18633.68,35.01,332.91,null,null,null,null,null,null,null,null,null,{"$f":"E157 -M157","v":5.2799999999990632E-2},null,null,null,-87.920000000001892,-0.18999999999999773,4.3799999999999955]
[null,null,null,40,267.53440000000001,null,null,null,16554.37,32.94,337.35,null,267.54160000000002,null,null,null,16592.45,33.090000000000003,336.01,null,null,null,null,null,null,null,null,null,{"$f":"E158 -M158","v":-7.2000000000116415E-3},null,null,null,-38.080000000001746,-0.15000000000000568,1.3400000000000318]
["1920x1088","GT_Fly","video 0",25,3712.8879999999999,40.254600000000003,45.456800000000001,46.298999999999999,null,null,null,null,3712.8879999999999,40.254600000000003,45.456800000000001,46.298999999999999,null,null,null,null,{"$f":"bdrate($E159:$E162,F159:F162,$M159:$M162,N159:N162)","v":0},{"$f":"bdrate($E159:$E162,G159:G162,$M159:$M162,O159:O162)","v":0},{"$f":"bdrate($E159:$E162,H159:H162,$M159:$M162,P159:P162)","v":0},null,null,null,null,null,{"$f":"E159 -M159","v":0},{"$f":"F159 -N159","v":0},0,0]
[null,null,null,30,1615.7592,37.819699999999997,43.633099999999999,44.465400000000002,null,null,null,null,1615.7592,37.819699999999997,43.633099999999999,44.465400000000002,null,null,null,null,null,null,null,null,null,null,null,null,{"$f":"E160 -M160","v":0},0,0,0]
[null,null,null,35,755.71600000000001,35.622599999999998,41.8003,42.614400000000003,null,null,null,null,755.71600000000001,35.622599999999998,41.8003,42.614400000000003,null,null,null,null,null,null,null,null,null,null,null,null,0,0,0,0]
[null,null,null,40,365.31439999999998,33.465200000000003,40.564399999999999,41.401600000000002,null,null,null,null,365.31439999999998,33.465200000000003,40.564399999999999,41.401600000000002,null,null,null,null,null,null,null,null,null,null,null,null,0,0,0,0]
[null,null,"video 1",25,525.23599999999999,39.744199999999999,45.331000000000003,46.180700000000002,null,null,null,null,525.42719999999997,39.7408,45.329900000000002,46.1798,null,null,null,null,{"$f":"bdrate($E163:$E166,F163:F166,$M163:$M166,N163:N166)","v":9.9090347785413257E-4},{"$f":"bdrate($E163:$E166,G163:G166,$M163:$M166,O163:O166)","v":8.3996585618884012E-4},{"$f":"bdrate($E163:$E166,H163:H166,$M163:$M166,P163:P166)","v":9.3117751817106686E-4},null,null,null,null,null,-0.19119999999998072,3.3999999999991815E-3,1.1000000000009891E-3,9.0000000000145519E-4]
[null,null,null,30,183.21039999999999,37.467399999999998,43.578299999999999,44.417099999999998,null,null,null,null,183.0128,37.465200000000003,43.576900000000002,44.416699999999999,null,null,null,null,null,null,null,null,null,null,null,null,0.19759999999999422,2.1999999999948727E-3,1.3999999999967372E-3,3.9999999999906777E-4]
[null,null,null,35,74.748000000000005,35.382300000000001,41.798900000000003,42.6265,null,null,null,null,74.927199999999999,35.383600000000001,41.798900000000003,42.624400000000001,null,null,null,null,null,null,null,null,null,null,null,null,-0.17919999999999447,-1.300000000000523E-3,0,2.0999999999986585E-3]
[null,null,null,40,34.3264,33.294699999999999,40.562899999999999,41.407699999999998,null,null,null,null,34.3352,33.293300000000002,40.562899999999999,41.4084,null,null,null,null,null,null,null,null,null,null,null,null,-8.8000000000008072E-3,1.3999999999967372E-3,0,-7.0000000000192131E-4]
[null,null,"video 2",25,546.28399999999999,39.706899999999997,45.287500000000001,46.144399999999997,null,null,null,null,546.76480000000004,39.703600000000002,45.2866,46.142899999999997,null,null,null,null,{"$f":"bdrate($E167:$E170,F167:F170,$M167:$M170,N167:N170)","v":1.7893137034701301E-3},{"$f":"bdrate($E167:$E170,G167:G170,$M167:$M170,O167:O170)","v":1.4865355524822377E-3},{"$f":"bdrate($E167:$E170,H167:H170,$M167:$M170,P167:P170)","v":1.6886434160121588E-3},null,null,null,null,null,-0.48080000000004475,3.2999999999958618E-3,9.0000000000145519E-4,1.5000000000000568E-3]
[null,null,null,30,192.5264,37.425600000000003,43.5349,44.379199999999997,null,null,null,null,192.53039999999999,37.424700000000001,43.534999999999997,44.378900000000002,null,null,null,null,null,null,null,null,null,null,null,null,-3.9999999999906777E-3,9.0000000000145519E-4,-9.9999999996214228E-5,2.9999999999574811E-4]
[null,null,null,35,78.819999999999993,35.336199999999998,41.759500000000003,42.584600000000002,null,null,null,null,79.070400000000006,35.336599999999997,41.758800000000001,42.5837,null,null,null,null,null,null,null,null,null,null,null,null,-0.25040000000001328,-3.9999999999906777E-4,7.0000000000192131E-4,9.0000000000145519E-4]
[null,null,null,40,36.785600000000002,33.249400000000001,40.5214,41.369199999999999,null,null,null,null,36.848799999999997,33.249099999999999,40.522399999999998,41.369700000000002,null,null,null,null,null,null,null,null,null,null,null,null,-6.3199999999994816E-2,3.0000000000285354E-4,-9.9999999999766942E-4,-5.0000000000238742E-4]
[null,null,"depth 0",34,283.61520000000002,43.405999999999999,null,null,null,null,null,null,283.49520000000001,43.384,null,null,null,null,null,null,{"$f":"bdrate($E171:$E174,F171:F174,$M171:$M174,N171:N174)","v":4.1968182662175391E-3},null,null,null,null,null,null,null,0.12000000000000455,2.1999999999998465E-2]
[null,null,null,39,96.978399999999993,39.317100000000003,null,null,null,null,null,null,96.946399999999997,39.279899999999998,null,null,null,null,null,null,null,null,null,null,null,null,null,null,3.1999999999996476E-2,3.7200000000005673E-2]
[null,null,null,42,39.86,35.497599999999998,null,null,null,null,null,null,39.816800000000001,35.494399999999999,null,null,null,null,null,null,null,null,null,null,null,null,null,null,4.3199999999998795E-2,3.1999999999996476E-3]
[null,null,null,45,17.943999999999999,32.208300000000001,null,null,null,null,null,null,17.943999999999999,32.212000000000003,null,null,null,null,null,null,null,null,null,null,null,null,null,null,0,-3.700000000002035E-3]
[null,null,"depth 1",34,99.087999999999994,42.413800000000002,null,null,null,null,null,null,98.563199999999995,42.392099999999999,null,null,null,null,null,null,{"$f":"bdrate($E175:$E178,F175:F178,$M175:$M178,N175:N178)","v":3.7117532918147234E-3},null,null,null,null,null,null,null,0.52479999999999905,2.1700000000002717E-2]
[null,null,null,39,29.090399999999999,38.388800000000003,null,null,null,null,null,null,28.852,38.346600000000002,null,null,null,null,null,null,null,null,null,null,null,null,null,null,0.23839999999999861,4.2200000000001125E-2]
[null,null,null,42,12.510400000000001,34.719099999999997,null,null,null,null,null,null,12.537599999999999,34.729700000000001,null,null,null,null,null,null,null,null,null,null,null,null,null,null,-2.7199999999998781E-2,-1.0600000000003718E-2]
[null,null,null,45,6.1672000000000002,31.4724,null,null,null,null,null,null,6.2767999999999997,31.454699999999999,null,null,null,null,null,null,null,null,null,null,null,null,null,null,-0.10959999999999948,1.7700000000001381E-2]
[null,null,"depth 2",34,102.952,42.340499999999999,null,null,null,null,null,null,103.16240000000001,42.3523,null,null,null,null,null,null,{"$f":"bdrate($E179:$E182,F179:F182,$M179:$M182,N179:N182)","v":2.4729616586371961E-3},null,null,null,null,null,null,null,-0.21040000000000703,-1.1800000000000921E-2]
[null,null,null,39,30.9008,38.396900000000002,null,null,null,null,null,null,30.8352,38.371699999999997,null,null,null,null,null,null,null,null,null,null,null,null,null,null,6.5599999999999881E-2,2.5200000000005218E-2]
[null,null,null,42,13.0144,34.778700000000001,null,null,null,null,null,null,12.9704,34.769199999999998,null,null,null,null,null,null,null,null,null,null,null,null,null,null,4.4000000000000483E-2,9.5000000000027285E-3]
[null,null,null,45,6.4687999999999999,31.628399999999999,null,null,null,null,null,null,6.4256000000000002,31.539000000000001,null,null,null,null,null,null,null,null,null,null,null,null,null,null,4.3199999999999683E-2,8.9399999999997704E-2]
[null,null,"syn 0.25",25,null,39.838299999999997,46.543700000000001,46.509700000000002,null,null,null,null,null,39.836399999999998,46.531500000000001,46.520400000000002,null,null,null,null,null,null,null,null,null,null,null,null,null,1.8999999999991246E-3,1.2199999999999989E-2,-1.0699999999999932E-2]
[null,null,null,30,null,37.585799999999999,44.739199999999997,45.0426,null,null,null,null,null,37.591500000000003,44.753399999999999,45.062600000000003,null,null,null,null,null,null,null,null,null,null,null,null,null,-5.7000000000044793E-3,-1.4200000000002433E-2,-2.0000000000003126E-2]
[null,null,null,35,null,35.502800000000001,42.773800000000001,43.365499999999997,null,null,null,null,null,35.506100000000004,42.7806,43.396999999999998,null,null,null,null,null,null,null,null,null,null,null,null,null,-3.3000000000029672E-3,-6.7999999999983629E-3,-3.1500000000001194E-2]
[null,null,null,40,null,33.408200000000001,41.412999999999997,42.145400000000002,null,null,null,null,null,33.4086,41.427399999999999,42.155200000000001,null,null,null,null,null,null,null,null,null,null,null,null,null,-3.9999999999906777E-4,-1.4400000000001967E-2,-9.7999999999984766E-3]
[null,null,"syn 0.50",25,null,40.021500000000003,46.327800000000003,46.778300000000002,null,null,null,null,null,40.0152,46.323700000000002,46.763399999999997,null,null,null,null,null,null,null,null,null,null,null,null,null,6.3000000000030809E-3,4.1000000000011028E-3,1.4900000000004354E-2]
[null,null,null,30,null,37.7303,44.669899999999998,45.1982,null,null,null,null,null,37.729500000000002,44.669400000000003,45.216500000000003,null,null,null,null,null,null,null,null,null,null,null,null,null,7.9999999999813554E-4,4.99999999995282E-4,-1.8300000000003536E-2]
[null,null,null,35,null,35.600499999999997,42.793500000000002,43.446199999999997,null,null,null,null,null,35.601599999999998,42.786099999999998,43.441000000000003,null,null,null,null,null,null,null,null,null,null,null,null,null,-1.1000000000009891E-3,7.40000000000407E-3,5.1999999999949864E-3]
[null,null,null,40,null,33.471499999999999,41.5062,42.168199999999999,null,null,null,null,null,33.472200000000001,41.514299999999999,42.176600000000001,null,null,null,null,null,null,null,null,null,null,null,null,null,-7.0000000000192131E-4,-8.0999999999988859E-3,-8.4000000000017394E-3]
[null,null,"syn 0.75",25,null,40.271299999999997,46.961399999999998,47.795400000000001,null,null,null,null,null,40.271099999999997,46.9621,47.795699999999997,null,null,null,null,null,null,null,null,null,null,null,null,null,1.9999999999953388E-4,-7.0000000000192131E-4,-2.9999999999574811E-4]
[null,null,null,30,null,37.864699999999999,45.052300000000002,45.869100000000003,null,null,null,null,null,37.864699999999999,45.052799999999998,45.870399999999997,null,null,null,null,null,null,null,null,null,null,null,null,null,0,-4.99999999995282E-4,-1.2999999999934175E-3]
[null,null,null,35,null,35.668900000000001,43.037700000000001,43.816600000000001,null,null,null,null,null,35.669800000000002,43.037199999999999,43.816000000000003,null,null,null,null,null,null,null,null,null,null,null,null,null,-9.0000000000145519E-4,5.0000000000238742E-4,5.9999999999860165E-4]
[null,null,null,40,null,33.510399999999997,41.660800000000002,42.453899999999997,null,null,null,null,null,33.510599999999997,41.6601,42.453400000000002,null,null,null,null,null,null,null,null,null,null,null,null,null,-1.9999999999953388E-4,7.0000000000192131E-4,4.99999999995282E-4]
[null,null,"syn 1.25",25,null,40.252099999999999,46.960999999999999,47.786700000000003,null,null,null,null,null,40.252299999999998,46.9604,47.7864,null,null,null,null,null,null,null,null,null,null,null,null,null,-1.9999999999953388E-4,5.9999999999860165E-4,3.0000000000285354E-4]
[null,null,null,30,null,37.845300000000002,45.053699999999999,45.857300000000002,null,null,null,null,null,37.844999999999999,45.052300000000002,45.8566,null,null,null,null,null,null,null,null,null,null,null,null,null,3.0000000000285354E-4,1.3999999999967372E-3,7.0000000000192131E-4]
[null,null,null,35,null,35.660299999999999,43.030900000000003,43.800699999999999,null,null,null,null,null,35.660400000000003,43.0306,43.799300000000002,null,null,null,null,null,null,null,null,null,null,null,null,null,-1.0000000000331966E-4,3.0000000000285354E-4,1.3999999999967372E-3]
[null,null,null,40,null,33.504899999999999,41.650700000000001,42.429900000000004,null,null,null,null,null,33.505200000000002,41.649500000000003,42.4298,null,null,null,null,null,null,null,null,null,null,null,null,null,-3.0000000000285354E-4,1.1999999999972033E-3,1.0000000000331966E-4]
[null,null,"syn 1.5",25,null,40.030700000000003,46.2836,47.005800000000001,null,null,null,null,null,40.0261,46.287199999999999,47.018700000000003,null,null,null,null,null,null,null,null,null,null,null,null,null,4.6000000000034902E-3,-3.5999999999987153E-3,-1.290000000000191E-2]
[null,null,null,30,null,37.696199999999997,44.655999999999999,45.336799999999997,null,null,null,null,null,37.708100000000002,44.645899999999997,45.334200000000003,null,null,null,null,null,null,null,null,null,null,null,null,null,-1.1900000000004241E-2,1.010000000000133E-2,2.5999999999939405E-3]
[null,null,null,35,null,35.5809,42.764499999999998,43.454300000000003,null,null,null,null,null,35.579700000000003,42.757199999999997,43.461199999999998,null,null,null,null,null,null,null,null,null,null,null,null,null,1.1999999999972033E-3,7.3000000000007503E-3,-6.8999999999945771E-3]
[null,null,null,40,null,33.449100000000001,41.462000000000003,42.1569,null,null,null,null,null,33.451999999999998,41.456299999999999,42.161499999999997,null,null,null,null,null,null,null,null,null,null,null,null,null,-2.899999999996794E-3,5.7000000000044793E-3,-4.5999999999963848E-3]
[null,null,"syn 1.75",25,null,39.824800000000003,46.3352,46.597499999999997,null,null,null,null,null,39.823500000000003,46.333300000000001,46.6051,null,null,null,null,null,null,null,null,null,null,null,null,null,1.300000000000523E-3,1.8999999999991246E-3,-7.6000000000036039E-3]
[null,null,null,30,null,37.532499999999999,44.600700000000003,45.121699999999997,null,null,null,null,null,37.537999999999997,44.608699999999999,45.104700000000001,null,null,null,null,null,null,null,null,null,null,null,null,null,-5.49999999999784E-3,-7.9999999999955662E-3,1.6999999999995907E-2]
[null,null,null,35,null,35.458300000000001,42.653399999999998,43.277200000000001,null,null,null,null,null,35.456099999999999,42.6691,43.265799999999999,null,null,null,null,null,null,null,null,null,null,null,null,null,2.2000000000019782E-3,-1.570000000000249E-2,1.1400000000001853E-2]
[null,null,null,40,null,33.361199999999997,41.348399999999998,42.008600000000001,null,null,null,null,null,33.363900000000001,41.341299999999997,42.010899999999999,null,null,null,null,null,null,null,null,null,null,null,null,null,-2.7000000000043656E-3,7.1000000000012164E-3,-2.2999999999981924E-3]
[null,null,"overall",25,5274.8936000000003,null,null,null,64984.17,93.85,721.77,null,5275.1311999999998,null,null,null,64865.21,94.05,724.61,null,null,null,null,null,{"$f":"GEOMEAN(Q207:Q210)/GEOMEAN(I207:I210)","v":0.99748896569454848},{"$f":"GEOMEAN(R207:R210)/GEOMEAN(J207:J210)","v":1.0083928694327862},{"$f":"GEOMEAN(S207:S210)/GEOMEAN(K207:K210)","v":1.0040829465563172},null,{"$f":"E207 -M207","v":-0.23759999999947468},null,null,null,{"$f":"I207 -Q207","v":118.95999999999913},-0.20000000000000284,-2.8400000000000318]
[null,null,null,30,2153.2959999999998,null,null,null,46374.1,83.8,720.76,null,2152.7664,null,null,null,46109.77,85.4,724.88,null,null,null,null,null,null,null,null,null,{"$f":"E208 -M208","v":0.52959999999984575},null,null,null,264.33000000000175,-1.6000000000000085,-4.1200000000000045]
[null,null,null,35,979.49919999999997,null,null,null,37893.33,80.92,726.39,null,979.86879999999996,null,null,null,37893.58,81.3,729.01,null,null,null,null,null,null,null,null,null,{"$f":"E209 -M209","v":-0.36959999999999127},null,null,null,-0.25,-0.37999999999999545,-2.6200000000000045]
[null,null,null,40,471.83679999999998,null,null,null,32452.46,78.87,724.99,null,471.97519999999997,null,null,null,32370.95,79.48,727.22,null,null,null,null,null,null,null,null,null,{"$f":"E210 -M210","v":-0.13839999999999009},null,null,null,81.509999999998399,-0.60999999999999943,-2.2300000000000182]
["1920x1088","Poznan_Hall2","video 0",25,808.93399999999997,42.116199999999999,48.421599999999998,48.138300000000001,null,null,null,null,808.93399999999997,42.116199999999999,48.421599999999998,48.138300000000001,null,null,null,null,{"$f":"bdrate($E211:$E214,F211:F214,$M211:$M214,N211:N214)","v":0},{"$f":"bdrate($E211:$E214,G211:G214,$M211:$M214,O211:O214)","v":0},{"$f":"bdrate($E211:$E214,H211:H214,$M211:$M214,P211:P214)","v":0},null,null,null,null,null,{"$f":"E211 -M211","v":0},{"$f":"F211 -N211","v":0},0,0]
[null,null,null,30,344.726,41.148200000000003,47.462600000000002,47.2849,null,null,null,null,344.726,41.148200000000003,47.462600000000002,47.2849,null,null,null,null,null,null,null,null,null,null,null,null,{"$f":"E212 -M212","v":0},0,0,0]
[null,null,null,35,177.10499999999999,39.752499999999998,46.036099999999998,45.932899999999997,null,null,null,null,177.10499999999999,39.752499999999998,46.036099999999998,45.932899999999997,null,null,null,null,null,null,null,null,null,null,null,null,0,0,0,0]
[null,null,null,40,98.555999999999997,38.0139,44.863199999999999,44.774999999999999,null,null,null,null,98.555999999999997,38.0139,44.863199999999999,44.774999999999999,null,null,null,null,null,null,null,null,null,null,null,null,0,0,0,0]
[null,null,"video 1",25,248.80199999999999,41.834400000000002,48.191499999999998,47.509500000000003,null,null,null,null,248.61500000000001,41.832500000000003,48.186599999999999,47.507899999999999,null,null,null,null,{"$f":"bdrate($E215:$E218,F215:F218,$M215:$M218,N215:N218)","v":8.1626220855990361E-4},{"$f":"bdrate($E215:$E218,G215:G218,$M215:$M218,O215:O218)","v":-1.2324527993564649E-3},{"$f":"bdrate($E215:$E218,H215:H218,$M215:$M218,P215:P218)","v":-3.4598674222907633E-4},null,null,null,null,null,0.1869999999999834,1.8999999999991246E-3,4.8999999999992383E-3,1.6000000000033765E-3]
[null,null,null,30,96.43,40.831099999999999,47.104799999999997,46.594999999999999,null,null,null,null,96.344999999999999,40.831899999999997,47.0946,46.5901,null,null,null,null,null,null,null,null,null,null,null,null,8.5000000000007958E-2,-7.9999999999813554E-4,1.0199999999997544E-2,4.8999999999992383E-3]
[null,null,null,35,47.545000000000002,39.411799999999999,45.897300000000001,45.524700000000003,null,null,null,null,47.610999999999997,39.410800000000002,45.915199999999999,45.535899999999998,null,null,null,null,null,null,null,null,null,null,null,null,-6.5999999999995396E-2,9.9999999999766942E-4,-1.7899999999997362E-2,-1.1199999999995214E-2]
[null,null,null,40,25.408999999999999,37.630099999999999,44.834400000000002,44.508000000000003,null,null,null,null,25.456,37.631,44.8491,44.502899999999997,null,null,null,null,null,null,null,null,null,null,null,null,-4.7000000000000597E-2,-9.0000000000145519E-4,-1.4699999999997715E-2,5.1000000000058776E-3]
[null,null,"video 2",25,258.73899999999998,41.684100000000001,47.262999999999998,46.669199999999996,null,null,null,null,258.06299999999999,41.683500000000002,47.253300000000003,46.664200000000001,null,null,null,null,{"$f":"bdrate($E219:$E222,F219:F222,$M219:$M222,N219:N222)","v":9.5154936217944908E-4},{"$f":"bdrate($E219:$E222,G219:G222,$M219:$M222,O219:O222)","v":3.3072988491553712E-3},{"$f":"bdrate($E219:$E222,H219:H222,$M219:$M222,P219:P222)","v":1.5148839565237715E-4},null,null,null,null,null,0.67599999999998772,5.9999999999860165E-4,9.6999999999951569E-3,4.9999999999954525E-3]
[null,null,null,30,97.254999999999995,40.744399999999999,46.319099999999999,45.534700000000001,null,null,null,null,97.578000000000003,40.746499999999997,46.310699999999997,45.548299999999998,null,null,null,null,null,null,null,null,null,null,null,null,-0.3230000000000075,-2.0999999999986585E-3,8.4000000000017394E-3,-1.3599999999996726E-2]
[null,null,null,35,48.23,39.387099999999997,45.383099999999999,44.604700000000001,null,null,null,null,48.459000000000003,39.390300000000003,45.389099999999999,44.598399999999998,null,null,null,null,null,null,null,null,null,null,null,null,-0.22900000000000631,-3.200000000006753E-3,-6.0000000000002274E-3,6.3000000000030809E-3]
[null,null,null,40,25.605,37.662700000000001,44.399900000000002,43.486400000000003,null,null,null,null,25.443999999999999,37.660499999999999,44.414700000000003,43.481200000000001,null,null,null,null,null,null,null,null,null,null,null,null,0.16100000000000136,2.2000000000019782E-3,-1.4800000000001035E-2,5.2000000000020918E-3]
[null,null,"depth 0",34,72.789000000000001,45.890300000000003,null,null,null,null,null,null,72.89,45.908999999999999,null,null,null,null,null,null,{"$f":"bdrate($E223:$E226,F223:F226,$M223:$M226,N223:N226)","v":-1.4079746630391021E-4},null,null,null,null,null,null,null,-0.10099999999999909,-1.8699999999995498E-2]
[null,null,null,39,29.991,42.522199999999998,null,null,null,null,null,null,30.032,42.523699999999998,null,null,null,null,null,null,null,null,null,null,null,null,null,null,-4.1000000000000369E-2,-1.5000000000000568E-3]
[null,null,null,42,15.324,39.784999999999997,null,null,null,null,null,null,15.324,39.784999999999997,null,null,null,null,null,null,null,null,null,null,null,null,null,null,0,0]
[null,null,null,45,8.4610000000000003,36.460599999999999,null,null,null,null,null,null,8.4610000000000003,36.460599999999999,null,null,null,null,null,null,null,null,null,null,null,null,null,null,0,0]
[null,null,"depth 1",34,50.524999999999999,44.549599999999998,null,null,null,null,null,null,50.259,44.520299999999999,null,null,null,null,null,null,{"$f":"bdrate($E227:$E230,F227:F230,$M227:$M230,N227:N230)","v":-3.4478838957942015E-3},null,null,null,null,null,null,null,0.26599999999999824,2.9299999999999216E-2]
[null,null,null,39,19.774999999999999,41.245800000000003,null,null,null,null,null,null,19.658999999999999,41.239400000000003,null,null,null,null,null,null,null,null,null,null,null,null,null,null,0.11599999999999966,6.3999999999992951E-3]
[null,null,null,42,9.3960000000000008,38.066800000000001,null,null,null,null,null,null,9.4049999999999994,38.108699999999999,null,null,null,null,null,null,null,null,null,null,null,null,null,null,-8.9999999999985647E-3,-4.1899999999998272E-2]
[null,null,null,45,5.2789999999999999,34.981499999999997,null,null,null,null,null,null,5.2750000000000004,34.949300000000001,null,null,null,null,null,null,null,null,null,null,null,null,null,null,3.9999999999995595E-3,3.219999999999601E-2]
[null,null,"depth 2",34,49.308,44.338999999999999,null,null,null,null,null,null,49.52,44.321100000000001,null,null,null,null,null,null,{"$f":"bdrate($E231:$E234,F231:F234,$M231:$M234,N231:N234)","v":-6.5661871900594138E-3},null,null,null,null,null,null,null,-0.2120000000000033,1.7899999999997362E-2]
[null,null,null,39,18.954999999999998,41.293900000000001,null,null,null,null,null,null,18.849,41.327300000000001,null,null,null,null,null,null,null,null,null,null,null,null,null,null,0.1059999999999981,-3.3400000000000318E-2]
[null,null,null,42,9.1120000000000001,38.590699999999998,null,null,null,null,null,null,9.0609999999999999,38.570099999999996,null,null,null,null,null,null,null,null,null,null,null,null,null,null,5.1000000000000156E-2,2.0600000000001728E-2]
[null,null,null,45,5.181,35.609299999999998,null,null,null,null,null,null,5.157,35.671799999999998,null,null,null,null,null,null,null,null,null,null,null,null,null,null,2.4000000000000021E-2,-6.25E-2]
[null,null,"syn 0.25",25,null,42.875,48.183700000000002,47.2819,null,null,null,null,null,42.871400000000001,48.151699999999998,47.279800000000002,null,null,null,null,null,null,null,null,null,null,null,null,null,3.5999999999987153E-3,3.2000000000003581E-2,2.0999999999986585E-3]
[null,null,null,30,null,41.7134,47.037300000000002,46.602800000000002,null,null,null,null,null,41.710799999999999,47.037399999999998,46.533099999999997,null,null,null,null,null,null,null,null,null,null,null,null,null,2.6000000000010459E-3,-9.9999999996214228E-5,6.9700000000004536E-2]
[null,null,null,35,null,40.129300000000001,45.847200000000001,45.561500000000002,null,null,null,null,null,40.122700000000002,45.851999999999997,45.548400000000001,null,null,null,null,null,null,null,null,null,null,null,null,null,6.599999999998829E-3,-4.7999999999959186E-3,1.3100000000001444E-2]
[null,null,null,40,null,38.1995,44.872399999999999,44.508699999999997,null,null,null,null,null,38.1999,44.898000000000003,44.448799999999999,null,null,null,null,null,null,null,null,null,null,null,null,null,-3.9999999999906777E-4,-2.5600000000004286E-2,5.9899999999998954E-2]
[null,null,"syn 0.50",25,null,43.608600000000003,49.069699999999997,48.442999999999998,null,null,null,null,null,43.61,49.054400000000001,48.457599999999999,null,null,null,null,null,null,null,null,null,null,null,null,null,-1.3999999999967372E-3,1.5299999999996317E-2,-1.4600000000001501E-2]
[null,null,null,30,null,42.290199999999999,47.857500000000002,47.531999999999996,null,null,null,null,null,42.287199999999999,47.854799999999997,47.483899999999998,null,null,null,null,null,null,null,null,null,null,null,null,null,3.0000000000001137E-3,2.7000000000043656E-3,4.8099999999998033E-2]
[null,null,null,35,null,40.591200000000001,46.499299999999998,46.255299999999998,null,null,null,null,null,40.5901,46.491,46.232700000000001,null,null,null,null,null,null,null,null,null,null,null,null,null,1.1000000000009891E-3,8.2999999999984198E-3,2.2599999999997067E-2]
[null,null,null,40,null,38.561900000000001,45.2988,45.043300000000002,null,null,null,null,null,38.558399999999999,45.307400000000001,44.985500000000002,null,null,null,null,null,null,null,null,null,null,null,null,null,3.5000000000025011E-3,-8.6000000000012733E-3,5.7800000000000296E-2]
[null,null,"syn 0.75",25,null,43.153399999999998,49.238,48.794499999999999,null,null,null,null,null,43.150599999999997,49.240499999999997,48.793599999999998,null,null,null,null,null,null,null,null,null,null,null,null,null,2.8000000000005798E-3,-2.4999999999977263E-3,9.0000000000145519E-4]
[null,null,null,30,null,41.997300000000003,48.228099999999998,47.9084,null,null,null,null,null,41.995399999999997,48.227699999999999,47.906500000000001,null,null,null,null,null,null,null,null,null,null,null,null,null,1.90000000000623E-3,3.9999999999906777E-4,1.8999999999991246E-3]
[null,null,null,35,null,40.429600000000001,46.752099999999999,46.596800000000002,null,null,null,null,null,40.429400000000001,46.758600000000001,46.5976,null,null,null,null,null,null,null,null,null,null,null,null,null,1.9999999999953388E-4,-6.5000000000026148E-3,-7.9999999999813554E-4]
[null,null,null,40,null,38.510300000000001,45.585799999999999,45.439799999999998,null,null,null,null,null,38.509300000000003,45.587800000000001,45.435600000000001,null,null,null,null,null,null,null,null,null,null,null,null,null,9.9999999999766942E-4,-2.0000000000024443E-3,4.199999999997317E-3]
[null,null,"syn 1.25",25,null,43.263300000000001,49.105699999999999,49.018799999999999,null,null,null,null,null,43.264600000000002,49.107799999999997,49.0182,null,null,null,null,null,null,null,null,null,null,null,null,null,-1.300000000000523E-3,-2.0999999999986585E-3,5.9999999999860165E-4]
[null,null,null,30,null,42.122700000000002,48.137599999999999,48.102699999999999,null,null,null,null,null,42.1175,48.140700000000002,48.108899999999998,null,null,null,null,null,null,null,null,null,null,null,null,null,5.2000000000020918E-3,-3.1000000000034333E-3,-6.1999999999997613E-3]
[null,null,null,35,null,40.53,46.733800000000002,46.751600000000003,null,null,null,null,null,40.529299999999999,46.736499999999999,46.755299999999998,null,null,null,null,null,null,null,null,null,null,null,null,null,7.0000000000192131E-4,-2.6999999999972601E-3,-3.6999999999949296E-3]
[null,null,null,40,null,38.587699999999998,45.618899999999996,45.558,null,null,null,null,null,38.589700000000001,45.609499999999997,45.564100000000003,null,null,null,null,null,null,null,null,null,null,null,null,null,-2.0000000000024443E-3,9.3999999999994088E-3,-6.100000000003547E-3]
[null,null,"syn 1.5",25,null,43.738999999999997,48.824599999999997,49.206099999999999,null,null,null,null,null,43.743099999999998,48.8279,49.188800000000001,null,null,null,null,null,null,null,null,null,null,null,null,null,-4.1000000000011028E-3,-3.3000000000029672E-3,1.7299999999998761E-2]
[null,null,null,30,null,42.478299999999997,47.667700000000004,48.0411,null,null,null,null,null,42.472200000000001,47.652999999999999,48.048499999999997,null,null,null,null,null,null,null,null,null,null,null,null,null,6.0999999999964416E-3,1.470000000000482E-2,-7.3999999999969646E-3]
[null,null,null,35,null,40.8003,46.357100000000003,46.744799999999998,null,null,null,null,null,40.800600000000003,46.374099999999999,46.727499999999999,null,null,null,null,null,null,null,null,null,null,null,null,null,-3.0000000000285354E-4,-1.6999999999995907E-2,1.7299999999998761E-2]
[null,null,null,40,null,38.7911,45.121200000000002,45.468499999999999,null,null,null,null,null,38.7896,45.127699999999997,45.460299999999997,null,null,null,null,null,null,null,null,null,null,null,null,null,1.5000000000000568E-3,-6.4999999999955094E-3,8.2000000000022055E-3]
[null,null,"syn 1.75",25,null,42.924399999999999,47.607199999999999,48.148600000000002,null,null,null,null,null,42.927599999999998,47.601199999999999,48.131599999999999,null,null,null,null,null,null,null,null,null,null,null,null,null,-3.1999999999996476E-3,6.0000000000002274E-3,1.7000000000003013E-2]
[null,null,null,30,null,41.816200000000002,46.633499999999998,47.0501,null,null,null,null,null,41.815300000000001,46.6006,47.064900000000002,null,null,null,null,null,null,null,null,null,null,null,null,null,9.0000000000145519E-4,3.2899999999997931E-2,-1.4800000000001035E-2]
[null,null,null,35,null,40.295400000000001,45.641800000000003,46.017200000000003,null,null,null,null,null,40.296100000000003,45.643099999999997,46.006999999999998,null,null,null,null,null,null,null,null,null,null,null,null,null,-7.0000000000192131E-4,-1.2999999999934175E-3,1.020000000000465E-2]
[null,null,null,40,null,38.439399999999999,44.634599999999999,44.872700000000002,null,null,null,null,null,38.4328,44.631100000000004,44.863,null,null,null,null,null,null,null,null,null,null,null,null,null,6.599999999998829E-3,3.4999999999953957E-3,9.7000000000022624E-3]
[null,null,"overall",25,1493.9349999999999,null,null,null,30575.93,68.08,577.79999999999995,null,1493.1189999999999,null,null,null,30749.9,68.45,580.24,null,null,null,null,null,{"$f":"GEOMEAN(Q259:Q262)/GEOMEAN(I259:I262)","v":1.0009111284696153},{"$f":"GEOMEAN(R259:R262)/GEOMEAN(J259:J262)","v":0.99899245310891704},{"$f":"GEOMEAN(S259:S262)/GEOMEAN(K259:K262)","v":1.0042741561011372},null,{"$f":"E259 -M259","v":0.81600000000003092},null,null,null,{"$f":"I259 -Q259","v":-173.97000000000116},-0.37000000000000455,-2.4400000000000546]
[null,null,null,30,611.97,null,null,null,24382.9,64.28,577.07000000000005,null,612.02700000000004,null,null,null,24461.54,64.03,586.9,null,null,null,null,null,null,null,null,null,{"$f":"E260 -M260","v":-5.7000000000016371E-2},null,null,null,-78.639999999999418,0.25,-9.8299999999999272]
[null,null,null,35,311.55,null,null,null,21797.64,61.71,582.38,null,311.803,null,null,null,21794.720000000001,61.83,580.63,null,null,null,null,null,null,null,null,null,{"$f":"E261 -M261","v":-0.2529999999999859},null,null,null,2.9199999999982538,-0.11999999999999744,1.75]
[null,null,null,40,173.32900000000001,null,null,null,20404.509999999998,60.24,579.86,null,173.18700000000001,null,null,null,20300.37,59.79,579.26,null,null,null,null,null,null,null,null,null,{"$f":"E262 -M262","v":0.14199999999999591},null,null,null,104.13999999999942,0.45000000000000284,0.60000000000002274]
["1920x1088","Poznan_Street","video 0",25,2440.0616,39.862699999999997,46.750500000000002,46.033000000000001,null,null,null,null,2440.0616,39.862699999999997,46.750500000000002,46.033000000000001,null,null,null,null,{"$f":"bdrate($E263:$E266,F263:F266,$M263:$M266,N263:N266)","v":0},{"$f":"bdrate($E263:$E266,G263:G266,$M263:$M266,O263:O266)","v":0},{"$f":"bdrate($E263:$E266,H263:H266,$M263:$M266,P263:P266)","v":0},null,null,null,null,null,{"$f":"E263 -M263","v":0},{"$f":"F263 -N263","v":0},0,0]
[null,null,null,30,955.89840000000004,37.901400000000002,45.310899999999997,44.552900000000001,null,null,null,null,955.89840000000004,37.901400000000002,45.310899999999997,44.552900000000001,null,null,null,null,null,null,null,null,null,null,null,null,{"$f":"E264 -M264","v":0},0,0,0]
[null,null,null,35,461.74079999999998,35.8827,43.552599999999998,42.826900000000002,null,null,null,null,461.74079999999998,35.8827,43.552599999999998,42.826900000000002,null,null,null,null,null,null,null,null,null,null,null,null,0,0,0,0]
[null,null,null,40,241.04560000000001,33.763199999999998,42.313600000000001,41.620699999999999,null,null,null,null,241.04560000000001,33.763199999999998,42.313600000000001,41.620699999999999,null,null,null,null,null,null,null,null,null,null,null,null,0,0,0,0]
[null,null,"video 1",25,702.71360000000004,38.9816,46.5974,44.726399999999998,null,null,null,null,702.49919999999997,38.982500000000002,46.591799999999999,44.723799999999997,null,null,null,null,{"$f":"bdrate($E267:$E270,F267:F270,$M267:$M270,N267:N270)","v":-2.0858892178245991E-3},{"$f":"bdrate($E267:$E270,G267:G270,$M267:$M270,O267:O270)","v":9.8624223513388287E-4},{"$f":"bdrate($E267:$E270,H267:H270,$M267:$M270,P267:P270)","v":9.3351896711957316E-4},null,null,null,null,null,0.21440000000006876,-9.0000000000145519E-4,5.6000000000011596E-3,2.6000000000010459E-3]
[null,null,null,30,195.8896,37.130800000000001,45.165500000000002,43.099499999999999,null,null,null,null,195.57759999999999,37.131599999999999,45.161299999999997,43.093200000000003,null,null,null,null,null,null,null,null,null,null,null,null,0.31200000000001182,-7.9999999999813554E-4,4.2000000000044224E-3,6.2999999999959755E-3]
[null,null,null,35,75.611199999999997,35.239699999999999,43.678100000000001,41.822699999999998,null,null,null,null,75.426400000000001,35.2395,43.675400000000003,41.8217,null,null,null,null,null,null,null,null,null,null,null,null,0.18479999999999563,1.9999999999953388E-4,2.6999999999972601E-3,9.9999999999766942E-4]
[null,null,null,40,33.429600000000001,33.262500000000003,42.4968,40.871499999999997,null,null,null,null,33.328800000000001,33.2607,42.493899999999996,40.872500000000002,null,null,null,null,null,null,null,null,null,null,null,null,0.10079999999999956,1.8000000000029104E-3,2.9000000000038995E-3,-1.0000000000047748E-3]
[null,null,"video 2",25,692.7568,38.913400000000003,46.422499999999999,46.132100000000001,null,null,null,null,691.88720000000001,38.912799999999997,46.427100000000003,46.132100000000001,null,null,null,null,{"$f":"bdrate($E271:$E274,F271:F274,$M271:$M274,N271:N274)","v":5.0272581470744981E-4},{"$f":"bdrate($E271:$E274,G271:G274,$M271:$M274,O271:O274)","v":1.8092027223166607E-3},{"$f":"bdrate($E271:$E274,H271:H274,$M271:$M274,P271:P274)","v":-1.158814576194267E-3},null,null,null,null,null,0.86959999999999127,6.0000000000570708E-4,-4.6000000000034902E-3,0]
[null,null,null,30,192.9992,36.946599999999997,44.997100000000003,44.720100000000002,null,null,null,null,192.7328,36.943800000000003,44.985199999999999,44.718699999999998,null,null,null,null,null,null,null,null,null,null,null,null,0.26640000000000441,2.7999999999934744E-3,1.1900000000004241E-2,1.4000000000038426E-3]
[null,null,null,35,73.8416,34.972700000000003,43.475999999999999,43.118000000000002,null,null,null,null,73.989599999999996,34.9711,43.4816,43.1233,null,null,null,null,null,null,null,null,null,null,null,null,-0.14799999999999613,1.6000000000033765E-3,-5.6000000000011596E-3,-5.2999999999983061E-3]
[null,null,null,40,31.5808,32.947600000000001,42.314799999999998,41.922699999999999,null,null,null,null,31.467199999999998,32.948300000000003,42.308100000000003,41.922600000000003,null,null,null,null,null,null,null,null,null,null,null,null,0.1136000000000017,-7.0000000000192131E-4,6.6999999999950433E-3,9.9999999996214228E-5]
[null,null,"depth 0",34,163.17679999999999,43.912999999999997,null,null,null,null,null,null,163.1944,43.9146,null,null,null,null,null,null,{"$f":"bdrate($E275:$E278,F275:F278,$M275:$M278,N275:N278)","v":4.1139969898984496E-4},null,null,null,null,null,null,null,-1.7600000000015825E-2,-1.6000000000033765E-3]
[null,null,null,39,49.744799999999998,40.968000000000004,null,null,null,null,null,null,49.782400000000003,40.966000000000001,null,null,null,null,null,null,null,null,null,null,null,null,null,null,-3.7600000000004741E-2,2.0000000000024443E-3]
[null,null,null,42,20.974399999999999,37.418199999999999,null,null,null,null,null,null,20.962399999999999,37.417099999999998,null,null,null,null,null,null,null,null,null,null,null,null,null,null,1.2000000000000455E-2,1.1000000000009891E-3]
[null,null,null,45,11.1488,35.405799999999999,null,null,null,null,null,null,11.1488,35.405799999999999,null,null,null,null,null,null,null,null,null,null,null,null,null,null,0,0]
[null,null,"depth 1",34,100.2024,42.296799999999998,null,null,null,null,null,null,99.952799999999996,42.323,null,null,null,null,null,null,{"$f":"bdrate($E279:$E282,F279:F282,$M279:$M282,N279:N282)","v":1.024542491440128E-3},null,null,null,null,null,null,null,0.24960000000000093,-2.6200000000002888E-2]
[null,null,null,39,24.371200000000002,39.7027,null,null,null,null,null,null,24.426400000000001,39.703600000000002,null,null,null,null,null,null,null,null,null,null,null,null,null,null,-5.519999999999925E-2,-9.0000000000145519E-4]
[null,null,null,42,9.4719999999999995,36.529000000000003,null,null,null,null,null,null,9.4879999999999995,36.509300000000003,null,null,null,null,null,null,null,null,null,null,null,null,null,null,-1.6000000000000014E-2,1.9700000000000273E-2]
[null,null,null,45,4.8087999999999997,34.527299999999997,null,null,null,null,null,null,4.7855999999999996,34.520000000000003,null,null,null,null,null,null,null,null,null,null,null,null,null,null,2.3200000000000109E-2,7.2999999999936449E-3]
[null,null,"depth 2",34,116.6696,41.7821,null,null,null,null,null,null,116.4224,41.788800000000002,null,null,null,null,null,null,{"$f":"bdrate($E283:$E286,F283:F286,$M283:$M286,N283:N286)","v":8.3635167642537311E-3},null,null,null,null,null,null,null,0.24720000000000653,-6.7000000000021487E-3]
[null,null,null,39,28.164000000000001,39.119599999999998,null,null,null,null,null,null,28.4984,39.100299999999997,null,null,null,null,null,null,null,null,null,null,null,null,null,null,-0.3343999999999987,1.9300000000001205E-2]
[null,null,null,42,10.362399999999999,36.184100000000001,null,null,null,null,null,null,10.416,36.197600000000001,null,null,null,null,null,null,null,null,null,null,null,null,null,null,-5.3600000000001202E-2,-1.3500000000000512E-2]
[null,null,null,45,4.9303999999999997,34.329500000000003,null,null,null,null,null,null,4.9231999999999996,34.313499999999998,null,null,null,null,null,null,null,null,null,null,null,null,null,null,7.2000000000000952E-3,1.6000000000005343E-2]
[null,null,"syn 0.25",25,null,40.001199999999997,46.640799999999999,46.008099999999999,null,null,null,null,null,40.0017,46.616,45.9816,null,null,null,null,null,null,null,null,null,null,null,null,null,-5.0000000000238742E-4,2.4799999999999045E-2,2.6499999999998636E-2]
[null,null,null,30,null,37.924799999999998,45.124400000000001,44.331899999999997,null,null,null,null,null,37.926400000000001,45.1616,44.354999999999997,null,null,null,null,null,null,null,null,null,null,null,null,null,-1.6000000000033765E-3,-3.7199999999998568E-2,-2.3099999999999454E-2]
[null,null,null,35,null,35.886099999999999,43.692300000000003,42.998899999999999,null,null,null,null,null,35.886499999999998,43.673400000000001,43.004899999999999,null,null,null,null,null,null,null,null,null,null,null,null,null,-3.9999999999906777E-4,1.8900000000002137E-2,-6.0000000000002274E-3]
[null,null,null,40,null,33.771799999999999,42.494500000000002,42.024500000000003,null,null,null,null,null,33.770800000000001,42.515799999999999,42.020699999999998,null,null,null,null,null,null,null,null,null,null,null,null,null,9.9999999999766942E-4,-2.1299999999996544E-2,3.8000000000053547E-3]
[null,null,"syn 0.50",25,null,40.708500000000001,47.346800000000002,46.868299999999998,null,null,null,null,null,40.709600000000002,47.3386,46.854799999999997,null,null,null,null,null,null,null,null,null,null,null,null,null,-1.1000000000009891E-3,8.2000000000022055E-3,1.3500000000000512E-2]
[null,null,null,30,null,38.418599999999998,45.669899999999998,45.120899999999999,null,null,null,null,null,38.420900000000003,45.692300000000003,45.136099999999999,null,null,null,null,null,null,null,null,null,null,null,null,null,-2.3000000000052978E-3,-2.2400000000004638E-2,-1.5200000000000102E-2]
[null,null,null,35,null,36.246699999999997,44.022300000000001,43.532499999999999,null,null,null,null,null,36.247300000000003,44.0015,43.5396,null,null,null,null,null,null,null,null,null,null,null,null,null,-6.0000000000570708E-4,2.0800000000001262E-2,-7.1000000000012164E-3]
[null,null,null,40,null,34.0381,42.7014,42.394500000000001,null,null,null,null,null,34.037300000000002,42.723799999999997,42.389000000000003,null,null,null,null,null,null,null,null,null,null,null,null,null,7.9999999999813554E-4,-2.2399999999997533E-2,5.49999999999784E-3]
[null,null,"syn 0.75",25,null,40.615900000000003,47.562199999999997,47.198,null,null,null,null,null,40.616300000000003,47.560899999999997,47.196399999999997,null,null,null,null,null,null,null,null,null,null,null,null,null,-3.9999999999906777E-4,1.300000000000523E-3,1.6000000000033765E-3]
[null,null,null,30,null,38.408299999999997,46.009700000000002,45.580599999999997,null,null,null,null,null,38.408900000000003,46.012099999999997,45.582299999999996,null,null,null,null,null,null,null,null,null,null,null,null,null,-6.0000000000570708E-4,-2.3999999999944066E-3,-1.6999999999995907E-3]
[null,null,null,35,null,36.251800000000003,44.188899999999997,43.786999999999999,null,null,null,null,null,36.250799999999998,44.185699999999997,43.791200000000003,null,null,null,null,null,null,null,null,null,null,null,null,null,1.0000000000047748E-3,3.1999999999996476E-3,-4.2000000000044224E-3]
[null,null,null,40,null,34.039400000000001,42.877099999999999,42.535600000000002,null,null,null,null,null,34.0398,42.876100000000001,42.536000000000001,null,null,null,null,null,null,null,null,null,null,null,null,null,-3.9999999999906777E-4,9.9999999999766942E-4,-3.9999999999906777E-4]
[null,null,"syn 1.25",25,null,40.568800000000003,47.480800000000002,47.012099999999997,null,null,null,null,null,40.568100000000001,47.479300000000002,47.011099999999999,null,null,null,null,null,null,null,null,null,null,null,null,null,7.0000000000192131E-4,1.5000000000000568E-3,9.9999999999766942E-4]
[null,null,null,30,null,38.349499999999999,45.917499999999997,45.381900000000002,null,null,null,null,null,38.348999999999997,45.918199999999999,45.381,null,null,null,null,null,null,null,null,null,null,null,null,null,5.0000000000238742E-4,-7.0000000000192131E-4,9.0000000000145519E-4]
[null,null,null,35,null,36.185600000000001,44.081499999999998,43.552399999999999,null,null,null,null,null,36.185299999999998,44.081099999999999,43.5505,null,null,null,null,null,null,null,null,null,null,null,null,null,3.0000000000285354E-4,3.9999999999906777E-4,1.8999999999991246E-3]
[null,null,null,40,null,33.964199999999998,42.750100000000003,42.278799999999997,null,null,null,null,null,33.964599999999997,42.7455,42.277900000000002,null,null,null,null,null,null,null,null,null,null,null,null,null,-3.9999999999906777E-4,4.6000000000034902E-3,8.9999999999434976E-4]
[null,null,"syn 1.5",25,null,40.601500000000001,47.049700000000001,46.816499999999998,null,null,null,null,null,40.604799999999997,47.044699999999999,46.820599999999999,null,null,null,null,null,null,null,null,null,null,null,null,null,-3.2999999999958618E-3,5.000000000002558E-3,-4.1000000000011028E-3]
[null,null,null,30,null,38.269599999999997,45.520200000000003,45.1858,null,null,null,null,null,38.266800000000003,45.514800000000001,45.194299999999998,null,null,null,null,null,null,null,null,null,null,null,null,null,2.7999999999934744E-3,5.4000000000016257E-3,-8.4999999999979536E-3]
[null,null,null,35,null,36.078299999999999,43.753300000000003,43.398899999999998,null,null,null,null,null,36.076799999999999,43.7515,43.385899999999999,null,null,null,null,null,null,null,null,null,null,null,null,null,1.5000000000000568E-3,1.8000000000029104E-3,1.2999999999998124E-2]
[null,null,null,40,null,33.861800000000002,42.489699999999999,42.063600000000001,null,null,null,null,null,33.8628,42.476399999999998,42.057899999999997,null,null,null,null,null,null,null,null,null,null,null,null,null,-9.9999999999766942E-4,1.3300000000000978E-2,5.7000000000044793E-3]
[null,null,"syn 1.75",25,null,39.906300000000002,46.211399999999998,46.3992,null,null,null,null,null,39.903799999999997,46.212800000000001,46.400399999999998,null,null,null,null,null,null,null,null,null,null,null,null,null,2.5000000000048317E-3,-1.4000000000038426E-3,-1.1999999999972033E-3]
[null,null,null,30,null,37.740699999999997,44.899799999999999,44.888100000000001,null,null,null,null,null,37.739400000000003,44.884900000000002,44.886200000000002,null,null,null,null,null,null,null,null,null,null,null,null,null,1.2999999999934175E-3,1.4899999999997249E-2,1.8999999999991246E-3]
[null,null,null,35,null,35.660600000000002,43.346200000000003,43.192900000000002,null,null,null,null,null,35.660600000000002,43.3292,43.200400000000002,null,null,null,null,null,null,null,null,null,null,null,null,null,0,1.7000000000003013E-2,-7.5000000000002842E-3]
[null,null,null,40,null,33.545999999999999,42.1693,41.939599999999999,null,null,null,null,null,33.546599999999998,42.155799999999999,41.937899999999999,null,null,null,null,null,null,null,null,null,null,null,null,null,-5.9999999999860165E-4,1.3500000000000512E-2,1.6999999999995907E-3]
[null,null,"overall",25,4220.4111999999996,null,null,null,45409.75,82.1,726.37,null,4218.848,null,null,null,45218.13,82.17,726.78,null,null,null,null,null,{"$f":"GEOMEAN(Q311:Q314)/GEOMEAN(I311:I314)","v":0.99933174033002048},{"$f":"GEOMEAN(R311:R314)/GEOMEAN(J311:J314)","v":1.0222317838330106},{"$f":"GEOMEAN(S311:S314)/GEOMEAN(K311:K314)","v":1.0004352310592912},null,{"$f":"E311 -M311","v":1.5631999999995969},null,null,null,{"$f":"I311 -Q311","v":191.62000000000262},-7.000000000000739E-2,-0.40999999999996817]
[null,null,null,30,1451.8976,null,null,null,34638.69,74.569999999999993,725.9,null,1451.7464,null,null,null,34672.589999999997,76.69,723.78,null,null,null,null,null,null,null,null,null,{"$f":"E312 -M312","v":0.1512000000000171},null,null,null,-33.899999999994179,-2.1200000000000045,2.1200000000000045]
[null,null,null,35,656.83280000000002,null,null,null,30552.68,72.489999999999995,724.23,null,656.85360000000003,null,null,null,30634.57,76.89,728.1,null,null,null,null,null,null,null,null,null,{"$f":"E313 -M313","v":-2.0800000000008367E-2},null,null,null,-81.889999999999418,-4.4000000000000057,-3.8700000000000045]
[null,null,null,40,331.77440000000001,null,null,null,27632.39,71.150000000000006,725,null,331.52960000000002,null,null,null,27574.42,71.16,724.11,null,null,null,null,null,null,null,null,null,{"$f":"E314 -M314","v":0.24479999999999791},null,null,null,57.970000000001164,-9.9999999999909051E-3,0.88999999999998636]
["1920x1088","Undo_Dancer","video 0",25,4628.1440000000002,38.803199999999997,46.650700000000001,45.958799999999997,null,null,null,null,4628.1440000000002,38.803199999999997,46.650700000000001,45.958799999999997,null,null,null,null,{"$f":"bdrate($E315:$E318,F315:F318,$M315:$M318,N315:N318)","v":0},{"$f":"bdrate($E315:$E318,G315:G318,$M315:$M318,O315:O318)","v":0},{"$f":"bdrate($E315:$E318,H315:H318,$M315:$M318,P315:P318)","v":0},null,null,null,null,null,{"$f":"E315 -M315","v":0},{"$f":"F315 -N315","v":0},0,0]
[null,null,null,30,2007.308,35.911799999999999,45.155500000000004,44.572600000000001,null,null,null,null,2007.308,35.911799999999999,45.155500000000004,44.572600000000001,null,null,null,null,null,null,null,null,null,null,null,null,{"$f":"E316 -M316","v":0},0,0,0]
[null,null,null,35,916.85599999999999,33.377400000000002,43.7864,43.341200000000001,null,null,null,null,916.85599999999999,33.377400000000002,43.7864,43.341200000000001,null,null,null,null,null,null,null,null,null,null,null,null,0,0,0,0]
[null,null,null,40,425.44720000000001,31.080500000000001,42.991700000000002,42.590800000000002,null,null,null,null,425.44720000000001,31.080500000000001,42.991700000000002,42.590800000000002,null,null,null,null,null,null,null,null,null,null,null,null,0,0,0,0]
[null,null,"video 1",25,911.28480000000002,37.980200000000004,46.572000000000003,45.970700000000001,null,null,null,null,911.04319999999996,37.978099999999998,46.572299999999998,45.973500000000001,null,null,null,null,{"$f":"bdrate($E319:$E322,F319:F322,$M319:$M322,N319:N322)","v":4.1860388419068251E-4},{"$f":"bdrate($E319:$E322,G319:G322,$M319:$M322,O319:O322)","v":-5.9568604253246171E-4},{"$f":"bdrate($E319:$E322,H319:H322,$M319:$M322,P319:P322)","v":1.2504626800025065E-5},null,null,null,null,null,0.24160000000006221,2.1000000000057639E-3,-2.9999999999574811E-4,-2.8000000000005798E-3]
[null,null,null,30,319.52640000000002,35.352499999999999,45.118499999999997,44.589700000000001,null,null,null,null,319.27679999999998,35.3504,45.119500000000002,44.587899999999998,null,null,null,null,null,null,null,null,null,null,null,null,0.24960000000004356,2.0999999999986585E-3,-1.0000000000047748E-3,1.8000000000029104E-3]
[null,null,null,35,136.3896,32.9529,43.8444,43.408700000000003,null,null,null,null,136.5,32.952199999999998,43.845300000000002,43.409199999999998,null,null,null,null,null,null,null,null,null,null,null,null,-0.1103999999999985,7.0000000000192131E-4,-9.0000000000145519E-4,-4.99999999995282E-4]
[null,null,null,40,62.818399999999997,30.735700000000001,43.047800000000002,42.661000000000001,null,null,null,null,62.799199999999999,30.735700000000001,43.045900000000003,42.660200000000003,null,null,null,null,null,null,null,null,null,null,null,null,1.9199999999997885E-2,0,1.8999999999991246E-3,7.9999999999813554E-4]
[null,null,"video 2",25,866.32159999999999,38.1462,46.511899999999997,45.777999999999999,null,null,null,null,865.19359999999995,38.142299999999999,46.5122,45.776000000000003,null,null,null,null,{"$f":"bdrate($E323:$E326,F323:F326,$M323:$M326,N323:N326)","v":3.7853781933083752E-4},{"$f":"bdrate($E323:$E326,G323:G326,$M323:$M326,O323:O326)","v":1.6940639353741904E-3},{"$f":"bdrate($E323:$E326,H323:H326,$M323:$M326,P323:P326)","v":1.1822157997112281E-3},null,null,null,null,null,1.1280000000000427,3.9000000000015689E-3,-3.0000000000285354E-4,1.9999999999953388E-3]
[null,null,null,30,304.85359999999997,35.535899999999998,45.049300000000002,44.429299999999998,null,null,null,null,304.70240000000001,35.533499999999997,45.044699999999999,44.426400000000001,null,null,null,null,null,null,null,null,null,null,null,null,0.15119999999996026,2.400000000001512E-3,4.6000000000034902E-3,2.899999999996794E-3]
[null,null,null,35,130.416,33.142400000000002,43.755699999999997,43.261000000000003,null,null,null,null,130.41679999999999,33.140999999999998,43.753799999999998,43.259799999999998,null,null,null,null,null,null,null,null,null,null,null,null,-7.9999999999813554E-4,1.4000000000038426E-3,1.8999999999991246E-3,1.2000000000043087E-3]
[null,null,null,40,60.46,30.9068,42.957700000000003,42.515099999999997,null,null,null,null,60.483199999999997,30.908000000000001,42.954700000000003,42.514699999999998,null,null,null,null,null,null,null,null,null,null,null,null,-2.3199999999995669E-2,-1.200000000000756E-3,3.0000000000001137E-3,3.9999999999906777E-4]
[null,null,"depth 0",34,207.8048,47.538400000000003,null,null,null,null,null,null,207.34800000000001,47.521900000000002,null,null,null,null,null,null,{"$f":"bdrate($E327:$E330,F327:F330,$M327:$M330,N327:N330)","v":-2.1671636203524081E-4},null,null,null,null,null,null,null,0.45679999999998699,1.6500000000000625E-2]
[null,null,null,39,92.756799999999998,42.904400000000003,null,null,null,null,null,null,92.828000000000003,42.905000000000001,null,null,null,null,null,null,null,null,null,null,null,null,null,null,-7.1200000000004593E-2,-5.9999999999860165E-4]
[null,null,null,42,45.231999999999999,39.170699999999997,null,null,null,null,null,null,45.127200000000002,39.166899999999998,null,null,null,null,null,null,null,null,null,null,null,null,null,null,0.10479999999999734,3.7999999999982492E-3]
[null,null,null,45,21.521599999999999,35.131599999999999,null,null,null,null,null,null,21.5184,35.130699999999997,null,null,null,null,null,null,null,null,null,null,null,null,null,null,3.1999999999996476E-3,9.0000000000145519E-4]
[null,null,"depth 1",34,93.362399999999994,46.222200000000001,null,null,null,null,null,null,93.157600000000002,46.156399999999998,null,null,null,null,null,null,{"$f":"bdrate($E331:$E334,F331:F334,$M331:$M334,N331:N334)","v":6.4296320434178433E-3},null,null,null,null,null,null,null,0.20479999999999166,6.5800000000002967E-2]
[null,null,null,39,37.273600000000002,41.857100000000003,null,null,null,null,null,null,37.156799999999997,41.8461,null,null,null,null,null,null,null,null,null,null,null,null,null,null,0.1168000000000049,1.1000000000002785E-2]
[null,null,null,42,18.7592,38.4084,null,null,null,null,null,null,18.840800000000002,38.373199999999997,null,null,null,null,null,null,null,null,null,null,null,null,null,null,-8.1600000000001671E-2,3.5200000000003229E-2]
[null,null,null,45,9.4288000000000007,34.552300000000002,null,null,null,null,null,null,9.5104000000000006,34.543500000000002,null,null,null,null,null,null,null,null,null,null,null,null,null,null,-8.1599999999999895E-2,8.8000000000008072E-3]
[null,null,"depth 2",34,94.095200000000006,46.3673,null,null,null,null,null,null,93.802400000000006,46.351799999999997,null,null,null,null,null,null,{"$f":"bdrate($E335:$E338,F335:F338,$M335:$M338,N335:N338)","v":-1.4526252237582193E-3},null,null,null,null,null,null,null,0.29279999999999973,1.5500000000002956E-2]
[null,null,null,39,38.730400000000003,41.930999999999997,null,null,null,null,null,null,38.552,41.9437,null,null,null,null,null,null,null,null,null,null,null,null,null,null,0.17840000000000344,-1.2700000000002376E-2]
[null,null,null,42,19.717600000000001,38.4148,null,null,null,null,null,null,19.7776,38.4148,null,null,null,null,null,null,null,null,null,null,null,null,null,null,-5.9999999999998721E-2,0]
[null,null,null,45,10.168799999999999,34.743899999999996,null,null,null,null,null,null,10.184799999999999,34.735199999999999,null,null,null,null,null,null,null,null,null,null,null,null,null,null,-1.6000000000000014E-2,8.6999999999974875E-3]
[null,null,"syn 0.25",25,null,38.518000000000001,46.563899999999997,45.643799999999999,null,null,null,null,null,38.518000000000001,46.571100000000001,45.6663,null,null,null,null,null,null,null,null,null,null,null,null,null,0,-7.2000000000045361E-3,-2.2500000000000853E-2]
[null,null,null,30,null,35.702800000000003,45.253,44.520800000000001,null,null,null,null,null,35.700299999999999,45.23,44.5015,null,null,null,null,null,null,null,null,null,null,null,null,null,2.5000000000048317E-3,2.300000000000324E-2,1.9300000000001205E-2]
[null,null,null,35,null,33.180700000000002,43.975900000000003,43.473100000000002,null,null,null,null,null,33.181600000000003,43.99,43.483699999999999,null,null,null,null,null,null,null,null,null,null,null,null,null,-9.0000000000145519E-4,-1.4099999999999113E-2,-1.0599999999996612E-2]
[null,null,null,40,null,30.867699999999999,43.250999999999998,42.766300000000001,null,null,null,null,null,30.865300000000001,43.233899999999998,42.741100000000003,null,null,null,null,null,null,null,null,null,null,null,null,null,2.3999999999979593E-3,1.7099999999999227E-2,2.5199999999998113E-2]
[null,null,"syn 0.50",25,null,38.918700000000001,46.939799999999998,46.012999999999998,null,null,null,null,null,38.916600000000003,46.933999999999997,46.023200000000003,null,null,null,null,null,null,null,null,null,null,null,null,null,2.0999999999986585E-3,5.8000000000006935E-3,-1.020000000000465E-2]
[null,null,null,30,null,35.974499999999999,45.530700000000003,44.819699999999997,null,null,null,null,null,35.971499999999999,45.508800000000001,44.803800000000003,null,null,null,null,null,null,null,null,null,null,null,null,null,3.0000000000001137E-3,2.1900000000002251E-2,1.5899999999994918E-2]
[null,null,null,35,null,33.369700000000002,44.2,43.713099999999997,null,null,null,null,null,33.3705,44.202399999999997,43.716999999999999,null,null,null,null,null,null,null,null,null,null,null,null,null,-7.9999999999813554E-4,-2.3999999999944066E-3,-3.9000000000015689E-3]
[null,null,null,40,null,31.005299999999998,43.4148,42.975999999999999,null,null,null,null,null,31.002600000000001,43.388599999999997,42.964799999999997,null,null,null,null,null,null,null,null,null,null,null,null,null,2.6999999999972601E-3,2.6200000000002888E-2,1.1200000000002319E-2]
[null,null,"syn 0.75",25,null,39.016800000000003,47.396099999999997,46.806899999999999,null,null,null,null,null,39.019500000000001,47.395899999999997,46.808700000000002,null,null,null,null,null,null,null,null,null,null,null,null,null,-2.6999999999972601E-3,1.9999999999953388E-4,-1.8000000000029104E-3]
[null,null,null,30,null,36.038800000000002,45.828299999999999,45.291899999999998,null,null,null,null,null,36.036000000000001,45.827800000000003,45.291499999999999,null,null,null,null,null,null,null,null,null,null,null,null,null,2.8000000000005798E-3,4.99999999995282E-4,3.9999999999906777E-4]
[null,null,null,35,null,33.420099999999998,44.380699999999997,43.961300000000001,null,null,null,null,null,33.422800000000002,44.382399999999997,43.962899999999998,null,null,null,null,null,null,null,null,null,null,null,null,null,-2.7000000000043656E-3,-1.6999999999995907E-3,-1.5999999999962711E-3]
[null,null,null,40,null,31.055299999999999,43.537199999999999,43.156300000000002,null,null,null,null,null,31.053799999999999,43.536299999999997,43.156199999999998,null,null,null,null,null,null,null,null,null,null,null,null,null,1.5000000000000568E-3,9.0000000000145519E-4,1.0000000000331966E-4]
[null,null,"syn 1.25",25,null,39.021999999999998,47.320799999999998,46.803400000000003,null,null,null,null,null,39.020400000000002,47.319800000000001,46.803100000000001,null,null,null,null,null,null,null,null,null,null,null,null,null,1.5999999999962711E-3,9.9999999999766942E-4,3.0000000000285354E-4]
[null,null,null,30,null,36.043999999999997,45.744599999999998,45.266300000000001,null,null,null,null,null,36.043100000000003,45.743699999999997,45.264800000000001,null,null,null,null,null,null,null,null,null,null,null,null,null,8.9999999999434976E-4,9.0000000000145519E-4,1.5000000000000568E-3]
[null,null,null,35,null,33.426400000000001,44.309899999999999,43.912999999999997,null,null,null,null,null,33.430999999999997,44.3078,43.912999999999997,null,null,null,null,null,null,null,null,null,null,null,null,null,-4.5999999999963848E-3,2.0999999999986585E-3,0]
[null,null,null,40,null,31.062100000000001,43.467300000000002,43.080500000000001,null,null,null,null,null,31.060700000000001,43.4664,43.0809,null,null,null,null,null,null,null,null,null,null,null,null,null,1.4000000000002899E-3,9.0000000000145519E-4,-3.9999999999906777E-4]
[null,null,"syn 1.5",25,null,38.941400000000002,46.418300000000002,46.543700000000001,null,null,null,null,null,38.943399999999997,46.383499999999998,46.530299999999997,null,null,null,null,null,null,null,null,null,null,null,null,null,-1.9999999999953388E-3,3.4800000000004161E-2,1.3400000000004297E-2]
[null,null,null,30,null,36.026699999999998,45.021000000000001,45.055900000000001,null,null,null,null,null,36.0274,45.016300000000001,45.0456,null,null,null,null,null,null,null,null,null,null,null,null,null,-7.0000000000192131E-4,4.6999999999997044E-3,1.0300000000000864E-2]
[null,null,null,35,null,33.417900000000003,43.754300000000001,43.5398,null,null,null,null,null,33.423900000000003,43.754399999999997,43.535200000000003,null,null,null,null,null,null,null,null,null,null,null,null,null,-6.0000000000002274E-3,-9.9999999996214228E-5,4.5999999999963848E-3]
[null,null,null,40,null,31.043299999999999,42.960900000000002,42.558900000000001,null,null,null,null,null,31.0442,42.969200000000001,42.568600000000004,null,null,null,null,null,null,null,null,null,null,null,null,null,-9.0000000000145519E-4,-8.2999999999984198E-3,-9.7000000000022624E-3]
[null,null,"syn 1.75",25,null,38.589700000000001,46.034999999999997,46.251800000000003,null,null,null,null,null,38.587299999999999,45.9803,46.230200000000004,null,null,null,null,null,null,null,null,null,null,null,null,null,2.400000000001512E-3,5.4699999999996862E-2,2.1599999999999397E-2]
[null,null,null,30,null,35.811199999999999,44.729300000000002,44.819600000000001,null,null,null,null,null,35.8108,44.7072,44.799900000000001,null,null,null,null,null,null,null,null,null,null,null,null,null,3.9999999999906777E-4,2.2100000000001785E-2,1.9700000000000273E-2]
[null,null,null,35,null,33.296399999999998,43.540199999999999,43.362299999999998,null,null,null,null,null,33.297499999999999,43.575699999999998,43.344900000000003,null,null,null,null,null,null,null,null,null,null,null,null,null,-1.1000000000009891E-3,-3.5499999999998977E-2,1.7399999999994975E-2]
[null,null,null,40,null,30.965900000000001,42.8003,42.336399999999998,null,null,null,null,null,30.9663,42.803699999999999,42.367899999999999,null,null,null,null,null,null,null,null,null,null,null,null,null,-3.9999999999906777E-4,-3.3999999999991815E-3,-3.1500000000001194E-2]
[null,null,"overall",25,6805.8432000000003,null,null,null,52749.56,99.28,726.41,null,6803.5191999999997,null,null,null,52976.71,99.1,723.29,null,null,null,null,null,{"$f":"GEOMEAN(Q363:Q366)/GEOMEAN(I363:I366)","v":0.99709143321285221},{"$f":"GEOMEAN(R363:R366)/GEOMEAN(J363:J366)","v":0.99708185184760989},{"$f":"GEOMEAN(S363:S366)/GEOMEAN(K363:K366)","v":0.99919097770651344},null,{"$f":"E363 -M363","v":2.3240000000005239},null,null,null,{"$f":"I363 -Q363","v":-227.15000000000146},0.18000000000000682,3.1200000000000045]
[null,null,null,30,2805.2791999999999,null,null,null,41470.46,90.22,730.88,null,2804.6543999999999,null,null,null,41208.46,90.36,722.36,null,null,null,null,null,null,null,null,null,{"$f":"E364 -M364","v":0.6248000000000502},null,null,null,262,-0.14000000000000057,8.5199999999999818]
[null,null,null,35,1272.2008000000001,null,null,null,34759.629999999997,85.21,725.67,null,1272.3488,null,null,null,34582.620000000003,85.17,735.48,null,null,null,null,null,null,null,null,null,{"$f":"E365 -M365","v":-0.14799999999991087},null,null,null,177.00999999999476,3.9999999999992042E-2,-9.8100000000000591]
[null,null,null,40,594.67520000000002,null,null,null,31060.09,81.680000000000007,724.21,null,594.77359999999999,null,null,null,30920.48,80.790000000000006,723.75,null,null,null,null,null,null,null,null,null,{"$f":"E366 -M366","v":-9.8399999999969623E-2},null,null,null,139.61000000000058,0.89000000000000057,0.46000000000003638]
["1920x1088","Shark","video 0",25,4178.4160000000002,41.485799999999998,46.601900000000001,46.044899999999998,null,null,null,null,4178.4160000000002,41.485799999999998,46.601900000000001,46.044899999999998,null,null,null,null,{"$f":"bdrate($E367:$E370,F367:F370,$M367:$M370,N367:N370)","v":0},{"$f":"bdrate($E367:$E370,G367:G370,$M367:$M370,O367:O370)","v":0},{"$f":"bdrate($E367:$E370,H367:H370,$M367:$M370,P367:P370)","v":0},null,null,null,null,null,{"$f":"E367 -M367","v":0},{"$f":"F367 -N367","v":0},{"$f":"G367 -O367","v":0},{"$f":"H367 -P367","v":0}]
[null,null,null,30,2104.3447999999999,38.491999999999997,44.899900000000002,44.105200000000004,null,null,null,null,2104.3447999999999,38.491999999999997,44.899900000000002,44.105200000000004,null,null,null,null,null,null,null,null,null,null,null,null,{"$f":"E368 -M368","v":0},0,0,0]
[null,null,null,35,1035.6823999999999,35.669600000000003,43.255800000000001,42.232700000000001,null,null,null,null,1035.6823999999999,35.669600000000003,43.255800000000001,42.232700000000001,null,null,null,null,null,null,null,null,null,null,null,null,0,0,0,0]
[null,null,null,40,497.1456,33.196399999999997,42.267699999999998,40.971499999999999,null,null,null,null,497.1456,33.196399999999997,42.267699999999998,40.971499999999999,null,null,null,null,null,null,null,null,null,null,null,null,0,0,0,0]
[null,null,"video 1",25,523.44640000000004,40.915500000000002,46.509799999999998,45.796999999999997,null,null,null,null,524.10159999999996,40.914200000000001,46.510300000000001,45.798499999999997,null,null,null,null,{"$f":"bdrate($E371:$E374,F371:F374,$M371:$M374,N371:N374)","v":7.369915411055139E-4},{"$f":"bdrate($E371:$E374,G371:G374,$M371:$M374,O371:O374)","v":6.326023945748549E-4},{"$f":"bdrate($E371:$E374,H371:H374,$M371:$M374,P371:P374)","v":1.032000712730019E-3},null,null,null,null,null,-0.65519999999992251,1.300000000000523E-3,-5.0000000000238742E-4,-1.5000000000000568E-3]
[null,null,null,30,216.99279999999999,38.072800000000001,44.844999999999999,43.935000000000002,null,null,null,null,216.92160000000001,38.070599999999999,44.841999999999999,43.932000000000002,null,null,null,null,null,null,null,null,null,null,null,null,7.1199999999976171E-2,2.2000000000019782E-3,3.0000000000001137E-3,3.0000000000001137E-3]
[null,null,null,35,102.0168,35.386800000000001,43.252000000000002,42.164099999999998,null,null,null,null,102.024,35.385599999999997,43.252600000000001,42.162599999999998,null,null,null,null,null,null,null,null,null,null,null,null,-7.1999999999974307E-3,1.2000000000043087E-3,-5.9999999999860165E-4,1.5000000000000568E-3]
[null,null,null,40,49.095999999999997,32.977499999999999,42.257800000000003,40.869599999999998,null,null,null,null,49.216000000000001,32.978499999999997,42.259700000000002,40.868899999999996,null,null,null,null,null,null,null,null,null,null,null,null,-0.12000000000000455,-9.9999999999766942E-4,-1.8999999999991246E-3,7.0000000000192131E-4]
[null,null,"video 2",25,526.88319999999999,40.923400000000001,46.501100000000001,45.803699999999999,null,null,null,null,527.28240000000005,40.921399999999998,46.500100000000003,45.8,null,null,null,null,{"$f":"bdrate($E375:$E378,F375:F378,$M375:$M378,N375:N378)","v":-2.0359084641519143E-4},{"$f":"bdrate($E375:$E378,G375:G378,$M375:$M378,O375:O378)","v":-6.6411462078419525E-5},{"$f":"bdrate($E375:$E378,H375:H378,$M375:$M378,P375:P378)","v":3.5036025872359211E-4},null,null,null,null,null,-0.39920000000006439,2.0000000000024443E-3,9.9999999999766942E-4,3.700000000002035E-3]
[null,null,null,30,218.352,38.084200000000003,44.834800000000001,43.9435,null,null,null,null,218.376,38.082700000000003,44.833199999999998,43.9407,null,null,null,null,null,null,null,null,null,null,null,null,-2.4000000000000909E-2,1.5000000000000568E-3,1.6000000000033765E-3,2.8000000000005798E-3]
[null,null,null,35,103.5904,35.397599999999997,43.240299999999998,42.1691,null,null,null,null,103.4952,35.3964,43.240699999999997,42.167999999999999,null,null,null,null,null,null,null,null,null,null,null,null,9.5200000000005502E-2,1.1999999999972033E-3,-3.9999999999906777E-4,1.1000000000009891E-3]
[null,null,null,40,51.111199999999997,32.986499999999999,42.2303,40.872,null,null,null,null,50.9176,32.9861,42.230200000000004,40.874099999999999,null,null,null,null,null,null,null,null,null,null,null,null,0.19359999999999644,3.9999999999906777E-4,9.9999999996214228E-5,-2.0999999999986585E-3]
[null,null,"depth 0",34,449.92079999999999,38.626800000000003,null,null,null,null,null,null,449.36559999999997,38.611400000000003,null,null,null,null,null,null,{"$f":"bdrate($E379:$E382,F379:F382,$M379:$M382,N379:N382)","v":1.5301005039318749E-3},null,null,null,null,null,null,null,0.55520000000001346,1.5399999999999636E-2]
[null,null,null,39,147.60560000000001,35.482599999999998,null,null,null,null,null,null,147.56559999999999,35.474499999999999,null,null,null,null,null,null,null,null,null,null,null,null,null,null,4.0000000000020464E-2,8.0999999999988859E-3]
[null,null,null,42,55.831200000000003,32.836500000000001,null,null,null,null,null,null,55.797600000000003,32.835900000000002,null,null,null,null,null,null,null,null,null,null,null,null,null,null,3.3599999999999852E-2,5.9999999999860165E-4]
[null,null,null,45,23.108799999999999,30.3339,null,null,null,null,null,null,23.105599999999999,30.334299999999999,null,null,null,null,null,null,null,null,null,null,null,null,null,null,3.1999999999996476E-3,-3.9999999999906777E-4]
[null,null,"depth 1",34,190.39519999999999,37.719900000000003,null,null,null,null,null,null,189.66480000000001,37.718200000000003,null,null,null,null,null,null,{"$f":"bdrate($E383:$E386,F383:F386,$M383:$M386,N383:N386)","v":-1.9777922431285511E-4},null,null,null,null,null,null,null,0.73039999999997463,1.6999999999995907E-3]
[null,null,null,39,54.942399999999999,34.834299999999999,null,null,null,null,null,null,54.879199999999997,34.825200000000002,null,null,null,null,null,null,null,null,null,null,null,null,null,null,6.3200000000001921E-2,9.0999999999965553E-3]
[null,null,null,42,22.125599999999999,32.354500000000002,null,null,null,null,null,null,21.98,32.352600000000002,null,null,null,null,null,null,null,null,null,null,null,null,null,null,0.14559999999999818,1.8999999999991246E-3]
[null,null,null,45,10.4672,29.8949,null,null,null,null,null,null,10.5816,29.894500000000001,null,null,null,null,null,null,null,null,null,null,null,null,null,null,-0.11439999999999984,3.9999999999906777E-4]
[null,null,"depth 2",34,189.79519999999999,37.472799999999999,null,null,null,null,null,null,189.7568,37.4818,null,null,null,null,null,null,{"$f":"bdrate($E387:$E390,F387:F390,$M387:$M390,N387:N390)","v":-9.9839260617284875E-4},null,null,null,null,null,null,null,3.8399999999995771E-2,-9.0000000000003411E-3]
[null,null,null,39,55.199199999999998,34.594000000000001,null,null,null,null,null,null,55.171999999999997,34.610500000000002,null,null,null,null,null,null,null,null,null,null,null,null,null,null,2.7200000000000557E-2,-1.6500000000000625E-2]
[null,null,null,42,22.029599999999999,32.173200000000001,null,null,null,null,null,null,22.224,32.179499999999997,null,null,null,null,null,null,null,null,null,null,null,null,null,null,-0.19440000000000168,-6.2999999999959755E-3]
[null,null,null,45,10.3864,29.718900000000001,null,null,null,null,null,null,10.331200000000001,29.694099999999999,null,null,null,null,null,null,null,null,null,null,null,null,null,null,5.519999999999925E-2,2.4800000000002598E-2]
[null,null,"syn 0.25",25,null,40.658900000000003,46.619500000000002,46.375599999999999,null,null,null,null,null,40.656700000000001,46.634599999999999,46.372199999999999,null,null,null,null,null,null,null,null,null,null,null,null,null,2.2000000000019782E-3,{"$f":"G391 -O391","v":-1.5099999999996783E-2},{"$f":"H391 -P391","v":3.3999999999991815E-3}]
[null,null,null,30,null,37.890300000000003,45.064999999999998,44.4908,null,null,null,null,null,37.89,45.058100000000003,44.488700000000001,null,null,null,null,null,null,null,null,null,null,null,null,null,3.0000000000285354E-4,6.8999999999945771E-3,2.0999999999986585E-3]
[null,null,null,35,null,35.247999999999998,43.409399999999998,42.576999999999998,null,null,null,null,null,35.246299999999998,43.414200000000001,42.576099999999997,null,null,null,null,null,null,null,null,null,null,null,null,null,1.6999999999995907E-3,-4.8000000000030241E-3,9.0000000000145519E-4]
[null,null,null,40,null,32.860900000000001,42.368499999999997,41.2241,null,null,null,null,null,32.860799999999998,42.373800000000003,41.225499999999997,null,null,null,null,null,null,null,null,null,null,null,null,null,1.0000000000331966E-4,-5.3000000000054115E-3,-1.3999999999967372E-3]
[null,null,"syn 0.50",25,null,40.8459,47.127499999999998,46.508800000000001,null,null,null,null,null,40.845199999999998,47.133499999999998,46.507599999999996,null,null,null,null,null,null,null,null,null,null,null,null,null,7.0000000000192131E-4,-6.0000000000002274E-3,1.2000000000043087E-3]
[null,null,null,30,null,38.029200000000003,45.439599999999999,44.624299999999998,null,null,null,null,null,38.0291,45.433500000000002,44.613399999999999,null,null,null,null,null,null,null,null,null,null,null,null,null,1.0000000000331966E-4,6.0999999999964416E-3,1.0899999999999466E-2]
[null,null,null,35,null,35.331099999999999,43.653199999999998,42.662599999999998,null,null,null,null,null,35.329500000000003,43.6554,42.660400000000003,null,null,null,null,null,null,null,null,null,null,null,null,null,1.5999999999962711E-3,-2.2000000000019782E-3,2.1999999999948727E-3]
[null,null,null,40,null,32.907499999999999,42.496299999999998,41.306199999999997,null,null,null,null,null,32.906700000000001,42.501399999999997,41.307299999999998,null,null,null,null,null,null,null,null,null,null,null,null,null,7.9999999999813554E-4,-5.0999999999987722E-3,-1.1000000000009891E-3]
[null,null,"syn 0.75",25,null,41.063200000000002,47.628100000000003,47.210799999999999,null,null,null,null,null,41.061900000000001,47.628300000000003,47.212699999999998,null,null,null,null,null,null,null,null,null,null,null,null,null,1.300000000000523E-3,-1.9999999999953388E-4,-1.8999999999991246E-3]
[null,null,null,30,null,38.162799999999997,45.795499999999997,45.126800000000003,null,null,null,null,null,38.163400000000003,45.797499999999999,45.127000000000002,null,null,null,null,null,null,null,null,null,null,null,null,null,-6.0000000000570708E-4,-2.0000000000024443E-3,-1.9999999999953388E-4]
[null,null,null,35,null,35.4238,43.9621,43.054200000000002,null,null,null,null,null,35.4221,43.958500000000001,43.053400000000003,null,null,null,null,null,null,null,null,null,null,null,null,null,1.6999999999995907E-3,3.5999999999987153E-3,7.9999999999813554E-4]
[null,null,null,40,null,32.9788,42.757399999999997,41.597999999999999,null,null,null,null,null,32.978099999999998,42.750999999999998,41.599200000000003,null,null,null,null,null,null,null,null,null,null,null,null,null,7.0000000000192131E-4,6.3999999999992951E-3,-1.2000000000043087E-3]
[null,null,"syn 1.25",25,null,41.053899999999999,47.679499999999997,47.232900000000001,null,null,null,null,null,41.054200000000002,47.681699999999999,47.231099999999998,null,null,null,null,null,null,null,null,null,null,null,null,null,-3.0000000000285354E-4,-2.2000000000019782E-3,1.8000000000029104E-3]
[null,null,null,30,null,38.160899999999998,45.8626,45.151699999999998,null,null,null,null,null,38.160600000000002,45.861400000000003,45.151299999999999,null,null,null,null,null,null,null,null,null,null,null,null,null,2.9999999999574811E-4,1.1999999999972033E-3,3.9999999999906777E-4]
[null,null,null,35,null,35.423099999999998,44.033700000000003,43.084800000000001,null,null,null,null,null,35.423400000000001,44.031799999999997,43.086599999999997,null,null,null,null,null,null,null,null,null,null,null,null,null,-3.0000000000285354E-4,1.90000000000623E-3,-1.799999999995805E-3]
[null,null,null,40,null,32.973700000000001,42.840200000000003,41.614100000000001,null,null,null,null,null,32.9726,42.837699999999998,41.615299999999998,null,null,null,null,null,null,null,null,null,null,null,null,null,1.1000000000009891E-3,2.5000000000048317E-3,-1.1999999999972033E-3]
[null,null,"syn 1.5",25,null,40.865600000000001,46.787199999999999,46.651499999999999,null,null,null,null,null,40.865400000000001,46.773299999999999,46.652200000000001,null,null,null,null,null,null,null,null,null,null,null,null,null,1.9999999999953388E-4,1.3899999999999579E-2,-7.0000000000192131E-4]
[null,null,null,30,null,38.0413,45.2254,44.725200000000001,null,null,null,null,null,38.041600000000003,45.234200000000001,44.72,null,null,null,null,null,null,null,null,null,null,null,null,null,-3.0000000000285354E-4,-8.8000000000008072E-3,5.2000000000020918E-3]
[null,null,null,35,null,35.343000000000004,43.593499999999999,42.762,null,null,null,null,null,35.3446,43.584600000000002,42.7577,null,null,null,null,null,null,null,null,null,null,null,null,null,-1.5999999999962711E-3,8.8999999999970214E-3,4.3000000000006366E-3]
[null,null,null,40,null,32.903500000000001,42.477499999999999,41.306699999999999,null,null,null,null,null,32.902299999999997,42.476999999999997,41.3003,null,null,null,null,null,null,null,null,null,null,null,null,null,1.2000000000043087E-3,5.0000000000238742E-4,6.3999999999992951E-3]
[null,null,"syn 1.75",25,null,40.687600000000003,46.615499999999997,46.621600000000001,null,null,null,null,null,40.686700000000002,46.620699999999999,46.626300000000001,null,null,null,null,null,null,null,null,null,null,null,null,null,9.0000000000145519E-4,-5.2000000000020918E-3,-4.6999999999997044E-3]
[null,null,null,30,null,37.910200000000003,45.0749,44.656599999999997,null,null,null,null,null,37.912599999999998,45.076799999999999,44.653300000000002,null,null,null,null,null,null,null,null,null,null,null,null,null,-2.3999999999944066E-3,-1.8999999999991246E-3,3.2999999999958618E-3]
[null,null,null,35,null,35.261899999999997,43.494399999999999,42.694400000000002,null,null,null,null,null,35.2624,43.486499999999999,42.6905,null,null,null,null,null,null,null,null,null,null,null,null,null,-5.0000000000238742E-4,7.899999999999352E-3,3.9000000000015689E-3]
[null,null,null,40,null,32.859299999999998,42.445999999999998,41.270699999999998,null,null,null,null,null,32.859299999999998,42.452100000000002,41.260399999999997,null,null,null,null,null,null,null,null,null,null,null,null,null,0,-6.100000000003547E-3,1.0300000000000864E-2]
[null,null,"overall",25,6064.6472000000003,null,null,null,69899.679999999993,114.44,870.81,null,6064.3775999999998,null,null,null,69996.03,121.78,878.47,null,null,null,null,null,{"$f":"GEOMEAN(Q415:Q418)/GEOMEAN(I415:I418)","v":0.99834740372923125},{"$f":"GEOMEAN(R415:R418)/GEOMEAN(J415:J418)","v":0.9904374848400207},{"$f":"GEOMEAN(S415:S418)/GEOMEAN(K415:K418)","v":1.0044574017596537},null,{"$f":"E415 -M415","v":0.26960000000053697},null,null,null,{"$f":"I415 -Q415","v":-96.350000000005821},-7.3400000000000034,-7.6600000000000819]
[null,null,null,30,2803.2271999999998,null,null,null,51894.16,108.51,875.03,null,2803.0495999999998,null,null,null,51673.11,104.33,871.61,null,null,null,null,null,null,null,null,null,{"$f":"E416 -M416","v":0.17759999999998399},null,null,null,221.05000000000291,4.1800000000000068,3.4199999999999591]
[null,null,null,35,1347.0663999999999,null,null,null,42350.91,104.41,868.11,null,1346.9936,null,null,null,42245.3,99.02,876.71,null,null,null,null,null,null,null,null,null,{"$f":"E417 -M417","v":7.2799999999915599E-2},null,null,null,105.61000000000058,5.3900000000000006,-8.6000000000000227]
[null,null,null,40,647.10559999999998,null,null,null,36168.879999999997,96.64,872.35,null,647.08799999999997,null,null,null,36124.5,95.84,875.05,null,null,null,null,null,null,null,null,null,{"$f":"E418 -M418","v":1.7600000000015825E-2},null,null,null,44.379999999997381,0.79999999999999716,-2.6999999999999318]
[]
[null,"Time geomean",null,"1024x768",null,null,null,null,{"$f":"GEOMEAN(I51:I54,I103:I106,I155:I158)","v":21883.667622106332},{"$f":"GEOMEAN(J51:J54,J103:J106,J155:J158)","v":39.233463090345303},{"$f":"GEOMEAN(K51:K54,K103:K106,K155:K158)","v":334.7610970501463},null,null,null,null,null,{"$f":"GEOMEAN(Q51:Q54,Q103:Q106,Q155:Q158)","v":21863.960080112829},{"$f":"GEOMEAN(R51:R54,R103:R106,R155:R158)","v":39.252853771715287},{"$f":"GEOMEAN(S51:S54,S103:S106,S155:S158)","v":336.61459912983997},null,null,null,null,null,null,null,"Missmatch:",{"$f":"SUM(AD420:AI420)","v":3508.0565000000097},{"$f":"SUM(ABS(AC3:AC418))","v":35.447199999999846},{"$f":"SUM(ABS(AD3:AD418))","v":2.0445000000000846},{"$f":"SUM(ABS(AE3:AE418))","v":1.6982000000000426},{"$f":"SUM(ABS(AF3:AF418))","v":1.6637999999999806},{"$f":"SUM(ABS(AG3:AG418))","v":3331.8500000000095},{"$f":"SUM(ABS(AH3:AH418))","v":45.120000000000026},{"$f":"SUM(ABS(AI3:AI418))","v":125.68000000000012}]
[null,null,null,"1920x1088",null,null,null,null,{"$f":"GEOMEAN(I207:I210,I259:I262,I311:I314,I363:I366)","v":34404.816949909626},{"$f":"GEOMEAN(J207:J210,J259:J262,J311:J314,J363:J366)","v":77.24707975017138},{"$f":"GEOMEAN(K207:K210,K259:K262,K311:K314,K363:K366)","v":685.59751987757704},null,null,null,null,null,{"$f":"GEOMEAN(Q207:Q210,Q259:Q262,Q311:Q314,Q363:Q366)","v":34360.250603494926},{"$f":"GEOMEAN(R207:R210,R259:R262,R311:R314,R363:R366)","v":77.758900594194031},{"$f":"GEOMEAN(S207:S210,S259:S262,S311:S314,S363:S366)","v":686.96415651436735}]
[null,null,null,"all",null,null,null,null,{"$f":"GEOMEAN(I51:I54,I103:I106,I155:I158,I207:I210,I259:I262,I311:I314,I363:I366)","v":28340.358109230168},{"$f":"GEOMEAN(J51:J54,J103:J106,J155:J158,J207:J210,J259:J262,J311:J314,J363:J366)","v":57.781053944579874},{"$f":"GEOMEAN(K51:K54,K103:K106,K155:K158,K207:K210,K259:K262,K311:K314,K363:K366)","v":504.24345662982296},null,null,null,null,null,{"$f":"GEOMEAN(Q51:Q54,Q103:Q106,Q155:Q158,Q207:Q210,Q259:Q262,Q311:Q314,Q363:Q366)","v":28308.441928202537},{"$f":"GEOMEAN(R51:R54,R103:R106,R155:R158,R207:R210,R259:R262,R311:R314,R363:R366)","v":58.011795582325753},{"$f":"GEOMEAN(S51:S54,S103:S106,S155:S158,S207:S210,S259:S262,S311:S314,S363:S366)","v":506.01357126158564}]
[null,"Time ratio",null,"1024x768",null,null,null,null,null,null,null,null,null,null,null,null,{"$f":"Q420/I420","v":0.99909944062696354},1.0004942383323474,1.005536790553103]
[null,null,null,"1920x1088",null,null,null,null,null,null,null,null,null,null,null,null,0.99870464805903236,1.006625763014964,1.001993351196828]
[null,null,null,"all",null,null,null,null,null,null,null,null,null,null,null,null,0.99887382576802242,1.0039933788325701,1.0035104364935015]
[]
["averages"]
[null,null,null,null,"Reference",null,null,null,null,null,null,null,"Tested",null,null,null,null,null,null,null,"BD-rate (piecewise cubic)"]
["Class","Sequence","average","QPISlice(V0)","kbps","Y-PSNR","U-PSNR","V-PSNR",null,null,null,null,"kbps","Y-PSNR","U-PSNR","V-PSNR",null,null,null,null,"Y","U","V"]
["1024x768",{"$f":"B3","v":"Balloons"},"video (2V)",25,{"$f":"E3+E7","v":1146.6064000000001},{"$f":"AVERAGE(F3,F7)","v":42.657550000000001},43.256249999999994,43.5533,null,null,null,null,{"$f":"M3+M7","v":1147.0008},{"$f":"AVERAGE(N3,N7)","v":42.657499999999999},43.253149999999998,43.551349999999999,null,null,null,null,{"$f":"bdrate($E430:$E433,F430:F433,$M430:$M433,N430:N433)","v":4.7587820025052352E-4},{"$f":"bdrate($E430:$E433,G430:G433,$M430:$M433,O430:O433)","v":8.7974608203844618E-4},{"$f":"bdrate($E430:$E433,H430:H433,$M430:$M433,P430:P433)","v":8.3410279126905351E-4}]
[null,null,null,30,{"$f":"E4+E8","v":603.61120000000005},40.4741,41.979749999999996,41.9375,null,null,null,null,{"$f":"M4+M8","v":604.09360000000004},40.475450000000002,41.977499999999999,41.937950000000001]
[null,null,null,35,{"$f":"E5+E9","v":341.108},37.885850000000005,40.606850000000001,40.293549999999996,null,null,null,null,{"$f":"M5+M9","v":341.12799999999999},37.883949999999999,40.608050000000006,40.290799999999997]
[null,null,null,40,{"$f":"E6+E10","v":201.48240000000001},35.11665,39.520949999999999,39.019599999999997,null,null,null,null,{"$f":"M6+M10","v":201.71120000000002},35.119100000000003,39.522100000000002,39.0214]
[null,null,"video (3V)",25,{"$f":"E3+E7+E11","v":1444.6552000000001},{"$f":"AVERAGE(F3,F7,F11)","v":42.402833333333334},43.019199999999991,43.326266666666669,null,null,null,null,{"$f":"M3+M7+M11","v":1445.0239999999999},{"$f":"AVERAGE(N3,N7,N11)","v":42.403066666666668},43.015700000000002,43.322366666666674,null,null,null,null,{"$f":"bdrate($E434:$E437,F434:F437,$M434:$M437,N434:N437)","v":2.150931162696601E-4},{"$f":"bdrate($E434:$E437,G434:G437,$M434:$M437,O434:O437)","v":9.4840655275052477E-4},{"$f":"bdrate($E434:$E437,H434:H437,$M434:$M437,P434:P437)","v":9.6908241920656835E-4}]
[null,null,null,30,{"$f":"E4+E8+E12","v":738.74320000000012},40.203233333333337,41.724600000000002,41.727499999999999,null,null,null,null,{"$f":"M4+M8+M12","v":739.23360000000002},40.204799999999999,41.721899999999998,41.726033333333334]
[null,null,null,35,{"$f":"E5+E9+E13","v":411.49279999999999},37.625933333333336,40.425133333333335,40.15,null,null,null,null,{"$f":"M5+M9+M13","v":411.58960000000002},37.627233333333329,40.426333333333339,40.149633333333334]
[null,null,null,40,{"$f":"E6+E10+E14","v":238.68560000000002},34.87766666666667,39.348366666666664,38.883566666666667,null,null,null,null,{"$f":"M6+M10+M14","v":239.03200000000001},34.880600000000001,39.35143333333334,38.885533333333335]
[null,null,"synth (2V)",25,{"$f":"E3+E7+E15+E19","v":1349.4808},{"$f":"AVERAGE(F27,F31,F35)","v":42.762400000000007},45.631166666666672,45.514333333333333,null,null,null,null,{"$f":"M3+M7+M15+M19","v":1349.9056},{"$f":"AVERAGE(N27,N31,N35)","v":42.764400000000002},45.630733333333332,45.515833333333326,null,null,null,null,{"$f":"bdrate($E438:$E441,F438:F441,$M438:$M441,N438:N441)","v":-6.2424705192776209E-4},{"$f":"bdrate($E438:$E441,G438:G441,$M438:$M441,O438:O441)","v":3.2490623800840446E-4},{"$f":"bdrate($E438:$E441,H438:H441,$M438:$M441,P438:P441)","v":2.4489078310541146E-5}]
[null,null,null,30,{"$f":"E4+E8+E16+E20","v":670.48400000000004},40.546233333333333,43.95793333333333,43.512933333333336,null,null,null,null,{"$f":"M4+M8+M16+M20","v":670.77840000000003},40.553033333333339,43.959533333333333,43.510266666666666]
[null,null,null,35,{"$f":"E5+E9+E17+E21","v":369.8288},37.999099999999999,42.188800000000001,41.529566666666668,null,null,null,null,{"$f":"M5+M9+M17+M21","v":369.85759999999999},38.000733333333336,42.187666666666665,41.53263333333333]
[null,null,null,40,{"$f":"E6+E10+E18+E22","v":215.81360000000001},35.257100000000001,40.828533333333333,40.02353333333334,null,null,null,null,{"$f":"M6+M10+M18+M22","v":216.00720000000001},35.261566666666674,40.827199999999998,40.030533333333338]
[null,null,"synth (3V)",25,{"$f":"E51","v":1748.8584000000001},{"$f":"AVERAGE(F27,F31,F35,F39,F43,F47)","v":42.676733333333338},45.582750000000004,45.463383333333333,null,null,null,null,{"$f":"M51","v":1749.1904},{"$f":"AVERAGE(N27,N31,N35,N39,N43,N47)","v":42.681633333333338},45.58270000000001,45.460716666666663,null,null,null,null,{"$f":"bdrate($E442:$E445,F442:F445,$M442:$M445,N442:N445)","v":-5.0938222982088721E-4},{"$f":"bdrate($E442:$E445,G442:G445,$M442:$M445,O442:O445)","v":-3.8859729952700484E-4},{"$f":"bdrate($E442:$E445,H442:H445,$M442:$M445,P442:P445)","v":5.2193194135763399E-4}]
[null,null,null,30,{"$f":"E52","v":842.01679999999999},40.483083333333333,43.906649999999992,43.464850000000006,null,null,null,null,{"$f":"M52","v":842.4864},40.48865,43.90775,43.459350000000001]
[null,null,null,35,{"$f":"E53","v":459.1728},37.943933333333341,42.139800000000001,41.477849999999997,null,null,null,null,{"$f":"M53","v":459.28160000000003},37.945383333333332,42.143333333333338,41.483249999999998]
[null,null,null,40,{"$f":"E54","v":265.12079999999997},35.201749999999997,40.80178333333334,39.96606666666667,null,null,null,null,{"$f":"M54","v":265.44799999999998},35.206550000000007,40.806833333333337,39.972366666666666]
[null,null,"all (2V)",25,{"$f":"E438","v":1349.4808},{"$f":"AVERAGE(F3,F7,F27,F31,F35)","v":42.720460000000003},44.681200000000004,44.72992,null,null,null,null,{"$f":"M438","v":1349.9056},{"$f":"AVERAGE(N3,N7,N27,N31,N35)","v":42.721640000000001},44.679699999999997,44.730039999999995,null,null,null,null,{"$f":"bdrate($E446:$E449,F446:F449,$M446:$M449,N446:N449)","v":-2.4461298255096242E-4},{"$f":"bdrate($E446:$E449,G446:G449,$M446:$M449,O446:O449)","v":4.724367768851323E-4},{"$f":"bdrate($E446:$E449,H446:H449,$M446:$M449,P446:P449)","v":2.5538285636383939E-4}]
[null,null,null,30,670.48400000000004,40.517379999999996,43.166659999999993,42.882760000000005,null,null,null,null,670.77840000000003,40.522000000000006,43.166719999999998,42.881340000000002]
[null,null,null,35,369.8288,37.953800000000001,41.556020000000004,41.035159999999998,null,null,null,null,369.85759999999999,37.95402,41.555820000000004,41.035900000000005]
[null,null,null,40,215.81360000000001,35.200919999999996,40.305500000000002,39.621960000000001,null,null,null,null,216.00720000000001,35.204580000000007,40.305160000000001,39.626880000000007]
[null,null,"all (3V)",25,1748.8584000000001,{"$f":"AVERAGE(F3,F7,F11,F27,F31,F35,F39,F43,F47)","v":42.585433333333341},44.728233333333336,44.751011111111112,null,null,null,null,1749.1904,{"$f":"AVERAGE(N3,N7,N11,N27,N31,N35,N39,N43,N47)","v":42.588777777777779},44.727033333333331,44.747933333333336,null,null,null,null,{"$f":"bdrate($E450:$E453,F450:F453,$M450:$M453,N450:N453)","v":-2.9534708620260197E-4},{"$f":"bdrate($E450:$E453,G450:G453,$M450:$M453,O450:O453)","v":-2.277296713293353E-5},{"$f":"bdrate($E450:$E453,H450:H453,$M450:$M453,P450:P453)","v":6.408765902805591E-4}]
[null,null,null,30,842.01679999999999,40.389800000000001,43.179300000000005,42.885733333333327,null,null,null,null,842.4864,40.39403333333334,43.17913333333334,42.881577777777778]
[null,null,null,35,459.1728,37.837933333333332,41.568244444444446,41.035233333333338,null,null,null,null,459.28160000000003,37.839333333333329,41.570999999999998,41.038711111111098]
[null,null,null,40,265.12079999999997,35.093722222222226,40.317311111111103,39.605233333333331,null,null,null,null,265.44799999999998,35.09790000000001,40.3217,39.610088888888889]
[null,{"$f":"B55","v":"Kendo"},"video (2V)",25,{"$f":"E55+E59","v":1119.5136},{"$f":"AVERAGE(F55,F59)","v":43.146000000000001},44.846150000000002,44.540999999999997,null,null,null,null,{"$f":"M55+M59","v":1119.8112000000001},{"$f":"AVERAGE(N55,N59)","v":43.146699999999996},44.849199999999996,44.542499999999997,null,null,null,null,{"$f":"bdrate($E454:$E457,F454:F457,$M454:$M457,N454:N457)","v":2.861128080982045E-4},{"$f":"bdrate($E454:$E457,G454:G457,$M454:$M457,O454:O457)","v":-5.5678607094489241E-4},{"$f":"bdrate($E454:$E457,H454:H457,$M454:$M457,P454:P457)","v":-1.9868871804340493E-4}]
[null,null,null,30,{"$f":"E56+E60","v":572.89679999999998},40.897199999999998,43.957949999999997,43.060200000000002,null,null,null,null,{"$f":"M56+M60","v":573.20640000000003},40.896549999999998,43.956800000000001,43.060100000000006]
[null,null,null,35,{"$f":"E57+E61","v":319.77199999999999},38.429400000000001,42.974350000000001,41.542050000000003,null,null,null,null,{"$f":"M57+M61","v":319.81360000000001},38.429900000000004,42.976600000000005,41.5443]
[null,null,null,40,{"$f":"E58+E62","v":188.1336},35.849500000000006,42.133499999999998,40.234999999999999,null,null,null,null,{"$f":"M58+M62","v":188.07759999999999},35.847099999999998,42.137549999999997,40.236450000000005]
[null,null,"video (3V)",25,{"$f":"E55+E59+E63","v":1409.5488},{"$f":"AVERAGE(F55,F59,F63)","v":42.873266666666666},44.545999999999999,44.32523333333333,null,null,null,null,{"$f":"M55+M59+M63","v":1409.5568000000001},{"$f":"AVERAGE(N55,N59,N63)","v":42.871499999999997},44.546866666666666,44.322600000000001,null,null,null,null,{"$f":"bdrate($E458:$E461,F458:F461,$M458:$M461,N458:N461)","v":4.562406429933219E-4},{"$f":"bdrate($E458:$E461,G458:G461,$M458:$M461,O458:O461)","v":-1.0569668833027013E-4},{"$f":"bdrate($E458:$E461,H458:H461,$M458:$M461,P458:P461)","v":-2.1151115686346422E-5}]
[null,null,null,30,{"$f":"E56+E60+E64","v":701.13919999999996},40.635266666666666,43.628499999999995,42.8611,null,null,null,null,{"$f":"M56+M60+M64","v":701.35360000000003},40.63386666666667,43.628533333333337,42.860800000000005]
[null,null,null,35,{"$f":"E57+E61+E65","v":386.14},38.194499999999998,42.71393333333333,41.428333333333335,null,null,null,null,{"$f":"M57+M61+M65","v":386.4504},38.196133333333336,42.7134,41.432633333333335]
[null,null,null,40,{"$f":"E58+E62+E66","v":223.29040000000001},35.637800000000006,41.889633333333329,40.147500000000001,null,null,null,null,{"$f":"M58+M62+M66","v":223.35199999999998},35.640366666666665,41.897199999999998,40.148466666666671]
[null,null,"synth (2V)",25,{"$f":"E55+E59+E67+E71","v":1365.0951999999997},{"$f":"AVERAGE(F79,F83,F87)","v":43.2911},47.208333333333336,46.302600000000005,null,null,null,null,{"$f":"M55+M59+M67+M71","v":1364.9976000000001},{"$f":"AVERAGE(N79,N83,N87)","v":43.291966666666667},47.213266666666662,46.298933333333338,null,null,null,null,{"$f":"bdrate($E462:$E465,F462:F465,$M462:$M465,N462:N465)","v":5.5536279411461109E-5},{"$f":"bdrate($E462:$E465,G462:G465,$M462:$M465,O462:O465)","v":-2.4884062299318499E-3},{"$f":"bdrate($E462:$E465,H462:H465,$M462:$M465,P462:P465)","v":-2.5573929640732018E-4}]
[null,null,null,30,{"$f":"E56+E60+E68+E72","v":656.43039999999996},40.981000000000002,46.041333333333334,44.562066666666674,null,null,null,null,{"$f":"M56+M60+M68+M72","v":656.69119999999998},40.980333333333334,46.045066666666663,44.563099999999999]
[null,null,null,35,{"$f":"E57+E61+E69+E73","v":355.8664},38.530033333333336,44.77473333333333,42.799066666666668,null,null,null,null,{"$f":"M57+M61+M69+M73","v":355.87360000000001},38.53243333333333,44.781933333333335,42.801866666666662]
[null,null,null,40,{"$f":"E58+E62+E70+E74","v":205.47040000000001},35.973500000000001,43.775333333333329,41.320866666666667,null,null,null,null,{"$f":"M58+M62+M70+M74","v":205.4768},35.969866666666661,43.776633333333336,41.323900000000002]
[null,null,"synth (3V)",25,{"$f":"E103","v":1786.2023999999999},{"$f":"AVERAGE(F79,F83,F87,F91,F95,F99)","v":43.170516666666664},47.041133333333335,46.304416666666668,null,null,null,null,{"$f":"M103","v":1785.7152000000001},{"$f":"AVERAGE(N79,N83,N87,N91,N95,N99)","v":43.171216666666659},47.046066666666661,46.300550000000008,null,null,null,null,{"$f":"bdrate($E466:$E469,F466:F469,$M466:$M469,N466:N469)","v":-2.1536832571522613E-4},{"$f":"bdrate($E466:$E469,G466:G469,$M466:$M469,O466:O469)","v":-1.0890341134299764E-3},{"$f":"bdrate($E466:$E469,H466:H469,$M466:$M469,P466:P469)","v":-4.5032192698679641E-4}]
[null,null,null,30,{"$f":"E104","v":830.88720000000001},40.875483333333328,45.91181666666666,44.554316666666665,null,null,null,null,{"$f":"M104","v":830.86320000000001},40.875,45.912599999999998,44.556316666666667]
[null,null,null,35,{"$f":"E105","v":445.2448},38.429633333333335,44.708949999999994,42.799900000000001,null,null,null,null,{"$f":"M105","v":445.54480000000001},38.434400000000004,44.7104,42.805299999999995]
[null,null,null,40,{"$f":"E106","v":254.60480000000001},35.871133333333333,43.718866666666663,41.306816666666663,null,null,null,null,{"$f":"M106","v":254.67840000000001},35.873233333333332,43.724983333333334,41.30466666666667]
[null,null,"all (2V)",25,{"$f":"E462","v":1365.0951999999997},{"$f":"AVERAGE(F55,F59,F79,F83,F87)","v":43.233060000000002},46.263460000000002,45.59796,null,null,null,null,{"$f":"M462","v":1364.9976000000001},{"$f":"AVERAGE(N55,N59,N79,N83,N87)","v":43.233860000000007},46.26764,45.596359999999997,null,null,null,null,{"$f":"bdrate($E470:$E473,F470:F473,$M470:$M473,N470:N473)","v":1.1235606059778469E-4},{"$f":"bdrate($E470:$E473,G470:G473,$M470:$M473,O470:O473)","v":-1.8736338120778351E-3},{"$f":"bdrate($E470:$E473,H470:H473,$M470:$M473,P470:P473)","v":-2.8110713228024498E-4}]
[null,null,null,30,656.43039999999996,40.947479999999999,45.207979999999999,43.961320000000008,null,null,null,null,656.69119999999998,40.946820000000002,45.209759999999996,43.9619]
[null,null,null,35,355.8664,38.489779999999996,44.054580000000001,42.296260000000004,null,null,null,null,355.87360000000001,38.491419999999998,44.059800000000003,42.298839999999998]
[null,null,null,40,205.47040000000001,35.923900000000003,43.118600000000001,40.886519999999997,null,null,null,null,205.4768,35.920759999999994,43.120999999999995,40.888920000000006]
[null,null,"all (3V)",25,1786.2023999999999,{"$f":"AVERAGE(F55,F59,F63,F79,F83,F87,F91,F95,F99)","v":43.071433333333331},46.20942222222223,45.644688888888886,null,null,null,null,1785.7152000000001,{"$f":"AVERAGE(N55,N59,N63,N79,N83,N87,N91,N95,N99)","v":43.071311111111108},46.212999999999994,45.641233333333339,null,null,null,null,{"$f":"bdrate($E474:$E477,F474:F477,$M474:$M477,N474:N477)","v":-5.5323933924822377E-5},{"$f":"bdrate($E474:$E477,G474:G477,$M474:$M477,O474:O477)","v":-8.7415733885609637E-4},{"$f":"bdrate($E474:$E477,H474:H477,$M474:$M477,P474:P477)","v":-3.8646463213443116E-4}]
[null,null,null,30,830.88720000000001,40.795411111111115,45.150711111111114,43.989911111111113,null,null,null,null,830.86320000000001,40.794622222222223,45.151244444444444,43.991144444444451]
[null,null,null,35,445.2448,38.351255555555554,44.043944444444435,42.342711111111115,null,null,null,null,445.54480000000001,38.354977777777776,44.044733333333333,42.347744444444444]
[null,null,null,40,254.60480000000001,35.79335555555555,43.109122222222219,40.92037777777778,null,null,null,null,254.67840000000001,35.795611111111114,43.115722222222225,40.919266666666672]
[null,{"$f":"B107","v":"Newspaper_CC"},"video (2V)",25,{"$f":"E107+E111","v":1253.1728000000001},{"$f":"AVERAGE(F107,F111)","v":40.830249999999999},43.54345,43.637050000000002,null,null,null,null,{"$f":"M107+M111","v":1253.1831999999999},{"$f":"AVERAGE(N107,N111)","v":40.826999999999998},43.551000000000002,43.63955,null,null,null,null,{"$f":"bdrate($E478:$E481,F478:F481,$M478:$M481,N478:N481)","v":3.9237657079738142E-4},{"$f":"bdrate($E478:$E481,G478:G481,$M478:$M481,O478:O481)","v":-1.9005646275042087E-3},{"$f":"bdrate($E478:$E481,H478:H481,$M478:$M481,P478:P481)","v":2.5641150057054141E-4}]
[null,null,null,30,{"$f":"E108+E112","v":628.87519999999995},38.477450000000005,41.904899999999998,41.985749999999996,null,null,null,null,{"$f":"M108+M112","v":629.15840000000003},38.476349999999996,41.914850000000001,41.985699999999994]
[null,null,null,35,{"$f":"E109+E113","v":339.392},35.989449999999998,40.385850000000005,40.383400000000002,null,null,null,null,{"$f":"M109+M113","v":339.44720000000001},35.990250000000003,40.385900000000007,40.381299999999996]
[null,null,null,40,{"$f":"E110+E114","v":193.74960000000002},33.490750000000006,39.247200000000007,39.177850000000007,null,null,null,null,{"$f":"M110+M114","v":193.80240000000001},33.491849999999999,39.24615,39.181449999999998]
[null,null,"video (3V)",25,{"$f":"E107+E111+E115","v":1600.248},{"$f":"AVERAGE(F107,F111,F115)","v":40.519266666666667},43.314099999999996,43.340166666666669,null,null,null,null,{"$f":"M107+M111+M115","v":1601.2592},{"$f":"AVERAGE(N107,N111,N115)","v":40.5182},43.318233333333332,43.341766666666672,null,null,null,null,{"$f":"bdrate($E482:$E485,F482:F485,$M482:$M485,N482:N485)","v":3.4453184105820434E-4},{"$f":"bdrate($E482:$E485,G482:G485,$M482:$M485,O482:O485)","v":-1.5546248411912877E-4},{"$f":"bdrate($E482:$E485,H482:H485,$M482:$M485,P482:P485)","v":1.2160867201784775E-3}]
[null,null,null,30,{"$f":"E108+E112+E116","v":778.83759999999995},38.158966666666664,41.726300000000002,41.690333333333335,null,null,null,null,{"$f":"M108+M112+M116","v":779.13760000000002},38.157533333333333,41.727699999999999,41.686566666666664]
[null,null,null,35,{"$f":"E109+E113+E117","v":414.53919999999999},35.681366666666662,40.286466666666669,40.146866666666668,null,null,null,null,{"$f":"M109+M113+M117","v":414.54480000000001},35.681733333333334,40.285466666666672,40.144866666666665]
[null,null,null,40,{"$f":"E110+E114+E118","v":233.7192},33.177166666666672,39.195933333333336,38.987733333333338,null,null,null,null,{"$f":"M110+M114+M118","v":233.74639999999999},33.178866666666664,39.196666666666665,38.986266666666666]
[null,null,"synth (2V)",25,{"$f":"E107+E111+E119+E123","v":1565.6288},{"$f":"AVERAGE(F131,F135,F139)","v":40.4313},45.787133333333337,45.891100000000002,null,null,null,null,{"$f":"M107+M111+M119+M123","v":1565.1680000000001},{"$f":"AVERAGE(N131,N135,N139)","v":40.428533333333334},45.794033333333338,45.895000000000003,null,null,null,null,{"$f":"bdrate($E486:$E489,F486:F489,$M486:$M489,N486:N489)","v":8.9035620384270153E-4},{"$f":"bdrate($E486:$E489,G486:G489,$M486:$M489,O486:O489)","v":-3.2994055913269094E-3},{"$f":"bdrate($E486:$E489,H486:H489,$M486:$M489,P486:P489)","v":-6.1545129216744598E-5}]
[null,null,null,30,{"$f":"E108+E112+E120+E124","v":736.12959999999998},38.204700000000003,43.9758,44.029566666666675,null,null,null,null,{"$f":"M108+M112+M120+M124","v":736.73680000000013},38.202233333333339,43.991633333333333,44.0289]
[null,null,null,35,{"$f":"E109+E113+E121+E125","v":384.24080000000004},35.83306666666666,42.183766666666664,42.120733333333334,null,null,null,null,{"$f":"M109+M113+M121+M125","v":384.25200000000001},35.830866666666665,42.190433333333331,42.121299999999998]
[null,null,null,40,{"$f":"E110+E114+E122+E126","v":214.20320000000001},33.382666666666665,40.776100000000007,40.6678,null,null,null,null,{"$f":"M110+M114+M122+M126","v":214.1696},33.381799999999998,40.770999999999994,40.671700000000001]
[null,null,"synth (3V)",25,{"$f":"E155","v":2029.7311999999999},{"$f":"AVERAGE(F131,F135,F139,F143,F147,F151)","v":40.399883333333335},45.701383333333332,45.753549999999997,null,null,null,null,{"$f":"M155","v":2030.4992},{"$f":"AVERAGE(N131,N135,N139,N143,N147,N151)","v":40.397799999999997},45.705816666666671,45.75501666666667,null,null,null,null,{"$f":"bdrate($E490:$E493,F490:F493,$M490:$M493,N490:N493)","v":8.1895680418986316E-4},{"$f":"bdrate($E490:$E493,G490:G493,$M490:$M493,O490:O493)","v":-8.0743675915118107E-4},{"$f":"bdrate($E490:$E493,H490:H493,$M490:$M493,P490:P493)","v":9.1662785102863964E-4}]
[null,null,null,30,{"$f":"E156","v":928.17039999999997},38.129983333333335,43.901333333333334,43.853600000000007,null,null,null,null,{"$f":"M156","v":928.92399999999998},38.127166666666668,43.905450000000002,43.848350000000003]
[null,null,null,35,{"$f":"E157","v":480.8064},35.730383333333329,42.114366666666669,41.919600000000003,null,null,null,null,{"$f":"M157","v":480.75360000000001},35.729483333333327,42.11716666666667,41.921783333333337]
[null,null,null,40,{"$f":"E158","v":267.53440000000001},33.256116666666664,40.728083333333338,40.486033333333332,null,null,null,null,{"$f":"M158","v":267.54160000000002},33.255299999999998,40.724199999999996,40.483499999999999]
[null,null,"all (2V)",25,{"$f":"E486","v":1565.6288},{"$f":"AVERAGE(F107,F111,F131,F135,F139)","v":40.590880000000006},44.889660000000006,44.98948,null,null,null,null,{"$f":"M486","v":1565.1680000000001},{"$f":"AVERAGE(N107,N111,N131,N135,N139)","v":40.587919999999997},44.896819999999998,44.992820000000009,null,null,null,null,{"$f":"bdrate($E494:$E497,F494:F497,$M494:$M497,N494:N497)","v":6.9090980293617932E-4},{"$f":"bdrate($E494:$E497,G494:G497,$M494:$M497,O494:O497)","v":-2.8422710376990734E-3},{"$f":"bdrate($E494:$E497,H494:H497,$M494:$M497,P494:P497)","v":6.3499974603864473E-5}]
[null,null,null,30,736.12959999999998,38.313800000000001,43.147440000000003,43.212040000000002,null,null,null,null,736.73680000000013,38.311880000000002,43.160919999999997,43.211619999999996]
[null,null,null,35,384.24080000000004,35.895619999999994,41.464600000000004,41.425800000000002,null,null,null,null,384.25200000000001,35.894619999999996,41.468620000000001,41.4253]
[null,null,null,40,214.20320000000001,33.425899999999999,40.164540000000002,40.071820000000002,null,null,null,null,214.1696,33.425820000000002,40.161059999999999,40.075599999999994]
[null,null,"all (3V)",25,2029.7311999999999,{"$f":"AVERAGE(F107,F111,F115,F131,F135,F139,F143,F147,F151)","v":40.439677777777781},44.905622222222227,44.949088888888895,null,null,null,null,2030.4992,{"$f":"AVERAGE(N107,N111,N115,N131,N135,N139,N143,N147,N151)","v":40.437933333333334},44.909955555555555,44.950600000000001,null,null,null,null,{"$f":"bdrate($E498:$E501,F498:F501,$M498:$M501,N498:N501)","v":6.8481368331041459E-4},{"$f":"bdrate($E498:$E501,G498:G501,$M498:$M501,O498:O501)","v":-5.9934355141844087E-4},{"$f":"bdrate($E498:$E501,H498:H501,$M498:$M501,P498:P501)","v":1.0468196200796864E-3}]
[null,null,null,30,928.17039999999997,38.139644444444443,43.176322222222218,43.132511111111107,null,null,null,null,928.92399999999998,38.137288888888889,43.179533333333339,43.127755555555552]
[null,null,null,35,480.8064,35.714044444444447,41.505066666666664,41.328688888888884,null,null,null,null,480.75360000000001,35.713566666666665,41.506600000000006,41.329477777777775]
[null,null,null,40,267.53440000000001,33.229800000000004,40.217366666666663,39.986600000000003,null,null,null,null,267.54160000000002,33.229822222222225,40.215022222222224,39.984422222222221]
[null,{"$f":"B159","v":"GT_Fly"},"video (2V)",25,{"$f":"E159+E163","v":4238.1239999999998},{"$f":"AVERAGE(F159,F163)","v":39.999400000000001},45.393900000000002,46.239850000000004,null,null,null,null,{"$f":"M159+M163","v":4238.3152},{"$f":"AVERAGE(N159,N163)","v":39.997700000000002},45.393349999999998,46.239400000000003,null,null,null,null,{"$f":"bdrate($E502:$E505,F502:F505,$M502:$M505,N502:N505)","v":2.2878170746531978E-4},{"$f":"bdrate($E502:$E505,G502:G505,$M502:$M505,O502:O505)","v":2.0564823606394889E-4},{"$f":"bdrate($E502:$E505,H502:H505,$M502:$M505,P502:P505)","v":2.5503237838986337E-4}]
[null,null,null,30,{"$f":"E160+E164","v":1798.9695999999999},37.643549999999998,43.605699999999999,44.441249999999997,null,null,null,null,{"$f":"M160+M164","v":1798.7719999999999},37.642449999999997,43.605000000000004,44.441050000000004]
[null,null,null,35,{"$f":"E161+E165","v":830.46400000000006},35.502449999999996,41.799599999999998,42.620450000000005,null,null,null,null,{"$f":"M161+M165","v":830.64319999999998},35.503100000000003,41.799599999999998,42.619399999999999]
[null,null,null,40,{"$f":"E162+E166","v":399.64079999999996},33.379950000000001,40.563649999999996,41.404650000000004,null,null,null,null,{"$f":"M162+M166","v":399.64959999999996},33.379249999999999,40.563649999999996,41.405000000000001]
[null,null,"video (3V)",25,{"$f":"E159+E163+E167","v":4784.4079999999994},{"$f":"AVERAGE(F159,F163,F167)","v":39.901900000000005},45.35843333333333,46.208033333333333,null,null,null,null,{"$f":"M159+M163+M167","v":4785.08},{"$f":"AVERAGE(N159,N163,N167)","v":39.899666666666668},45.357766666666663,46.207233333333335,null,null,null,null,{"$f":"bdrate($E506:$E509,F506:F509,$M506:$M509,N506:N509)","v":3.8407563374143194E-4},{"$f":"bdrate($E506:$E509,G506:G509,$M506:$M509,O506:O509)","v":3.0317701307547296E-4},{"$f":"bdrate($E506:$E509,H506:H509,$M506:$M509,P506:P509)","v":3.9676730948934313E-4}]
[null,null,null,30,{"$f":"E160+E164+E168","v":1991.4959999999999},37.570900000000002,43.582099999999997,44.420566666666666,null,null,null,null,{"$f":"M160+M164+M168","v":1991.3024},37.569866666666663,43.581666666666671,44.420333333333339]
[null,null,null,35,{"$f":"E161+E165+E169","v":909.28400000000011},35.44703333333333,41.786233333333335,42.608499999999999,null,null,null,null,{"$f":"M161+M165+M169","v":909.71360000000004},35.447600000000001,41.786000000000001,42.607499999999995]
[null,null,null,40,{"$f":"E162+E166+E170","v":436.42639999999994},33.336433333333332,40.549566666666664,41.392833333333336,null,null,null,null,{"$f":"M162+M166+M170","v":436.49839999999995},33.335866666666668,40.549900000000001,41.393233333333335]
[null,null,"synth (2V)",25,{"$f":"E159+E163+E171+E175","v":4620.8271999999997},{"$f":"AVERAGE(F183,F187,F191)","v":40.043700000000001},46.610966666666663,47.027800000000006,null,null,null,null,{"$f":"M159+M163+M171+M175","v":4620.3735999999999},{"$f":"AVERAGE(N183,N187,N191)","v":40.040899999999993},46.605766666666661,47.026499999999999,null,null,null,null,{"$f":"bdrate($E510:$E513,F510:F513,$M510:$M513,N510:N513)","v":-3.4060048722828196E-4},{"$f":"bdrate($E510:$E513,G510:G513,$M510:$M513,O510:O513)","v":-8.8304625300039685E-4},{"$f":"bdrate($E510:$E513,H510:H513,$M510:$M513,P510:P513)","v":-4.3101562544379801E-3}]
[null,null,null,30,{"$f":"E160+E164+E172+E176","v":1925.0383999999999},37.726933333333335,44.820466666666668,45.36996666666667,null,null,null,null,{"$f":"M160+M164+M172+M176","v":1924.5704000000001},37.728566666666666,44.825199999999995,45.383166666666661]
[null,null,null,35,{"$f":"E161+E165+E173+E177","v":882.83440000000007},35.590733333333333,42.868333333333339,43.542766666666665,null,null,null,null,{"$f":"M161+M165+M173+M177","v":882.99760000000003},35.592500000000001,42.867966666666668,43.551333333333332]
[null,null,null,40,{"$f":"E162+E166+E174+E178","v":423.75199999999995},33.463366666666666,41.526666666666664,42.255833333333335,null,null,null,null,{"$f":"M162+M166+M174+M178","v":423.87039999999996},33.463799999999999,41.53393333333333,42.261733333333332]
[null,null,"synth (3V)",25,{"$f":"E207","v":5274.8936000000003},{"$f":"AVERAGE(F183,F187,F191,F195,F199,F203)","v":40.039783333333332},46.568783333333336,47.078899999999997,null,null,null,null,{"$f":"M207","v":5275.1311999999998},{"$f":"AVERAGE(N183,N187,N191,N195,N199,N203)","v":40.037433333333333},46.56636666666666,47.081616666666669,null,null,null,null,{"$f":"bdrate($E514:$E517,F514:F517,$M514:$M517,N514:N517)","v":-4.2173394638467254E-4},{"$f":"bdrate($E514:$E517,G514:G517,$M514:$M517,O514:O517)","v":-3.6015399532440817E-4},{"$f":"bdrate($E514:$E517,H514:H517,$M514:$M517,P514:P517)","v":-1.5631493847617639E-3}]
[null,null,null,30,{"$f":"E208","v":2153.2959999999998},37.709133333333334,44.795299999999997,45.404283333333332,null,null,null,null,{"$f":"M208","v":2152.7664},37.712799999999994,44.797083333333326,45.407499999999999]
[null,null,null,35,{"$f":"E209","v":979.49919999999997},35.578616666666669,42.842300000000002,43.52675,null,null,null,null,{"$f":"M209","v":979.86879999999996},35.578949999999999,42.843466666666671,43.530049999999996]
[null,null,null,40,{"$f":"E210","v":471.83679999999998},33.45088333333333,41.50685,42.227150000000002,null,null,null,null,{"$f":"M210","v":471.97519999999997},33.452083333333327,41.508150000000001,42.231233333333329]
[null,null,"all (2V)",25,{"$f":"E510","v":4620.8271999999997},{"$f":"AVERAGE(F159,F163,F183,F187,F191)","v":40.025979999999997},46.124139999999997,46.712620000000001,null,null,null,null,{"$f":"M510","v":4620.3735999999999},{"$f":"AVERAGE(N159,N163,N183,N187,N191)","v":40.023620000000001},46.120799999999996,46.711659999999995,null,null,null,null,{"$f":"bdrate($E518:$E521,F518:F521,$M518:$M521,N518:N521)","v":-1.3133721517022412E-4},{"$f":"bdrate($E518:$E521,G518:G521,$M518:$M521,O518:O521)","v":-4.9026125073148297E-4},{"$f":"bdrate($E518:$E521,H518:H521,$M518:$M521,P518:P521)","v":-2.503745990890871E-3}]
[null,null,null,30,1925.0383999999999,37.693579999999997,44.334559999999996,44.998479999999994,null,null,null,null,1924.5704000000001,37.694119999999998,44.337119999999999,45.006320000000002]
[null,null,null,35,882.83440000000007,35.555420000000005,42.440839999999994,43.173839999999998,null,null,null,null,882.99760000000003,35.556740000000005,42.440620000000003,43.178559999999997]
[null,null,null,40,423.75199999999995,33.43,41.141459999999995,41.915360000000007,null,null,null,null,423.87039999999996,33.42998,41.145820000000001,41.91904000000001]
[null,null,"all (3V)",25,5274.8936000000003,{"$f":"AVERAGE(F159,F163,F167,F183,F187,F191,F195,F199,F203)","v":39.993822222222228},46.165333333333329,46.788611111111109,null,null,null,null,5275.1311999999998,{"$f":"AVERAGE(N159,N163,N167,N183,N187,N191,N195,N199,N203)","v":39.991511111111116},46.163499999999999,46.790155555555557,null,null,null,null,{"$f":"bdrate($E522:$E525,F522:F525,$M522:$M525,N522:N525)","v":-1.8198232723987129E-4},{"$f":"bdrate($E522:$E525,G522:G525,$M522:$M525,O522:O525)","v":-1.7885619453550383E-4},{"$f":"bdrate($E522:$E525,H522:H525,$M522:$M525,P522:P525)","v":-9.4524107455140616E-4}]
[null,null,null,30,2153.2959999999998,37.663055555555552,44.390900000000002,45.076377777777772,null,null,null,null,2152.7664,37.665155555555557,44.391944444444441,45.078444444444443]
[null,null,null,35,979.49919999999997,35.534755555555556,42.490277777777777,43.220666666666666,null,null,null,null,979.86879999999996,35.535166666666669,42.490977777777779,43.222533333333338]
[null,null,null,40,471.83679999999998,33.412733333333328,41.187755555555555,41.949044444444446,null,null,null,null,471.97519999999997,33.413344444444448,41.188733333333332,41.951899999999995]
[null,{"$f":"B211","v":"Poznan_Hall2"},"video (2V)",25,{"$f":"E211+E215","v":1057.7359999999999},{"$f":"AVERAGE(F211,F215)","v":41.975300000000004},48.306550000000001,47.823900000000002,null,null,null,null,{"$f":"M211+M215","v":1057.549},{"$f":"AVERAGE(N211,N215)","v":41.974350000000001},48.304099999999998,47.823099999999997,null,null,null,null,{"$f":"bdrate($E526:$E529,F526:F529,$M526:$M529,N526:N529)","v":2.1455363186406728E-4},{"$f":"bdrate($E526:$E529,G526:G529,$M526:$M529,O526:O529)","v":-7.0161165661430935E-4},{"$f":"bdrate($E526:$E529,H526:H529,$M526:$M529,P526:P529)","v":-2.5665509195316183E-4}]
[null,null,null,30,{"$f":"E212+E216","v":441.15600000000001},40.989649999999997,47.283699999999996,46.939949999999996,null,null,null,null,{"$f":"M212+M216","v":441.07100000000003},40.990049999999997,47.278599999999997,46.9375]
[null,null,null,35,{"$f":"E213+E217","v":224.64999999999998},39.582149999999999,45.966700000000003,45.7288,null,null,null,null,{"$f":"M213+M217","v":224.71599999999998},39.581649999999996,45.975650000000002,45.734399999999994]
[null,null,null,40,{"$f":"E214+E218","v":123.965},37.822000000000003,44.848799999999997,44.641500000000001,null,null,null,null,{"$f":"M214+M218","v":124.012},37.822450000000003,44.85615,44.638949999999994]
[null,null,"video (3V)",25,{"$f":"E211+E215+E219","v":1316.4749999999999},{"$f":"AVERAGE(F211,F215,F219)","v":41.878233333333334},47.9587,47.439,null,null,null,null,{"$f":"M211+M215+M219","v":1315.6120000000001},{"$f":"AVERAGE(N211,N215,N219)","v":41.877400000000002},47.953833333333336,47.436799999999998,null,null,null,null,{"$f":"bdrate($E530:$E533,F530:F533,$M530:$M533,N530:N533)","v":2.1779004192090667E-4},{"$f":"bdrate($E530:$E533,G530:G533,$M530:$M533,O530:O533)","v":2.3765300883971108E-4},{"$f":"bdrate($E530:$E533,H530:H533,$M530:$M533,P530:P533)","v":-2.2830376783367079E-4}]
[null,null,null,30,{"$f":"E212+E216+E220","v":538.41100000000006},40.907899999999998,46.962166666666661,46.471533333333333,null,null,null,null,{"$f":"M212+M216+M220","v":538.649},40.908866666666661,46.955966666666662,46.47443333333333]
[null,null,null,35,{"$f":"E213+E217+E221","v":272.88},39.517133333333334,45.772166666666671,45.354099999999995,null,null,null,null,{"$f":"M213+M217+M221","v":273.17499999999995},39.517866666666663,45.780133333333332,45.355733333333326]
[null,null,null,40,{"$f":"E214+E218+E222","v":149.57},37.768900000000002,44.699166666666663,44.256466666666675,null,null,null,null,{"$f":"M214+M218+M222","v":149.45599999999999},37.768466666666669,44.709000000000003,44.253033333333327]
[null,null,"synth (2V)",25,{"$f":"E211+E215+E223+E227","v":1181.05},{"$f":"AVERAGE(F235,F239,F243)","v":43.212333333333333},48.830466666666666,48.173133333333332,null,null,null,null,{"$f":"M211+M215+M223+M227","v":1180.6980000000001},{"$f":"AVERAGE(N235,N239,N243)","v":43.210666666666668},48.815533333333327,48.177,null,null,null,null,{"$f":"bdrate($E534:$E537,F534:F537,$M534:$M537,N534:N537)","v":1.091365417226875E-3},{"$f":"bdrate($E534:$E537,G534:G537,$M534:$M537,O534:O537)","v":8.8015978863875688E-4},{"$f":"bdrate($E534:$E537,H534:H537,$M534:$M537,P534:P537)","v":1.5277370099999521E-2}]
[null,null,null,30,{"$f":"E212+E216+E224+E228","v":490.92199999999997},42.000300000000003,47.707633333333341,47.347733333333338,null,null,null,null,{"$f":"M212+M216+M224+M228","v":490.762},41.997799999999991,47.706633333333336,47.307833333333328]
[null,null,null,35,{"$f":"E213+E217+E225+E229","v":249.37},40.383366666666667,46.366199999999992,46.137866666666667,null,null,null,null,{"$f":"M213+M217+M225+M229","v":249.44499999999999},40.380733333333332,46.367199999999997,46.126233333333339]
[null,null,null,40,{"$f":"E214+E218+E226+E230","v":137.70500000000001},38.423900000000003,45.252333333333333,44.997266666666661,null,null,null,null,{"$f":"M214+M218+M226+M230","v":137.74800000000002},38.422533333333327,45.264400000000002,44.956633333333336]
[null,null,"synth (3V)",25,{"$f":"E259","v":1493.9349999999999},{"$f":"AVERAGE(F235,F239,F243,F247,F251,F255)","v":43.260616666666671},48.671483333333335,48.482149999999997,null,null,null,null,{"$f":"M259","v":1493.1189999999999},{"$f":"AVERAGE(N235,N239,N243,N247,N251,N255)","v":43.261216666666662},48.663916666666665,48.478266666666663,null,null,null,null,{"$f":"bdrate($E538:$E541,F538:F541,$M538:$M541,N538:N541)","v":9.9459936844237262E-4},{"$f":"bdrate($E538:$E541,G538:G541,$M538:$M541,O538:O541)","v":1.8806496397716366E-3},{"$f":"bdrate($E538:$E541,H538:H541,$M538:$M541,P538:P541)","v":7.9786702849733437E-3}]
[null,null,null,30,{"$f":"E260","v":611.97},42.069683333333337,47.593616666666662,47.539516666666664,null,null,null,null,{"$f":"M260","v":612.02700000000004},42.066400000000002,47.585700000000003,47.524300000000004]
[null,null,null,35,{"$f":"E261","v":311.55},40.462633333333336,46.305216666666666,46.321199999999997,null,null,null,null,{"$f":"M261","v":311.803},40.46136666666667,46.309216666666664,46.311416666666666]
[null,null,null,40,{"$f":"E262","v":173.32900000000001},38.514983333333333,45.188616666666661,45.148499999999991,null,null,null,null,{"$f":"M262","v":173.18700000000001},38.513283333333334,45.193583333333343,45.126216666666664]
[null,null,"all (2V)",25,{"$f":"E534","v":1181.05},{"$f":"AVERAGE(F211,F215,F235,F239,F243)","v":42.71752},48.620900000000006,48.033439999999999,null,null,null,null,{"$f":"M534","v":1180.6980000000001},{"$f":"AVERAGE(N211,N215,N235,N239,N243)","v":42.716139999999996},48.610959999999999,48.035440000000001,null,null,null,null,{"$f":"bdrate($E542:$E545,F542:F545,$M542:$M545,N542:N545)","v":7.4901215708655933E-4},{"$f":"bdrate($E542:$E545,G542:G545,$M542:$M545,O542:O545)","v":2.460802423280839E-4},{"$f":"bdrate($E542:$E545,H542:H545,$M542:$M545,P542:P545)","v":9.0441024350540467E-3}]
[null,null,null,30,490.92199999999997,41.596040000000002,47.538059999999994,47.184620000000002,null,null,null,null,490.762,41.594699999999996,47.535419999999995,47.159700000000001]
[null,null,null,35,249.37,40.062879999999993,46.206399999999995,45.974240000000002,null,null,null,null,249.44499999999999,40.061099999999996,46.210580000000007,45.969499999999996]
[null,null,null,40,137.70500000000001,38.183140000000002,45.090919999999997,44.854959999999991,null,null,null,null,137.74800000000002,38.182499999999997,45.101099999999995,44.829560000000001]
[null,null,"all (3V)",25,1493.9349999999999,{"$f":"AVERAGE(F211,F215,F219,F235,F239,F243,F247,F251,F255)","v":42.799822222222218},48.433888888888887,48.134433333333334,null,null,null,null,1493.1189999999999,{"$f":"AVERAGE(N211,N215,N219,N235,N239,N243,N247,N251,N255)","v":42.799944444444449},48.427222222222227,48.13111111111111,null,null,null,null,{"$f":"bdrate($E546:$E549,F546:F549,$M546:$M549,N546:N549)","v":6.9135076072557311E-4},{"$f":"bdrate($E546:$E549,G546:G549,$M546:$M549,O546:O549)","v":1.2973102190074748E-3},{"$f":"bdrate($E546:$E549,H546:H549,$M546:$M549,P546:P549)","v":5.2569321121791468E-3}]
[null,null,null,30,611.97,41.682422222222215,47.38313333333334,47.18352222222223,null,null,null,null,612.02700000000004,41.68055555555555,47.375788888888884,47.174344444444444]
[null,null,null,35,311.55,40.147466666666659,46.127533333333332,45.998833333333337,null,null,null,null,311.803,40.146866666666675,46.132855555555551,45.99285555555555]
[null,null,null,40,173.32900000000001,38.266288888888894,45.025466666666659,44.851155555555557,null,null,null,null,173.18700000000001,38.265011111111114,45.032055555555559,44.835155555555559]
[null,{"$f":"B263","v":"Poznan_Street"},"video (2V)",25,{"$f":"E263+E267","v":3142.7752},{"$f":"AVERAGE(F263,F267)","v":39.422150000000002},46.673950000000005,45.3797,null,null,null,null,{"$f":"M263+M267","v":3142.5608000000002},{"$f":"AVERAGE(N263,N267)","v":39.422600000000003},46.671149999999997,45.378399999999999,null,null,null,null,{"$f":"bdrate($E550:$E553,F550:F553,$M550:$M553,N550:N553)","v":-3.3648628462634722E-4},{"$f":"bdrate($E550:$E553,G550:G553,$M550:$M553,O550:O553)","v":8.1409527682096972E-4},{"$f":"bdrate($E550:$E553,H550:H553,$M550:$M553,P550:P553)","v":6.8362821961165388E-4}]
[null,null,null,30,{"$f":"E264+E268","v":1151.788},37.516100000000002,45.238199999999999,43.8262,null,null,null,null,{"$f":"M264+M268","v":1151.4760000000001},37.516500000000001,45.236099999999993,43.823050000000002]
[null,null,null,35,{"$f":"E265+E269","v":537.35199999999998},35.561199999999999,43.615349999999999,42.324799999999996,null,null,null,null,{"$f":"M265+M269","v":537.16719999999998},35.561099999999996,43.614000000000004,42.324300000000001]
[null,null,null,40,{"$f":"E266+E270","v":274.47520000000003},33.51285,42.405200000000001,41.246099999999998,null,null,null,null,{"$f":"M266+M270","v":274.37440000000004},33.511949999999999,42.403750000000002,41.246600000000001]
[null,null,"video (3V)",25,{"$f":"E263+E267+E271","v":3835.5320000000002},{"$f":"AVERAGE(F263,F267,F271)","v":39.252566666666667},46.590133333333334,45.630500000000005,null,null,null,null,{"$f":"M263+M267+M271","v":3834.4480000000003},{"$f":"AVERAGE(N263,N267,N271)","v":39.25266666666667},46.589799999999997,45.629633333333338,null,null,null,null,{"$f":"bdrate($E554:$E557,F554:F557,$M554:$M557,N554:N557)","v":-1.0051150797696362E-4},{"$f":"bdrate($E554:$E557,G554:G557,$M554:$M557,O554:O557)","v":1.0390872058647638E-3},{"$f":"bdrate($E554:$E557,H554:H557,$M554:$M557,P554:P557)","v":1.3042582611100251E-4}]
[null,null,null,30,{"$f":"E264+E268+E272","v":1344.7872},37.326266666666669,45.157833333333336,44.124166666666667,null,null,null,null,{"$f":"M264+M268+M272","v":1344.2088000000001},37.325600000000001,45.152466666666662,44.121600000000001]
[null,null,null,35,{"$f":"E265+E269+E273","v":611.19359999999995},35.365033333333336,43.568900000000006,42.589199999999998,null,null,null,null,{"$f":"M265+M269+M273","v":611.15679999999998},35.364433333333331,43.569866666666677,42.590633333333336]
[null,null,null,40,{"$f":"E266+E270+E274","v":306.05600000000004},33.324433333333332,42.375066666666669,41.47163333333333,null,null,null,null,{"$f":"M266+M270+M274","v":305.84160000000003},33.324066666666667,42.371866666666669,41.471933333333332]
[null,null,"synth (2V)",25,{"$f":"E263+E267+E275+E279","v":3406.1544000000004},{"$f":"AVERAGE(F287,F291,F295)","v":40.44186666666667},47.183266666666668,46.691466666666663,null,null,null,null,{"$f":"M263+M267+M275+M279","v":3405.7080000000001},{"$f":"AVERAGE(N287,N291,N295)","v":40.44253333333333},47.171833333333332,46.677600000000005,null,null,null,null,{"$f":"bdrate($E558:$E561,F558:F561,$M558:$M561,N558:N561)","v":-5.1392137216976774E-4},{"$f":"bdrate($E558:$E561,G558:G561,$M558:$M561,O558:O561)","v":-2.061642069194014E-3},{"$f":"bdrate($E558:$E561,H558:H561,$M558:$M561,P558:P561)","v":-2.8523044377757323E-3}]
[null,null,null,30,{"$f":"E264+E268+E276+E280","v":1225.904},38.250566666666664,45.601333333333336,45.011133333333333,null,null,null,null,{"$f":"M264+M268+M276+M280","v":1225.6848000000002},38.252066666666671,45.622000000000007,45.024466666666662]
[null,null,null,35,{"$f":"E265+E269+E277+E281","v":567.7983999999999},36.1282,43.967833333333338,43.439466666666668,null,null,null,null,{"$f":"M265+M269+M277+M281","v":567.61760000000004},36.1282,43.953533333333333,43.445233333333334]
[null,null,null,40,{"$f":"E266+E270+E278+E282","v":290.43280000000004},33.949766666666669,42.690999999999995,42.318200000000004,null,null,null,null,{"$f":"M266+M270+M278+M282","v":290.30880000000002},33.949300000000001,42.705233333333332,42.315233333333332]
[null,null,"synth (3V)",25,{"$f":"E311","v":4220.4111999999996},{"$f":"AVERAGE(F287,F291,F295,F299,F303,F307)","v":40.400366666666663},47.048616666666668,46.717033333333326,null,null,null,null,{"$f":"M311","v":4218.848},{"$f":"AVERAGE(N287,N291,N295,N299,N303,N307)","v":40.400716666666661},47.042049999999996,46.710816666666666,null,null,null,null,{"$f":"bdrate($E562:$E565,F562:F565,$M562:$M565,N562:N565)","v":-1.5492495686919572E-4},{"$f":"bdrate($E562:$E565,G562:G565,$M562:$M565,O562:O565)","v":6.420597716028098E-4},{"$f":"bdrate($E562:$E565,H562:H565,$M562:$M565,P562:P565)","v":-1.4098302711295085E-3}]
[null,null,null,30,{"$f":"E312","v":1451.8976},38.185250000000003,45.523583333333328,45.081533333333333,null,null,null,null,{"$f":"M312","v":1451.7464},38.185233333333336,45.530650000000001,45.089149999999997]
[null,null,null,35,{"$f":"E313","v":656.83280000000002},36.051516666666664,43.847416666666668,43.410433333333337,null,null,null,null,{"$f":"M313","v":656.85360000000003},36.051216666666669,43.837066666666665,43.412083333333328]
[null,null,null,40,{"$f":"E314","v":331.77440000000001},33.870216666666664,42.580349999999996,42.206099999999999,null,null,null,null,{"$f":"M314","v":331.52960000000002},33.870316666666668,42.582233333333335,42.203233333333337]
[null,null,"all (2V)",25,{"$f":"E558","v":3406.1544000000004},{"$f":"AVERAGE(F263,F267,F287,F291,F295)","v":40.03398},46.97954,46.166759999999996,null,null,null,null,{"$f":"M558","v":3405.7080000000001},{"$f":"AVERAGE(N263,N267,N287,N291,N295)","v":40.034559999999999},46.971559999999997,46.157920000000004,null,null,null,null,{"$f":"bdrate($E566:$E569,F566:F569,$M566:$M569,N566:N569)","v":-4.3659146602692545E-4},{"$f":"bdrate($E566:$E569,G566:G569,$M566:$M569,O566:O569)","v":-9.0927959980924289E-4},{"$f":"bdrate($E566:$E569,H566:H569,$M566:$M569,P566:P569)","v":-1.4577721808163302E-3}]
[null,null,null,30,1225.904,37.956779999999995,45.45608,44.53716,null,null,null,null,1225.6848000000002,37.957839999999997,45.467640000000003,44.543900000000001]
[null,null,null,35,567.7983999999999,35.901400000000002,43.826839999999997,42.993600000000001,null,null,null,null,567.61760000000004,35.901359999999997,43.817720000000001,42.996860000000005]
[null,null,null,40,290.43280000000004,33.774999999999999,42.576679999999996,41.889359999999996,null,null,null,null,290.30880000000002,33.774360000000001,42.58464,41.887780000000006]
[null,null,"all (3V)",25,4220.4111999999996,{"$f":"AVERAGE(F263,F267,F271,F287,F291,F295,F299,F303,F307)","v":40.017766666666667},46.895788888888887,46.354855555555559,null,null,null,null,4218.848,{"$f":"AVERAGE(N263,N267,N271,N287,N291,N295,N299,N303,N307)","v":40.018033333333335},46.891300000000001,46.350422222222221,null,null,null,null,{"$f":"bdrate($E570:$E573,F570:F573,$M570:$M573,N570:N573)","v":-9.4228887100644698E-5},{"$f":"bdrate($E570:$E573,G570:G573,$M570:$M573,O570:O573)","v":8.2287739446296193E-4},{"$f":"bdrate($E570:$E573,H570:H573,$M570:$M573,P570:P573)","v":-8.7182850857814298E-4}]
[null,null,null,30,1451.8976,37.898922222222225,45.401666666666671,44.762411111111106,null,null,null,null,1451.7464,37.898688888888884,45.404588888888881,44.766633333333338]
[null,null,null,35,656.83280000000002,35.822688888888891,43.754577777777783,43.136688888888884,null,null,null,null,656.85360000000003,35.822288888888892,43.748000000000005,43.138266666666674]
[null,null,null,40,331.77440000000001,33.688288888888884,42.511922222222225,41.961277777777774,null,null,null,null,331.52960000000002,33.688233333333336,42.512111111111111,41.959466666666671]
[null,{"$f":"B315","v":"Undo_Dancer"},"video (2V)",25,{"$f":"E315+E319","v":5539.4288000000006},{"$f":"AVERAGE(F315,F319)","v":38.3917},46.611350000000002,45.964749999999995,null,null,null,null,{"$f":"M315+M319","v":5539.1872000000003},{"$f":"AVERAGE(N315,N319)","v":38.390649999999994},46.611499999999999,45.966149999999999,null,null,null,null,{"$f":"bdrate($E574:$E577,F574:F577,$M574:$M577,N574:N577)","v":2.0250590873849283E-4},{"$f":"bdrate($E574:$E577,G574:G577,$M574:$M577,O574:O577)","v":-1.9993606673751607E-4},{"$f":"bdrate($E574:$E577,H574:H577,$M574:$M577,P574:P577)","v":7.6111904078857151E-5}]
[null,null,null,30,{"$f":"E316+E320","v":2326.8344000000002},35.632149999999996,45.137,44.581150000000001,null,null,null,null,{"$f":"M316+M320","v":2326.5848000000001},35.631100000000004,45.137500000000003,44.580249999999999]
[null,null,null,35,{"$f":"E317+E321","v":1053.2456},33.165149999999997,43.815399999999997,43.374949999999998,null,null,null,null,{"$f":"M317+M321","v":1053.356},33.1648,43.815849999999998,43.3752]
[null,null,null,40,{"$f":"E318+E322","v":488.26560000000001},30.908100000000001,43.019750000000002,42.625900000000001,null,null,null,null,{"$f":"M318+M322","v":488.24639999999999},30.908100000000001,43.018799999999999,42.625500000000002]
[null,null,"video (3V)",25,{"$f":"E315+E319+E323","v":6405.7504000000008},{"$f":"AVERAGE(F315,F319,F323)","v":38.309866666666665},46.578200000000002,45.902499999999996,null,null,null,null,{"$f":"M315+M319+M323","v":6404.3807999999999},{"$f":"AVERAGE(N315,N319,N323)","v":38.307866666666662},46.578399999999995,45.902766666666672,null,null,null,null,{"$f":"bdrate($E578:$E581,F578:F581,$M578:$M581,N578:N581)","v":2.9637100514534609E-4},{"$f":"bdrate($E578:$E581,G578:G581,$M578:$M581,O578:O581)","v":4.5322999745112114E-4},{"$f":"bdrate($E578:$E581,H578:H581,$M578:$M581,P578:P581)","v":4.6335758663884619E-4}]
[null,null,null,30,{"$f":"E316+E320+E324","v":2631.6880000000001},35.600066666666663,45.10776666666667,44.530533333333331,null,null,null,null,{"$f":"M316+M320+M324","v":2631.2872000000002},35.59856666666667,45.106566666666673,44.528966666666669]
[null,null,null,35,{"$f":"E317+E321+E325","v":1183.6615999999999},33.157566666666668,43.795499999999997,43.336966666666662,null,null,null,null,{"$f":"M317+M321+M325","v":1183.7728},33.156866666666666,43.79516666666666,43.336733333333335]
[null,null,null,40,{"$f":"E318+E322+E326","v":548.72559999999999},30.907666666666668,42.999066666666671,42.588966666666664,null,null,null,null,{"$f":"M318+M322+M326","v":548.7296},30.908066666666667,42.997433333333333,42.588566666666672]
[null,null,"synth (2V)",25,{"$f":"E315+E319+E327+E331","v":5840.5960000000005},{"$f":"AVERAGE(F339,F343,F347)","v":38.817833333333333},46.9666,46.154566666666675,null,null,null,null,{"$f":"M315+M319+M327+M331","v":5839.6928000000007},{"$f":"AVERAGE(N339,N343,N347)","v":38.818033333333339},46.967000000000006,46.166066666666666,null,null,null,null,{"$f":"bdrate($E582:$E585,F582:F585,$M582:$M585,N582:N585)","v":2.2412457684040099E-4},{"$f":"bdrate($E582:$E585,G582:G585,$M582:$M585,O582:O585)","v":3.8459647925741525E-3},{"$f":"bdrate($E582:$E585,H582:H585,$M582:$M585,P582:P585)","v":2.1811012135011243E-3}]
[null,null,null,30,{"$f":"E316+E320+E328+E332","v":2456.8648000000003},35.905366666666673,45.537333333333343,44.877466666666663,null,null,null,null,{"$f":"M316+M320+M328+M332","v":2456.5696000000003},35.9026,45.522199999999998,44.865600000000001]
[null,null,null,35,{"$f":"E317+E321+E329+E333","v":1117.2367999999999},33.323499999999996,44.185533333333332,43.715833333333336,null,null,null,null,{"$f":"M317+M321+M329+M333","v":1117.3239999999998},33.324966666666661,44.191599999999994,43.721200000000003]
[null,null,null,40,{"$f":"E318+E322+E330+E334","v":519.21600000000001},30.976099999999999,43.400999999999989,42.966199999999994,null,null,null,null,{"$f":"M318+M322+M330+M334","v":519.27519999999993},30.9739,43.386266666666664,42.954033333333335]
[null,null,"synth (3V)",25,{"$f":"E363","v":6805.8432000000003},{"$f":"AVERAGE(F339,F343,F347,F351,F355,F359)","v":38.83443333333333},46.778983333333336,46.343766666666674,null,null,null,null,{"$f":"M363","v":6803.5191999999997},{"$f":"AVERAGE(N339,N343,N347,N351,N355,N359)","v":38.834200000000003},46.764100000000006,46.343633333333337,null,null,null,null,{"$f":"bdrate($E586:$E589,F586:F589,$M586:$M589,N586:N589)","v":-1.3278286759088598E-4},{"$f":"bdrate($E586:$E589,G586:G589,$M586:$M589,O586:O589)","v":3.1774930765184894E-3},{"$f":"bdrate($E586:$E589,H586:H589,$M586:$M589,P586:P589)","v":3.1537340911178546E-3}]
[null,null,null,30,{"$f":"E364","v":2805.2791999999999},35.933,45.351150000000011,44.962366666666668,null,null,null,null,{"$f":"M364","v":2804.6543999999999},35.931516666666667,45.338966666666664,44.95118333333334]
[null,null,null,35,{"$f":"E365","v":1272.2008000000001},33.351866666666666,44.026833333333336,43.660433333333337,null,null,null,null,{"$f":"M365","v":1272.3488},33.354549999999996,44.035449999999997,43.65945]
[null,null,null,40,{"$f":"E366","v":594.67520000000002},30.999933333333331,43.238583333333331,42.812399999999997,null,null,null,null,{"$f":"M366","v":594.77359999999999},30.998816666666666,43.233016666666664,42.813250000000004]
[null,null,"all (2V)",25,{"$f":"E582","v":5840.5960000000005},{"$f":"AVERAGE(F315,F319,F339,F343,F347)","v":38.647379999999998},46.824499999999993,46.078639999999993,null,null,null,null,{"$f":"M582","v":5839.6928000000007},{"$f":"AVERAGE(N315,N319,N339,N343,N347)","v":38.647079999999995},46.824800000000003,46.086100000000002,null,null,null,null,{"$f":"bdrate($E590:$E593,F590:F593,$M590:$M593,N590:N593)","v":2.1009616964140498E-4},{"$f":"bdrate($E590:$E593,G590:G593,$M590:$M593,O590:O593)","v":2.2303503912068923E-3},{"$f":"bdrate($E590:$E593,H590:H593,$M590:$M593,P590:P593)","v":1.3214769561042949E-3}]
[null,null,null,30,2456.8648000000003,35.796080000000003,45.377199999999995,44.758939999999996,null,null,null,null,2456.5696000000003,35.793999999999997,45.368319999999997,44.751459999999994]
[null,null,null,35,1117.2367999999999,33.260159999999999,44.037479999999995,43.579480000000004,null,null,null,null,1117.3239999999998,33.260899999999999,44.041299999999993,43.582799999999999]
[null,null,null,40,519.21600000000001,30.948899999999998,43.2485,42.830079999999995,null,null,null,null,519.27519999999993,30.947579999999999,43.239279999999994,42.822620000000008]
[null,null,"all (3V)",25,6805.8432000000003,{"$f":"AVERAGE(F315,F319,F323,F339,F343,F347,F351,F355,F359)","v":38.659577777777777},46.712055555555558,46.196677777777779,null,null,null,null,6803.5191999999997,{"$f":"AVERAGE(N315,N319,N323,N339,N343,N347,N351,N355,N359)","v":38.658755555555558},46.702199999999991,46.196677777777779,null,null,null,null,{"$f":"bdrate($E594:$E597,F594:F597,$M594:$M597,N594:N597)","v":-2.9184030171380826E-6},{"$f":"bdrate($E594:$E597,G594:G597,$M594:$M597,O594:O597)","v":2.2556099801838148E-3},{"$f":"bdrate($E594:$E597,H594:H597,$M594:$M597,P594:P597)","v":2.2910929038162386E-3}]
[null,null,null,30,2805.2791999999999,35.822022222222216,45.270022222222224,44.818422222222217,null,null,null,null,2804.6543999999999,35.820533333333337,45.261499999999998,44.810444444444435]
[null,null,null,35,1272.2008000000001,33.287100000000002,43.949722222222213,43.552611111111112,null,null,null,null,1272.3488,33.28865555555555,43.955355555555549,43.551877777777776]
[null,null,null,40,594.67520000000002,30.969177777777773,43.158744444444444,42.737922222222224,null,null,null,null,594.77359999999999,30.968566666666668,43.154488888888892,42.738355555555557]
[null,{"$f":"B367","v":"Shark"},"video (2V)",25,{"$f":"E367+E371","v":4701.8624},{"$f":"AVERAGE(F367,F371)","v":41.200649999999996},46.55585,45.920949999999998,null,null,null,null,{"$f":"M367+M371","v":4702.5176000000001},{"$f":"AVERAGE(N367,N371)","v":41.2},46.556100000000001,45.921700000000001,null,null,null,null,{"$f":"bdrate($E598:$E601,F598:F601,$M598:$M601,N598:N601)","v":2.0515512792562696E-4},{"$f":"bdrate($E598:$E601,G598:G601,$M598:$M601,O598:O601)","v":1.7830872822610644E-4},{"$f":"bdrate($E598:$E601,H598:H601,$M598:$M601,P598:P601)","v":3.7294318400138415E-4}]
[null,null,null,30,{"$f":"E368+E372","v":2321.3375999999998},38.282399999999996,44.872450000000001,44.020099999999999,null,null,null,null,{"$f":"M368+M372","v":2321.2664},38.281300000000002,44.870950000000001,44.018600000000006]
[null,null,null,35,{"$f":"E369+E373","v":1137.6992},35.528199999999998,43.253900000000002,42.198399999999999,null,null,null,null,{"$f":"M369+M373","v":1137.7064},35.5276,43.254199999999997,42.197649999999996]
[null,null,null,40,{"$f":"E370+E374","v":546.24159999999995},33.086950000000002,42.262749999999997,40.920549999999999,null,null,null,null,{"$f":"M370+M374","v":546.36159999999995},33.087449999999997,42.2637,40.920199999999994]
[null,null,"video (3V)",25,{"$f":"E367+E371+E375","v":5228.7456000000002},{"$f":"AVERAGE(F367,F371,F375)","v":41.108233333333331},46.537599999999998,45.881866666666667,null,null,null,null,{"$f":"M367+M371+M375","v":5229.8},{"$f":"AVERAGE(N367,N371,N375)","v":41.107133333333337},46.537433333333333,45.881133333333331,null,null,null,null,{"$f":"bdrate($E602:$E605,F602:F605,$M602:$M605,N602:N605)","v":2.1583375913136749E-4},{"$f":"bdrate($E602:$E605,G602:G605,$M602:$M605,O602:O605)","v":1.9673638995065801E-4},{"$f":"bdrate($E602:$E605,H602:H605,$M602:$M605,P602:P605)","v":4.5619685538222932E-4}]
[null,null,null,30,{"$f":"E368+E372+E376","v":2539.6895999999997},38.216333333333331,44.859900000000003,43.994566666666664,null,null,null,null,{"$f":"M368+M372+M376","v":2539.6424000000002},38.2151,44.858366666666662,43.992633333333337]
[null,null,null,35,{"$f":"E369+E373+E377","v":1241.2896000000001},35.484666666666662,43.249366666666667,42.188633333333335,null,null,null,null,{"$f":"M369+M373+M377","v":1241.2016000000001},35.483866666666664,43.249699999999997,42.187766666666668]
[null,null,null,40,{"$f":"E370+E374+E378","v":597.35279999999989},33.053466666666672,42.251933333333334,40.904366666666668,null,null,null,null,{"$f":"M370+M374+M378","v":597.27919999999995},33.053666666666665,42.252533333333332,40.904833333333329]
[null,null,"synth (2V)",25,{"$f":"E367+E371+E379+E383","v":5342.1783999999998},{"$f":"AVERAGE(F391,F395,F399)","v":40.856000000000002},47.125033333333334,46.698399999999999,null,null,null,null,{"$f":"M367+M371+M379+M383","v":5341.5480000000007},{"$f":"AVERAGE(N391,N395,N399)","v":40.854600000000005},47.132133333333336,46.697499999999991,null,null,null,null,{"$f":"bdrate($E606:$E609,F606:F609,$M606:$M609,N606:N609)","v":1.8153566859058223E-4},{"$f":"bdrate($E606:$E609,G606:G609,$M606:$M609,O606:O609)","v":-1.1058524094909039E-4},{"$f":"bdrate($E606:$E609,H606:H609,$M606:$M609,P606:P609)","v":7.9304977653937847E-4}]
[null,null,null,30,{"$f":"E368+E372+E380+E384","v":2523.8855999999996},38.027433333333335,45.433366666666664,44.747299999999996,null,null,null,null,{"$f":"M368+M372+M380+M384","v":2523.7111999999997},38.027500000000003,45.429700000000004,44.743033333333337]
[null,null,null,35,{"$f":"E369+E373+E381+E385","v":1215.6560000000002},35.334299999999999,43.674900000000001,42.764600000000002,null,null,null,null,{"$f":"M369+M373+M381+M385","v":1215.4840000000002},35.332633333333334,43.676033333333329,42.763300000000008]
[null,null,null,40,{"$f":"E370+E374+E382+E386","v":579.81759999999997},32.915733333333328,42.540733333333328,41.376100000000001,null,null,null,null,{"$f":"M370+M374+M382+M386","v":580.04879999999991},32.915199999999999,42.54206666666667,41.377333333333333]
[null,null,"synth (3V)",25,{"$f":"E415","v":6064.6472000000003},{"$f":"AVERAGE(F391,F395,F399,F403,F407,F411)","v":40.862516666666671},47.07621666666666,46.766866666666665,null,null,null,null,{"$f":"M415","v":6064.3775999999998},{"$f":"AVERAGE(N391,N395,N399,N403,N407,N411)","v":40.861683333333339},47.078683333333338,46.767016666666656,null,null,null,null,{"$f":"bdrate($E610:$E613,F610:F613,$M610:$M613,N610:N613)","v":-3.0061614768595035E-6},{"$f":"bdrate($E610:$E613,G610:G613,$M610:$M613,O610:O613)","v":1.9507365467874571E-4},{"$f":"bdrate($E610:$E613,H610:H613,$M610:$M613,P610:P613)","v":8.7398691812068385E-4}]
[null,null,null,30,{"$f":"E416","v":2803.2271999999998},38.032450000000004,45.410499999999992,44.795899999999996,null,null,null,null,{"$f":"M416","v":2803.0495999999998},38.032883333333338,45.410249999999998,44.79228333333333]
[null,null,null,35,{"$f":"E417","v":1347.0663999999999},35.338483333333336,43.691049999999997,42.805833333333339,null,null,null,null,{"$f":"M417","v":1346.9936},35.338050000000003,43.688499999999998,42.804116666666665]
[null,null,null,40,{"$f":"E418","v":647.10559999999998},32.91395,42.564316666666663,41.386633333333336,null,null,null,null,{"$f":"M418","v":647.08799999999997},32.9133,42.565500000000007,41.384666666666668]
[null,null,"all (2V)",25,{"$f":"E606","v":5342.1783999999998},{"$f":"AVERAGE(F367,F371,F391,F395,F399)","v":40.993859999999998},46.897360000000006,46.387420000000006,null,null,null,null,{"$f":"M606","v":5341.5480000000007},{"$f":"AVERAGE(N367,N371,N391,N395,N399)","v":40.992760000000004},46.901719999999997,46.387180000000001,null,null,null,null,{"$f":"bdrate($E614:$E617,F614:F617,$M614:$M617,N614:N617)","v":1.6044257837632969E-4},{"$f":"bdrate($E614:$E617,G614:G617,$M614:$M617,O614:O617)","v":-2.6217226697711205E-5},{"$f":"bdrate($E614:$E617,H614:H617,$M614:$M617,P614:P617)","v":6.0208124562155518E-4}]
[null,null,null,30,2523.8855999999996,38.129419999999996,45.209000000000003,44.456420000000001,null,null,null,null,2523.7111999999997,38.129019999999997,45.206200000000003,44.45326]
[null,null,null,35,1215.6560000000002,35.411859999999997,43.506500000000003,42.538119999999999,null,null,null,null,1215.4840000000002,35.410620000000002,43.507300000000001,42.537040000000005]
[null,null,null,40,579.81759999999997,32.984220000000001,42.429539999999996,41.19388,null,null,null,null,580.04879999999991,32.984099999999998,42.430720000000001,41.194479999999999]
[null,null,"all (3V)",25,6064.6472000000003,{"$f":"AVERAGE(F367,F371,F375,F391,F395,F399,F403,F407,F411)","v":40.944422222222215},46.896677777777782,46.471866666666671,null,null,null,null,6064.3775999999998,{"$f":"AVERAGE(N367,N371,N375,N391,N395,N399,N403,N407,N411)","v":40.943500000000007},46.898266666666672,46.471722222222219,null,null,null,null,{"$f":"bdrate($E618:$E621,F618:F621,$M618:$M621,N618:N621)","v":6.2094788929378808E-5},{"$f":"bdrate($E618:$E621,G618:G621,$M618:$M621,O618:O621)","v":1.8451198903535193E-4},{"$f":"bdrate($E618:$E621,H618:H621,$M618:$M621,P618:P621)","v":7.3581677681500146E-4}]
[null,null,null,30,2803.2271999999998,38.093744444444447,45.226966666666662,44.52878888888889,null,null,null,null,2803.0495999999998,38.093622222222223,45.226288888888888,44.525733333333335]
[null,null,null,35,1347.0663999999999,35.387211111111114,43.543822222222225,42.600099999999998,null,null,null,null,1346.9936,35.386655555555564,43.542233333333328,42.598666666666666]
[null,null,null,40,647.10559999999998,32.960455555555562,42.460188888888894,41.225877777777768,null,null,null,null,647.08799999999997,32.960088888888883,42.46117777777777,41.224722222222219]